Workbook

Sheet 공원관리2부 공원총괄
A1: ▣ 권역별 공원현황
A2: 구분 | E2: 공원현황 | AE2: 시설현황
A3: 구분 | B3: 권역 | C3: 합계 | E3: 근린공원 | G3: 어린이공원 | I3: 소공원 | K3: 체육공원 | M3: 문화공원 | O3: 수변생태 | Q3: 역사공원 | S3: 묘지공원 | U3: 쌈지공원 | W3: 저류지 | Y3: 경관광장 | AA3: 공공공지 | AC3: 주제공원 | AE3: 수경시설 | AF3: 물놀이장 | AG3: 정자 | AH3: 파고라 | AI3: 기타파고라 | AJ3: 등의자 | AK3: 평의자 | AL3: 조합놀이대 | AM3: 그네 | AN3: 시소 | AO3: 운동기구 (생체) | AP3: 음수전 (세족장포함) | AQ3: 화장실 | AR3: 신발털이대 | AS3: 관리실 (휴게실 포함) | AT3: 주차장 | AU3: 보안등 (1등용) | AV3: 보안등 (2등용) | AW3: 볼라드 등 | AX3: 기타 조명
C4: 개소 | D4: 면적 (㎡) | E4: 개소 | F4: 면적 (㎡) | G4: 개소 | H4: 면적 (㎡) | I4: 개소 | J4: 면적 (㎡) | K4: 개소 | L4: 면적 (㎡) | M4: 개소 | N4: 면적 (㎡) | O4: 개소 | P4: 면적 (㎡) | Q4: 개소 | R4: 면적 (㎡) | S4: 개소 | T4: 면적 (㎡) | U4: 개소 | V4: 면적 (㎡) | W4: 개소 | X4: 면적 (㎡) | Y4: 개소 | Z4: 면적 (㎡) | AA4: 개소 | AB4: 면적 (㎡) | AC4: 개소 | AD4: 면적 (㎡) | AE4: 개소 | AF4: 개소 | AG4: 개소 | AH4: 개소 | AI4: 개소 | AJ4: 개소 | AK4: 개소 | AL4: 개소 | AM4: 개소 | AN4: 개소 | AO4: 개소 | AP4: 개소 | AQ4: 개소 | AR4: 개소 | AS4: 개소 | AT4: 개소 | AU4: 개소 | AV4: 개소 | AW4: 개소 | AX4: 개소
A5: 합계 | C5: =SUM(C6,C13) -> #REF! | D5: =SUM(D6,D13) -> #REF! | E5: =SUM(E6,E13) -> #REF! | F5: =SUM(F6,F13) -> #REF! | G5: =SUM(G6,G13) -> #REF! | H5: =SUM(H6,H13) -> #REF! | I5: =SUM(I6,I13) -> #REF! | J5: =SUM(J6,J13) -> #REF! | ... AS5: =SUM(AS6,AS13) -> #REF! | AU5: =SUM(AU6,AU13) -> #REF! | AV5: =SUM(AV6,AV13) -> #REF! | AW5: =SUM(AW6,AW13) -> #REF! | AX5: =SUM(AX6,AX13) -> #REF!
A6: 소계 | C6: =SUM(C7:C12) -> #REF! | D6: =SUM(D7:D12) -> #REF! | E6: =SUM(E7:E12) -> #REF! | F6: =SUM(F7:F12) -> #REF! | G6: =SUM(G7:G12) -> #REF! | H6: =SUM(H7:H12) -> #REF! | I6: =SUM(I7:I12) -> #REF! | J6: =SUM(J7:J12) -> #REF! | ... AS6: =SUM(AS7:AS12) -> #REF! | AU6: =SUM(AU7:AU12) -> #REF! | AV6: =SUM(AV7:AV12) -> #REF! | AW6: =SUM(AW7:AW12) -> #REF! | AX6: =SUM(AX7:AX12) -> #REF!
A7: 센트럴 | C7: =SUM(E7,G7,I7,K7,M7,O7,Q7,S7,U7,W7,Y7,AA7) -> 1 | D7: =SUM(F7,H7,J7,L7,N7,P7,R7,T7,V7,X7,Z7,AB7) -> #REF! | E7: 1 | F7: =#REF! -> #REF! | G7: 0 | H7: 0 | I7: 0 | J7: 0 | K7: 0 | L7: 0 | M7: 0 | N7: 0 | O7: 0 | P7: 0 | Q7: 0 | R7: 0 | S7: 0 | T7: 0 | U7: 0 | V7: 0 | W7: 0 | X7: 0 | Y7: 0 | Z7: 0 | AA7: 0 | AB7: 0 | AC7: 0 | AD7: 0 | AE7: =#REF! -> #REF! | AF7: =#REF! -> #REF! | AG7: =#REF! -> #REF! | AH7: =#REF! -> #REF! | AI7: =#REF! -> #REF! | AJ7: =#REF! -> #REF! | AK7: =#REF! -> #REF! | AL7: =#REF! -> #REF! | ... AS7: =#REF! -> #REF! | AU7: =#REF! -> #REF! | AV7: =#REF! -> #REF! | AW7: =#REF! -> #REF! | AX7: =#REF! -> #REF!
A8: 동탄1 | C8: =SUM(E8,G8,I8,K8,M8,O8,Q8,S8,U8,W8,Y8,AA8) -> #REF! | D8: =SUM(F8,H8,J8,L8,N8,P8,R8,T8,V8,X8,Z8,AB8) -> #REF! | E8: =#REF! -> #REF! | F8: =#REF! -> #REF! | G8: =#REF! -> #REF! | H8: =#REF! -> #REF! | I8: 0 | J8: 0 | K8: 0 | L8: 0 | M8: 0 | N8: 0 | O8: =#REF! -> #REF! | P8: =#REF! -> #REF! | Q8: 0 | R8: 0 | S8: 0 | T8: 0 | U8: 2 | V8: =#REF! -> #REF! | W8: =#REF! -> #REF! | X8: =#REF! -> #REF! | Y8: =#REF! -> #REF! | Z8: =#REF! -> #REF! | AA8: =#REF! -> #REF! | AB8: =#REF! -> #REF! | AC8: =#REF! -> #REF! | ... AS8: =#REF! -> #REF! | AU8: =#REF! -> #REF! | AV8: =#REF! -> #REF! | AW8: =#REF! -> #REF! | AX8: =#REF! -> #REF!
A9: 동탄2 | C9: =SUM(E9,G9,I9,K9,M9,O9,Q9,S9,U9,W9,Y9,AA9) -> #REF! | D9: =SUM(F9,H9,J9,L9,N9,P9,R9,T9,V9,X9,Z9,AB9) -> #REF! | E9: =#REF! -> #REF! | F9: =#REF! -> #REF! | G9: =#REF! -> #REF! | H9: =#REF! -> #REF! | I9: 0 | J9: 0 | K9: 0 | L9: 0 | M9: 0 | N9: 0 | O9: 0 | P9: 0 | Q9: 0 | R9: 0 | S9: 0 | T9: 0 | U9: 0 | V9: 0 | W9: =#REF! -> #REF! | X9: =#REF! -> #REF! | Y9: =#REF! -> #REF! | Z9: =#REF! -> #REF! | AA9: =#REF! -> #REF! | AB9: =#REF! -> #REF! | AC9: =#REF! -> #REF! | AD9: =#REF! -> #REF! | ... AS9: =#REF! -> #REF! | AU9: =#REF! -> #REF! | AV9: =#REF! -> #REF! | AW9: =#REF! -> #REF! | AX9: =#REF! -> #REF!
A10: 동탄3 | C10: =SUM(E10,G10,I10,K10,M10,O10,Q10,S10,U10,W10,Y10,AA10) -> #REF! | D10: =SUM(F10,H10,J10,L10,N10,P10,R10,T10,V10,X10,Z10,AB10) -> #REF! | E10: =#REF! -> #REF! | F10: =#REF! -> #REF! | G10: =#REF! -> #REF! | H10: =#REF! -> #REF! | I10: =#REF! -> #REF! | J10: =#REF! -> #REF! | K10: =#REF! -> #REF! | L10: =#REF! -> #REF! | M10: 0 | N10: 0 | O10: 0 | P10: 0 | Q10: 0 | R10: 0 | S10: 0 | T10: 0 | U10: =#REF! -> #REF! | V10: =#REF! -> #REF! | W10: 0 | X10: 0 | Y10: =#REF! -> #REF! | Z10: =#REF! -> #REF! | AA10: =#REF! -> #REF! | AB10: =#REF! -> #REF! | AC10: =#REF! -> #REF! | AD10: =#REF! -> #REF! | AE10: =#REF! -> #REF! | AF10: =#REF! -> #REF! | ... AS10: =#REF! -> #REF! | AU10: =#REF! -> #REF! | AV10: =#REF! -> #REF! | AW10: =#REF! -> #REF! | AX10: =#REF! -> #REF!
A11: 동탄4 | C11: =SUM(E11,G11,I11,K11,M11,O11,Q11,S11,U11,W11,Y11,AA11) -> #REF! | D11: =SUM(F11,H11,J11,L11,N11,P11,R11,T11,V11,X11,Z11,AB11) -> #REF! | E11: =#REF! -> #REF! | F11: =#REF! -> #REF! | G11: =#REF! -> #REF! | H11: =#REF! -> #REF! | I11: =#REF! -> #REF! | J11: =#REF! -> #REF! | K11: =#REF! -> #REF! | L11: =#REF! -> #REF! | M11: 0 | N11: 0 | O11: 0 | P11: 0 | Q11: 0 | R11: 0 | S11: 0 | T11: 0 | U11: =#REF! -> #REF! | V11: =#REF! -> #REF! | W11: =#REF! -> #REF! | X11: =#REF! -> #REF! | Y11: =#REF! -> #REF! | Z11: =#REF! -> #REF! | AA11: =#REF! -> #REF! | AB11: =#REF! -> #REF! | ... AS11: =#REF! -> #REF! | AU11: =#REF! -> #REF! | AV11: =#REF! -> #REF! | AW11: =#REF! -> #REF! | AX11: =#REF! -> #REF!
A12: 태안 (동부) | C12: =SUM(E12,G12,I12,K12,M12,O12,Q12,S12,U12,W12,Y12,AA12) -> #REF! | D12: =SUM(F12,H12,J12,L12,N12,P12,R12,T12,V12,X12,Z12,AB12) -> #REF! | E12: =#REF! -> #REF! | F12: =#REF! -> #REF! | G12: =#REF! -> #REF! | H12: =#REF! -> #REF! | I12: =#REF! -> #REF! | J12: =#REF! -> #REF! | K12: 0 | L12: 0 | M12: 0 | N12: 0 | O12: =#REF! -> #REF! | P12: =#REF! -> #REF! | Q12: 0 | R12: 0 | S12: 0 | T12: 0 | U12: =#REF! -> #REF! | V12: =#REF! -> #REF! | W12: 0 | X12: 0 | Y12: 0 | Z12: 0 | AA12: =#REF! -> #REF! | AB12: =#REF! -> #REF! | AC12: =#REF! -> #REF! | AD12: =#REF! -> #REF! | AE12: =#REF! -> #REF! | AF12: =#REF! -> #REF! | AG12: =#REF! -> #REF! | AH12: =#REF! -> #REF! | ... AS12: =#REF! -> #REF! | AU12: =#REF! -> #REF! | AV12: =#REF! -> #REF! | AW12: =#REF! -> #REF! | AX12: =#REF! -> #REF!
A13: 합계 | C13: =SUM(C14,C19,C24,C28) -> 294 | D13: =SUM(D14,D19,D24,D28) -> 3454812.7 | E13: =SUM(E14,E19,E24,E28) -> 47 | F13: =SUM(F14,F19,F24,F28) -> 1637757 | G13: =SUM(G14,G19,G24,G28) -> 86 | H13: =SUM(H14,H19,H24,H28) -> 212935.7 | I13: =SUM(I14,I19,I24,I28) -> 24 | J13: =SUM(J14,J19,J24,J28) -> 53041.9 | ... AX13: =SUM(AX14,AX19,AX24,AX28) -> 593
A14: 중부권 합계 | C14: =SUM(C15:C18) -> 96 | D14: =SUM(D15:D18) -> 736859.1 | E14: =SUM(E15:E18) -> 7 | F14: =SUM(F15:F18) -> 281764.5 | G14: =SUM(G15:G18) -> 32 | H14: =SUM(H15:H18) -> 74899 | I14: =SUM(I15:I18) -> 7 | J14: =SUM(J15:J18) -> 15049.3 | ... AX14: =SUM(AX15:AX18) -> 138
A15: 중부 | B15: 봉담1 | C15: =중부!B42 -> 30 | D15: =SUM(F15,H15,J15,L15,N15,P15,R15,T15,V15,X15,Z15,AB15,AD15) -> 247846.7 | E15: =중부!B5 -> 2 | F15: =중부!H5 -> 181260.2 | G15: =중부!B8 -> 15 | H15: =중부!H8 -> 39342 | I15: =중부!B24 -> 2 | J15: =중부!H24 -> 9100 | K15: 0 | L15: 0 | M15: =중부!B27 -> 1 | N15: =중부!H27 -> 4589.5 | O15: 0 | P15: 0 | Q15: 0 | R15: 0 | S15: 0 | T15: 0 | U15: =중부!B29 -> 3 | V15: =중부!H29 -> 395 | W15: 0 | X15: 0 | Y15: =중부!B33 -> 1 | Z15: =중부!H33 -> 75 | AA15: =중부!B35 -> 6 | AB15: =중부!H35 -> 13085 | AC15: 0 | AD15: 0 | AE15: =중부!J42 -> 6 | AF15: =중부!K42 -> 2 | AG15: =중부!L42 -> 8 | AH15: =중부!M42 -> 33 | AI15: =중부!N42 -> 3 | AJ15: =중부!O42 -> 164 | AK15: =중부!P42 -> 132 | AL15: =중부!Q42 -> 19 | ... AX15: =중부!AC42 -> 71
B16: 봉담2 | C16: =중부!B67 -> 18 | D16: =SUM(F16,H16,J16,L16,N16,P16,R16,T16,V16,X16,Z16,AB16,AD16) -> 196893.6 | E16: =중부!B43 -> 3 | F16: =중부!H43 -> 75937.8 | G16: =중부!B47 -> 5 | H16: =중부!H47 -> 8132 | I16: =중부!B53 -> 4 | J16: =중부!H53 -> 5099 | K16: =중부!B58 -> 1 | L16: =중부!H58 -> 85608 | M16: =중부!B60 -> 1 | N16: =중부!H60 -> 17409.4 | O16: 0 | P16: 0 | Q16: 0 | R16: 0 | S16: 0 | T16: 0 | U16: 0 | V16: 0 | W16: 0 | X16: 0 | Y16: 0 | Z16: 0 | AA16: =중부!B62 -> 4 | AB16: =중부!H62 -> 4707.4 | AC16: 0 | AD16: 0 | AE16: =중부!J67 -> 1 | AF16: =중부!K67 -> 1 | AG16: =중부!L67 -> 2 | AH16: =중부!M67 -> 43 | AI16: =중부!N67 -> 13 | AJ16: =중부!O67 -> 128 | AK16: =중부!P67 -> 72 | AL16: =중부!Q67 -> 6 | ... AX16: =중부!AC67 -> 47
B17: 동부2 | C17: =중부!B110 -> 34 | D17: =SUM(F17,H17,J17,L17,N17,P17,R17,T17,V17,X17,Z17,AB17,AD17) -> 219669.9 | E17: =중부!B68 -> 1 | F17: =중부!H68 -> 17391 | G17: =중부!B70 -> 12 | H17: =중부!H70 -> 27425 | I17: =중부!B83 -> 1 | J17: =중부!H83 -> 850.3 | K17: 0 | L17: 0 | M17: 0 | N17: 0 | O17: =중부!B85 -> 3 | P17: =중부!H85 -> 20507.1 | Q17: =중부!B89 -> 2 | R17: =중부!H89 -> 138705.7 | S17: 0 | T17: 0 | U17: =중부!B92 -> 10 | V17: =중부!H92 -> 9595 | W17: 0 | X17: 0 | Y17: =중부!B108 -> 1 | Z17: =중부!H108 -> 2230 | AA17: =중부!B103 -> 4 | AB17: =중부!H103 -> 2965.8 | AC17: 0 | AD17: 0 | AE17: =중부!J110 -> 2 | AF17: =중부!K110 -> 0 | AG17: =중부!L110 -> 18 | AH17: =중부!M110 -> 46 | AI17: =중부!N110 -> 1 | AJ17: =중부!O110 -> 160 | AK17: =중부!P110 -> 303 | AL17: =중부!Q110 -> 14 | ... AX17: =중부!AC110 -> 20
B18: 정남 | C18: =SUM(중부!B117,중부!B131) -> 14 | D18: =SUM(F18,H18,J18,L18,N18,P18,R18,T18,V18,X18,Z18,AB18,AD18) -> 72448.9 | E18: =중부!B118 -> 1 | F18: =중부!H118 -> 7175.5 | G18: 0 | H18: 0 | I18: 0 | J18: 0 | K18: 0 | L18: 0 | M18: =중부!B120 -> 5 | N18: =중부!H120 -> 9069.4 | O18: =중부!B111 -> 1 | P18: =중부!H111 -> 54000 | Q18: 0 | R18: 0 | S18: 0 | T18: 0 | U18: =중부!B113 -> 3 | V18: =중부!H113 -> 1684 | W18: 0 | X18: 0 | Y18: 0 | Z18: 0 | AA18: =중부!B126 -> 4 | AB18: =중부!H126 -> 520 | AC18: 0 | AD18: 0 | AE18: =중부!J117+중부!J131 -> 2 | AF18: =중부!K117+중부!K131 -> 0 | AG18: =중부!L117+중부!L131 -> 2 | AH18: =중부!M117+중부!M131 -> 7 | AI18: =중부!N117+중부!N131 -> 0 | AJ18: =중부!O117+중부!O131 -> 92 | AK18: =중부!P117+중부!P131 -> 31 | AL18: =중부!Q117+중부!Q131 -> 1 | ... AX18: =중부!AC117+중부!AC131 -> 0
A19: 비봉권 합계 | C19: =SUM(C20:C23) -> 77 | D19: =SUM(D20:D23) -> 910115.78 | E19: =SUM(E20:E23) -> 16 | F19: =SUM(F20:F23) -> 531327.5 | G19: =SUM(G20:G23) -> 21 | H19: =SUM(H20:H23) -> 47460.7 | I19: =SUM(I20:I23) -> 4 | J19: =SUM(J20:J23) -> 2624.6 | K19: =비봉!B15 -> 2 | L19: =비봉!H15 -> 213991.3 | M19: =SUM(M20:M23) -> 0 | N19: =SUM(N20:N23) -> 0 | O19: =SUM(O20:O23) -> 0 | P19: =SUM(P20:P23) -> 0 | Q19: =SUM(Q20:Q23) -> 0 | R19: =SUM(R20:R23) -> 0 | S19: =SUM(S20:S23) -> 0 | T19: =SUM(T20:T23) -> 0 | ... AX19: =SUM(AX20:AX23) -> 96
A20: 비봉 | B20: 새솔동 | C20: =비봉!B36 -> 26 | D20: =SUM(F20,H20,J20,L20,N20,P20,R20,T20,V20,X20,Z20,AB20,AD20) -> 334975 | E20: =비봉!B5 -> 2 | F20: =비봉!H5 -> 95929.1 | G20: =비봉!B8 -> 6 | H20: =비봉!H8 -> 18643.9 | I20: 0 | J20: 0 | K20: =비봉!B15 -> 2 | L20: =비봉!H15 -> 213991.3 | M20: 0 | N20: 0 | O20: 0 | P20: 0 | Q20: 0 | R20: 0 | S20: 0 | T20: 0 | U20: 0 | V20: 0 | W20: 0 | X20: 0 | Y20: =비봉!B18 -> 6 | Z20: =비봉!H18 -> 1848.8 | AA20: =비봉!B25 -> 10 | AB20: =비봉!H25 -> 4561.9 | AC20: =비봉!AG5 -> 0 | AD20: =비봉!AH5 -> 0 | AE20: =비봉!J36 -> 5 | AF20: =비봉!K36 -> 2 | AG20: =비봉!L36 -> 3 | AH20: =비봉!M36 -> 58 | AI20: =비봉!N36 -> 4 | AJ20: =비봉!O36 -> 112 | AK20: =비봉!P36 -> 146 | AL20: =비봉!Q36 -> 9 | ... AX20: =비봉!AC36 -> 96
B21: 비봉 | C21: =비봉!B44 -> 5 | D21: =비봉!H44 -> 5711 | E21: 0 | F21: 0 | G21: 0 | H21: 0 | I21: =비봉!B37 -> 1 | J21: =비봉!H37 -> 301 | K21: 0 | L21: 0 | M21: 0 | N21: 0 | O21: 0 | P21: 0 | Q21: 0 | R21: 0 | S21: 0 | T21: 0 | U21: =비봉!B39 -> 4 | V21: =비봉!H39 -> 5410 | W21: 0 | X21: 0 | Y21: 0 | Z21: 0 | AA21: 0 | AB21: 0 | AC21: 0 | AD21: 0 | AE21: =비봉!J44 -> 0 | AF21: =비봉!K44 -> 0 | AG21: =비봉!L44 -> 1 | AH21: =비봉!M44 -> 2 | AI21: =비봉!N44 -> 0 | AJ21: =비봉!O44 -> 4 | AK21: =비봉!P44 -> 6 | AL21: =비봉!Q44 -> 0 | ... AX21: =비봉!AC44 -> 0
B22: 매송 | C22: =비봉!B53 -> 6 | D22: =SUM(F22,H22,J22,L22,N22,P22,R22,T22,V22,X22,Z22,AB22,AD22) -> 23446 | E22: =비봉!B7 -> 2 | F22: 0 | G22: 0 | H22: 0 | I22: 0 | J22: 0 | K22: =비봉!B45 -> 1 | L22: =비봉!H45 -> 16250 | M22: 0 | N22: 0 | O22: 0 | P22: 0 | Q22: 0 | R22: 0 | S22: 0 | T22: 0 | U22: =비봉!B47 -> 5 | V22: =비봉!H47 -> 7196 | W22: 0 | X22: 0 | Y22: 0 | Z22: 0 | AA22: 0 | AB22: 0 | AC22: 0 | AD22: 0 | AE22: =비봉!J53 -> 0 | AF22: =비봉!K53 -> 1 | AG22: =비봉!L53 -> 2 | AH22: =비봉!M53 -> 7 | AI22: =비봉!N53 -> 0 | AJ22: =비봉!O53 -> 17 | AK22: =비봉!P53 -> 9 | AL22: =비봉!Q53 -> 1 | ... AX22: =비봉!AC53 -> 0
B23: 남양 | C23: =비봉!B87+비봉!B105 -> 40 | D23: =SUM(F23,H23,J23,L23,N23,P23,R23,T23,V23,X23,Z23,AB23,AD23) -> 545983.78 | E23: =비봉!B54+비봉!B88 -> 12 | F23: =비봉!H88+비봉!H54 -> 435398.4 | G23: =비봉!B93+비봉!B65 -> 15 | H23: =비봉!H65+비봉!H93 -> 28816.8 | I23: =비봉!B99+비봉!B76 -> 3 | J23: =비봉!H76+비봉!H99 -> 2323.6 | K23: =비봉!B63 -> 1 | L23: =비봉!H63 -> 64136.1 | M23: 0 | N23: 0 | O23: 0 | P23: 0 | Q23: 0 | R23: 0 | S23: 0 | T23: 0 | U23: =비봉!B101 -> 3 | V23: =비봉!H101 -> 5334.68 | W23: 0 | X23: 0 | Y23: =비봉!B82 -> 4 | Z23: =비봉!H82 -> 6920.2 | AA23: =비봉!B79 -> 2 | AB23: =비봉!H79 -> 3054 | AC23: 0 | AD23: 0 | AE23: =비봉!J87+비봉!J105 -> 6 | AF23: =비봉!K87+비봉!K105 -> 1 | AG23: =비봉!L87+비봉!L105 -> 11 | AH23: =비봉!M87+비봉!M105 -> 76 | AI23: =비봉!N87+비봉!N105 -> 2 | AJ23: =비봉!O87+비봉!O105 -> 237 | AK23: =비봉!P87+비봉!P105 -> 294 | AL23: =비봉!Q87+비봉!Q105 -> 16 | ... AX23: =비봉!AC87+비봉!AC105 -> 0
A24: 서부권 합계 | C24: =SUM(C25:C27) -> 33 | D24: =SUM(D25:D27) -> 407386.2 | E24: =SUM(E25:E27) -> 6 | F24: =SUM(F25:F27) -> 122548.6 | G24: =SUM(G25:G27) -> 3 | H24: =SUM(H25:H27) -> 3243.5 | I24: =SUM(I25:I27) -> 4 | J24: =SUM(J25:J27) -> 11036.5 | ... AX24: =SUM(AX25:AX27) -> 0
A25: 서부 | B25: 송산 | C25: =서부!B22 -> 12 | D25: =SUM(F25,H25,J25,L25,N25,P25,R25,T25,V25,X25,Z25,AB25,AD25) -> 44326.2 | E25: =서부!B5 -> 1 | F25: =서부!H5 -> 9574 | G25: 0 | H25: 0 | I25: =서부!B19 -> 2 | J25: =서부!H19 -> 2366.6 | K25: 0 | L25: 0 | M25: =서부!B11 -> 7 | N25: =서부!H11 -> 6208.6 | O25: =서부!B7 -> 1 | P25: =서부!H7 -> 24897 | Q25: 0 | R25: 0 | S25: 0 | T25: 0 | U25: =서부!B9 -> 1 | V25: =서부!H9 -> 1280 | W25: 0 | X25: 0 | Y25: 0 | Z25: 0 | AA25: 0 | AB25: 0 | AC25: 0 | AD25: 0 | AE25: =서부!J22 -> 1 | AF25: =서부!K22 -> 0 | AG25: =서부!L22 -> 1 | AH25: =서부!M22 -> 22 | AI25: =서부!N22 -> 0 | AJ25: =서부!O22 -> 25 | AK25: =서부!P22 -> 0 | AL25: =서부!Q22 -> 1 | ... AX25: =서부!AC22 -> 0
B26: 서신 | C26: =서부!B46 -> 16 | D26: =SUM(F26,H26,J26,L26,N26,P26,R26,T26,V26,X26,Z26,AB26,AD26) -> 98720.2 | E26: =서부!B23 -> 3 | F26: =서부!H23 -> 60671.1 | G26: =서부!B27 -> 3 | H26: =서부!H27 -> 3243.5 | I26: =서부!B31 -> 2 | J26: =서부!H31 -> 8669.9 | K26: =서부!B34 -> 1 | L26: =서부!H34 -> 11790 | M26: 0 | N26: 0 | O26: 0 | P26: 0 | Q26: 0 | R26: 0 | S26: 0 | T26: 0 | U26: =서부!B36 -> 3 | V26: =서부!H36 -> 8144 | W26: 0 | X26: 0 | Y26: =서부!B40 -> 2 | Z26: =서부!H40 -> 5605 | AA26: =서부!B43 -> 2 | AB26: =서부!H43 -> 596.7 | AC26: 0 | AD26: 0 | AE26: =서부!J46 -> 0 | AF26: =서부!K46 -> 0 | AG26: =서부!L46 -> 0 | AH26: =서부!M46 -> 28 | AI26: =서부!N46 -> 3 | AJ26: =서부!O46 -> 54 | AK26: =서부!P46 -> 96 | AL26: =서부!Q46 -> 1 | ... AX26: =서부!AC46 -> 0
B27: 마도 | C27: =서부!B56 -> 5 | D27: =SUM(F27,H27,J27,L27,N27,P27,R27,T27,V27,X27,Z27,AB27,AD27) -> 264339.8 | E27: =서부!B47 -> 2 | F27: =서부!H47 -> 52303.5 | G27: 0 | H27: 0 | I27: 0 | J27: 0 | K27: =서부!B50 -> 1 | L27: =서부!H50 -> 24594.9 | M27: 0 | N27: 0 | O27: =서부!B52 -> 1 | P27: =서부!H52 -> 186632.4 | Q27: 0 | R27: 0 | S27: 0 | T27: 0 | U27: =서부!B54 -> 1 | V27: =서부!H54 -> 809 | W27: 0 | X27: 0 | Y27: 0 | Z27: 0 | AA27: 0 | AB27: 0 | AC27: 0 | AD27: 0 | AE27: =서부!J56 -> 0 | AF27: =서부!K56 -> 0 | AG27: =서부!L56 -> 8 | AH27: =서부!M56 -> 20 | AI27: =서부!N56 -> 0 | AJ27: =서부!O56 -> 41 | AK27: =서부!P56 -> 73 | AL27: =서부!Q56 -> 0 | ... AX27: =서부!AC56 -> 0
A28: 남부권 합계 | C28: =SUM(C29:C34) -> 88 | D28: =SUM(D29:D34) -> 1400451.6 | E28: =SUM(E29:E34) -> 18 | F28: =SUM(F29:F34) -> 702116.4 | G28: =SUM(G29:G34) -> 30 | H28: =SUM(H29:H34) -> 87332.5 | I28: =SUM(I29:I34) -> 9 | J28: =SUM(J29:J34) -> 24331.5 | ... N28: =SUM(N29:N34) -> 335536 | O28: =SUM(O29:O32) -> 0 | P28: =SUM(P29:P32) -> 0 | Q28: =SUM(Q29:Q32) -> 0 | R28: =SUM(R29:R32) -> 0 | S28: =SUM(S29:S32) -> 0 | T28: =SUM(T29:T32) -> 0 | U28: =SUM(U29:U34) -> 10 | V28: =SUM(V29:V34) -> 6219.6 | W28: =SUM(W29:W32) -> 0 | X28: =SUM(X29:X32) -> 0 | Y28: =SUM(Y29:Y32) -> 2 | Z28: =SUM(Z29:Z32) -> 23305.4 | AA28: =SUM(AA29:AA34) -> 13 | AB28: =SUM(AB29:AB34) -> 7970.7 | AC28: =SUM(AC29:AC32) -> 2 | AD28: =SUM(AD29:AD32) -> 63008.6 | AE28: =SUM(AE29:AE34) -> 13 | AF28: =SUM(AF29:AF34) -> 3 | AG28: =SUM(AG29:AG34) -> 50 | AH28: =SUM(AH29:AH34) -> 178 | AI28: =SUM(AI29:AI32) -> 0 | AJ28: =SUM(AJ29:AJ34) -> 411 | AK28: =SUM(AK29:AK34) -> 633 | AL28: =SUM(AL29:AL34) -> 30 | AM28: =SUM(AM29:AM34) -> 16 | AN28: =SUM(AN29:AN34) -> 20 | AO28: =SUM(AO29:AO34) -> 373 | AP28: =SUM(AP29:AP34) -> 19 | AQ28: =SUM(AQ29:AQ34) -> 13 | ... AX28: =SUM(AX29:AX34) -> 359
A29: 남부 | B29: 향남1 | C29: =남부!B38 -> 27 | D29: =SUM(F29,H29,J29,L29,N29,P29,R29,T29,V29,X29,Z29,AB29,AD29) -> 313654.8 | E29: =남부!B5 -> 7 | F29: =남부!H5 -> 187059.9 | G29: =남부!B13 -> 13 | H29: =남부!H13 -> 49884.1 | I29: =남부!B27 -> 2 | J29: =남부!H27 -> 1847.5 | K29: =남부!B30 -> 1 | L29: =남부!H30 -> 70439.3 | M29: 0 | N29: 0 | O29: 0 | P29: 0 | Q29: 0 | R29: 0 | S29: 0 | T29: 0 | U29: =남부!B32 -> 3 | V29: =남부!H32 -> 3772 | W29: 0 | X29: 0 | Y29: 0 | Z29: 0 | AA29: =남부!B36 -> 1 | AB29: =남부!H36 -> 652 | AC29: 0 | AD29: 0 | AE29: =남부!J38 -> 5 | AF29: =남부!K38 -> 2 | AG29: =남부!L38 -> 11 | AH29: =남부!M38 -> 83 | AI29: =남부!N38 -> 0 | AJ29: =남부!O38 -> 163 | AK29: =남부!P38 -> 280 | AL29: =남부!Q38 -> 12 | ... AX29: =남부!AC38 -> 4
B30: 향남2 | C30: =남부!B82 -> 35 | D30: =SUM(F30,H30,J30,L30,N30,P30,R30,T30,V30,X30,Z30,AB30,AD30) -> 586080.2 | E30: =남부!B39 -> 6 | F30: =남부!H39 -> 431117.5 | G30: =남부!B49 -> 12 | H30: =남부!H49 -> 19209.4 | I30: =남부!B62 -> 1 | J30: =남부!H62 -> 631 | K30: =남부!B64 -> 1 | L30: =남부!H64 -> 42441.6 | M30: 0 | N30: 0 | O30: 0 | P30: 0 | Q30: 0 | R30: 0 | S30: 0 | T30: 0 | U30: =남부!B69 -> 2 | V30: =남부!H69 -> 372 | W30: 0 | X30: 0 | Y30: =남부!B66 -> 2 | Z30: =남부!H66 -> 23305.4 | AA30: =남부!B72 -> 9 | AB30: =남부!H72 -> 5994.7 | AC30: =남부!B46 -> 2 | AD30: =남부!H46 -> 63008.6 | AE30: =남부!J82 -> 4 | AF30: =남부!K82 -> 0 | AG30: =남부!L82 -> 7 | AH30: =남부!M82 -> 46 | AI30: =남부!N82 -> 0 | AJ30: =남부!O82 -> 162 | AK30: =남부!P82 -> 188 | AL30: =남부!Q82 -> 10 | ... AX30: =남부!AC82 -> 71
B31: 양감 | C31: =남부!B89 -> 4 | D31: =SUM(F31,H31,J31,L31,N31,P31,R31,T31,V31,X31,Z31,AB31) -> 10773 | E31: 0 | F31: 0 | G31: 0 | H31: 0 | I31: =남부!B83 -> 2 | J31: =남부!H83 -> 10023 | K31: 0 | L31: 0 | M31: 0 | N31: 0 | O31: 0 | P31: 0 | Q31: 0 | R31: 0 | S31: 0 | T31: 0 | U31: =남부!B86 -> 2 | V31: =남부!H86 -> 750 | W31: 0 | X31: 0 | Y31: 0 | Z31: 0 | AA31: 0 | AB31: 0 | AC31: 0 | AD31: 0 | AE31: =남부!J89 -> 0 | AF31: =남부!K89 -> 0 | AG31: =남부!L89 -> 1 | AH31: =남부!M89 -> 4 | AI31: =남부!N89 -> 0 | AJ31: =남부!O89 -> 10 | AK31: =남부!P89 -> 10 | AL31: =남부!Q89 -> 0 | ... AX31: =남부!AC89 -> 0
B32: 팔탄 | C32: =남부!B94 -> 3 | D32: =SUM(F32,H32,J32,L32,N32,P32,R32,T32,V32,X32,Z32,AB32) -> 1325.6 | E32: 0 | F32: 0 | G32: 0 | H32: 0 | I32: 0 | J32: 0 | K32: 0 | L32: 0 | M32: 0 | N32: 0 | O32: 0 | P32: 0 | Q32: 0 | R32: 0 | S32: 0 | T32: 0 | U32: =남부!B90 -> 3 | V32: =남부!H90 -> 1325.6 | W32: 0 | X32: 0 | Y32: 0 | Z32: 0 | AA32: 0 | AB32: 0 | AC32: 0 | AD32: 0 | AE32: =남부!J94 -> 0 | AF32: =남부!K94 -> 0 | AG32: =남부!L94 -> 0 | AH32: =남부!M94 -> 2 | AI32: =남부!N94 -> 0 | AJ32: =남부!O94 -> 5 | AK32: =남부!P94 -> 4 | AL32: =남부!Q94 -> 1 | ... AX32: =남부!AC94 -> 0
B33: 매향리 | C33: =남부!B97 -> 1 | D33: =SUM(F33,H33,J33,L33,N33,P33,R33,T33,V33,X33,Z33,AB33) -> 335536 | E33: 0 | F33: 0 | G33: 0 | H33: 0 | I33: 0 | J33: 0 | K33: 0 | L33: 0 | M33: =남부!B95 -> 1 | N33: =남부!H95 -> 335536 | O33: 0 | P33: 0 | Q33: 0 | R33: 0 | S33: 0 | T33: 0 | U33: 0 | V33: 0 | W33: 0 | X33: 0 | Y33: 0 | Z33: 0 | AA33: 0 | AB33: 0 | AC33: 0 | AD33: 0 | AE33: =남부!J96 -> 1 | AF33: =남부!K96 -> 0 | AG33: =남부!L96 -> 13 | AH33: =남부!M96 -> 6 | AI33: =남부!N96 -> 0 | AJ33: =남부!O96 -> 0 | AK33: =남부!P96 -> 16 | AL33: =남부!Q96 -> 0 | ... AX33: =남부!AC96 -> 138
B34: 우정,장안 | C34: =남부!B121 -> 18 | D34: =SUM(F34,H34,J34,L34,N34,P34,R34,T34,V34,X34,Z34,AB34) -> 153082 | E34: =남부!B98 -> 5 | F34: =남부!H98 -> 83939 | G34: =남부!B104 -> 5 | H34: =남부!H104 -> 18239 | I34: =남부!B110 -> 4 | J34: =남부!H110 -> 11830 | K34: =남부!B115 -> 1 | L34: =남부!H115 -> 37750 | M34: 0 | N34: 0 | O34: 0 | P34: 0 | Q34: 0 | R34: 0 | S34: 0 | T34: 0 | U34: 0 | V34: 0 | W34: 0 | X34: 0 | Y34: 0 | Z34: 0 | AA34: =남부!B117 -> 3 | AB34: =남부!H117 -> 1324 | AC34: 0 | AD34: 0 | AE34: =남부!J121 -> 3 | AF34: =남부!K121 -> 1 | AG34: =남부!L121 -> 18 | AH34: =남부!M121 -> 37 | AI34: =남부!N121 -> 0 | AJ34: =남부!O121 -> 71 | AK34: =남부!P121 -> 135 | AL34: =남부!Q121 -> 7 | ... AX34: =남부!AC121 -> 146
AU35: ※ 공공공지 10호-보안등(1등용)3, 보안등(2등용)1 누락

Sheet 비봉
A1: ▣ 비봉권역 | E1: (새솔동, 비봉, 매송, 남양, 송산, 서신, 마도)
A2: 권역 | B2: 개소 | C2: 공원종류 | D2: 청소권역 | E2: 공원명 | F2: 위치 | G2: 조성일자 | H2: 조성면적 | I2: 비고 | J2: 조경시설 | K2: 조경시설 | L2: 휴양시설 | M2: 휴양시설 | N2: 휴양시설 | O2: 휴양시설 | P2: 휴양시설 | Q2: 유희시설 | R2: 유희시설 | S2: 유희시설 | T2: 운동시설 | U2: 편익시설 | V2: 편익시설 | W2: 편익시설 | X2: 관리시설 | Y2: 관리시설 | Z2: 관리시설 | AA2: 관리시설 | AB2: 관리시설 | AC2: 관리시설
J3: 수경시설 | K3: 물놀이장 | L3: 정자(평상) | M3: 파고라 | N3: 기타파고라 | O3: 등의자 (스윙벤치) | P3: 평의자(석의자) | Q3: 조합놀이대 | R3: 그네 | S3: 시소 | T3: 운동기구 (생체) | U3: 음수전 (세족장포함) | V3: 화장실 | W3: 신발털이대 | X3: 관리실 (휴게실 포함) | Y3: 주차장 | Z3: 보안등(1등용) | AA3: 보안등(2등용) | AB3: 볼라드 등 | AC3: 기타 조명
B4: =SUM(B36,B44,B53,B87,B105) -> 77 | C4: =SUM(C36,C44,C53,C87,C105) -> 0 | D4: =SUM(D36,D44,D53,D87,D105) -> 0 | E4: =SUM(E36,E44,E53,E87,E105) -> 0 | F4: =SUM(F36,F44,F53,F87,F105) -> 0 | G4: =SUM(G36,G44,G53,G87,G105) -> 0 | H4: =SUM(H36,H44,H53,H87,H105) -> 910115.78 | I4: =SUM(I36,I44,I53,I87,I105) -> 0 | ... AC4: =SUM(AC36,AC44,AC53,AC87,AC105) -> 96
A5: 새솔동 | B5: =COUNT(B6:B7) -> 2 | C5: 근린공원 | H5: =SUM(H6:H7) -> 95929.1 | J5: =SUM(J6:J7) -> 5 | K5: =SUM(K6:K7) -> 1 | L5: =SUM(L6:L7) -> 2 | M5: =SUM(M6:M7) -> 30 | N5: =SUM(N6:N7) -> 3 | O5: =SUM(O6:O7) -> 54 | P5: =SUM(P6:P7) -> 64 | Q5: =SUM(Q6:Q7) -> 2 | ... AC5: =SUM(AC6:AC7) -> 46
B6: 1 | C6: 근린 | D6: 중부 | E6: 1호 근린공원 (별솔공원) | F6: 새솔동 28 | G6: 2021 | H6: 11633.7 | I6: 2021.01 신규위탁 | K6: 1 | M6: 7 | O6: 10 | P6: 12 | T6: 5 | U6: 1 | V6: 1 | X6: 1 | Z6: 21 | AB6: 12 | AC6: 46
B7: 2 | C7: 근린 | D7: 중부 | E7: 2호 근린공원 (수노을중앙공원) | F7: 새솔동 83, 97 | G7: 2018 | H7: 84295.4 | J7: 5 | L7: 2 | M7: 23 | N7: 3 | O7: 44 | P7: 52 | Q7: 2 | R7: 1 | S7: 1 | U7: 3 | V7: 2 | X7: 2 | Y7: 1 | Z7: 125 | AB7: 36
B8: =COUNT(B9:B14) -> 6 | C8: 어린이 | H8: =SUM(H9:H14) -> 18643.9 | J8: =SUM(J9:J14) -> 0 | K8: =SUM(K9:K14) -> 0 | L8: =SUM(L9:L14) -> 0 | M8: =SUM(M9:M14) -> 10 | N8: =SUM(N9:N14) -> 1 | O8: =SUM(O9:O14) -> 29 | P8: =SUM(P9:P14) -> 18 | Q8: =SUM(Q9:Q14) -> 7 | ... AC8: =SUM(AC9:AC14) -> 50
B9: 1 | C9: 어린이 | D9: 중부 | E9: 1호 어린이공원(맑은가람공원) | F9: 새솔동 165 | G9: 2021 | H9: 2921.9 | I9: 2022.12 인수인계(송산그린시티 동측지구) | M9: 2 | N9: 1 | O9: 7 | P9: 2 | Q9: 2 | T9: 4 | U9: 2 | Z9: 11 | AC9: 14
B10: 2 | C10: 어린이 | D10: 중부 | E10: 2호 어린이공원(새버들공원) | F10: 새솔동 146 | G10: 2021 | H10: 1607.5 | I10: 2022.12 인수인계(송산그린시티 동측지구) | M10: 2 | O10: 2 | P10: 4 | Q10: 1 | R10: 1 | T10: 4 | Z10: 6 | AB10: 3 | AC10: 8
B11: 3 | C11: 어린이 | D11: 중부 | E11: 3호 어린이공원(가온공원) | F11: 새솔동 114 | G11: 2020 | H11: 5070.5 | I11: 2021.01 신규위탁 | M11: 2 | O11: 10 | P11: 4 | Q11: 2 | T11: 5 | U11: 2 | V11: 1 | Z11: 14 | AB11: 7 | AC11: 10
B12: 4 | C12: 어린이 | D12: 중부 | E12: 4호 어린이공원(해오름공원) | F12: 새솔동 15 | G12: 2018 | H12: 4944 | T12: 4 | U12: 1 | Z12: 15
B13: 5 | C13: 어린이 | D13: 중부 | E13: 5호 어린이공원(누리봄공원) | F13: 새솔동 72 | G13: 2021 | H13: 1656.3 | I13: 2022.12 인수인계(송산그린시티 동측지구) | M13: 2 | O13: 5 | P13: 4 | Q13: 1 | T13: 5 | Z13: 10 | AC13: 8
B14: 6 | C14: 어린이 | D14: 중부 | E14: 6호 어린이공원(도담공원) | F14: 새솔동 48 | G14: 2021 | H14: 2443.7 | I14: 2022.12 인수인계(송산그린시티 동측지구) | M14: 2 | O14: 5 | P14: 4 | Q14: 1 | T14: 5 | V14: 1 | Z14: 16 | AC14: 10
B15: =COUNT(B16:B17) -> 2 | C15: 체육공원 | H15: =SUM(H16:H17) -> 213991.3 | J15: =SUM(J16:J17) -> 0 | K15: =SUM(K16:K17) -> 1 | L15: =SUM(L16:L17) -> 1 | M15: =SUM(M16:M17) -> 18 | N15: =SUM(N16:N17) -> 0 | O15: =SUM(O16:O17) -> 29 | P15: =SUM(P16:P17) -> 64 | Q15: =SUM(Q16:Q17) -> 0 | ... AC15: =SUM(AC16:AC17) -> 0
B16: 1 | C16: 체육 | D16: 중부 | E16: 비봉체육공원 | F16: 새솔동167, 168 | G16: 2018 | H16: 177737.4 | I16: 야구장 화장실 | K16: 1 | L16: 1 | M16: 12 | O16: 4 | P16: 42 | T16: 18 | U16: 3 | V16: 2 | Y16: 1 | Z16: 71 | AB16: 7
B17: 2 | C17: 체육 | D17: 중부 | E17: 2호 체육공원(봉선체육공원) | F17: 새솔동 126 | G17: 2018 | H17: 36253.9 | M17: 6 | O17: 25 | P17: 22 | T17: 13 | U17: 1 | V17: 2 | X17: 1 | Y17: 1 | Z17: 48 | AB17: 13
B18: =COUNT(B19:B24) -> 6 | C18: 미관광장 | H18: =SUM(H19:H24) -> 1848.8 | J18: =SUM(J19:J24) -> 0 | K18: =SUM(K19:K24) -> 0 | L18: =SUM(L19:L24) -> 0 | M18: =SUM(M19:M24) -> 0 | N18: =SUM(N19:N24) -> 0 | O18: =SUM(O19:O24) -> 0 | P18: =SUM(P19:P24) -> 0 | Q18: =SUM(Q19:Q24) -> 0 | ... AC18: =SUM(AC19:AC24) -> 0
B19: 1 | C19: 광장 | D19: 중부 | E19: 경관광장 1 | F19: 새솔동 84-10 | G19: 2020 | H19: 126 | I19: 2021.03 신규위탁
B20: 2 | C20: 광장 | D20: 중부 | E20: 경관광장 2 | F20: 새솔동 85-15 | G20: 2020 | H20: 136 | I20: 2021.03 신규위탁
B21: 3 | C21: 광장 | D21: 중부 | E21: 경관광장 3 | F21: 새솔동 89-14 | G21: 2020 | H21: 135 | I21: 2021.03 신규위탁
B22: 4 | C22: 광장 | D22: 중부 | E22: 경관광장 4 | F22: 새솔동 88-14 | G22: 2020 | H22: 135 | I22: 2021.03 신규위탁
B23: 5 | C23: 광장 | D23: 중부 | E23: 경관광장 5 | F23: 새솔동 57-12 | G23: 2020 | H23: 536 | I23: 2021.03 신규위탁
B24: 6 | C24: 광장 | D24: 중부 | E24: 일반광장 1호(한우리광장) | F24: 새솔동 136-3 | G24: 2021 | H24: 780.8 | I24: 2022.12 인수인계(송산그린시티 동측지구)
B25: =COUNT(B26:B35) -> 10 | C25: 공공공지 | H25: =SUM(H26:H35) -> 4561.9 | J25: =SUM(J26:J35) -> 0 | K25: =SUM(K26:K35) -> 0 | L25: =SUM(L26:L35) -> 0 | M25: =SUM(M26:M35) -> 0 | N25: =SUM(N26:N35) -> 0 | O25: =SUM(O26:O35) -> 0 | P25: =SUM(P26:P35) -> 0 | Q25: =SUM(Q26:Q35) -> 0 | ... AC25: =SUM(AC26:AC35) -> 0
B26: 1 | C26: 공공공지 | D26: 중부 | E26: 송산그린시티 공공공지 1 | F26: 새솔동 99-7 | G26: 2020 | H26: 39 | I26: 2021.03 신규위탁
B27: 2 | C27: 공공공지 | D27: 중부 | E27: 송산그린시티 공공공지 2 | F27: 새솔동 101-1 | G27: 2020 | H27: 334.4 | I27: 2021.03 신규위탁
B28: 3 | C28: 공공공지 | D28: 중부 | E28: 송산그린시티 공공공지 3 | F28: 새솔동 51-16 | G28: 2020 | H28: 120.3 | I28: 2021.03 신규위탁
B29: 4 | C29: 공공공지 | D29: 중부 | E29: 송산그린시티 공공공지 4 | F29: 새솔동 52-6 | G29: 2020 | H29: 615.8 | I29: 2021.03 신규위탁
B30: 5 | C30: 공공공지 | D30: 중부 | E30: 송산그린시티 공공공지 5 | F30: 새솔동 58-6 | G30: 2020 | H30: 568.4 | I30: 2021.03 신규위탁
B31: 6 | C31: 공공공지 | D31: 중부 | E31: 송산그린시티 공공공지 6 | F31: 새솔동 54-1 | G31: 2020 | H31: 128.6 | I31: 2021.03 신규위탁 | Z31: 1
B32: 7 | C32: 공공공지 | D32: 중부 | E32: 송산그린시티 공공공지 7 | F32: 새솔동 57-18 | G32: 2020 | H32: 754.9 | I32: 2021.03 신규위탁 | Z32: 2
B33: 8 | C33: 공공공지 | D33: 중부 | E33: 송산그린시티 공공공지 8 | F33: 새솔동 57-6 | G33: 2020 | H33: 745.6 | I33: 2021.03 신규위탁 | Z33: 2
B34: 9 | C34: 공공공지 | D34: 중부 | E34: 송산그린시티 공공공지 9 | F34: 새솔동 60-1 | G34: 2020 | H34: 126.3 | I34: 2021.03 신규위탁 | Z34: 1
B35: 10 | C35: 공공공지 | D35: 중부 | E35: 송산그린시티 공공공지 10 | F35: 새솔동 123-3 | G35: 2021 | H35: 1128.6 | I35: 2022.12 인수인계(송산그린시티 동측지구) | Z35: 3 | AA35: 1
B36: =SUM(B5,B8,B15,B18,B25) -> 26 | H36: =SUM(H5,H8,H15,H18,H25) -> 334975 | J36: =SUM(J5,J8,J15,J18,J25) -> 5 | K36: =SUM(K5,K8,K15,K18,K25) -> 2 | L36: =SUM(L5,L8,L15,L18,L25) -> 3 | M36: =SUM(M5,M8,M15,M18,M25) -> 58 | N36: =SUM(N5,N8,N15,N18,N25) -> 4 | O36: =SUM(O5,O8,O15,O18,O25) -> 112 | P36: =SUM(P5,P8,P15,P18,P25) -> 146 | Q36: =SUM(Q5,Q8,Q15,Q18,Q25) -> 9 | ... AC36: =SUM(AC5,AC8,AC15,AC18,AC25) -> 96
A37: 비봉 | B37: =COUNT(B38:B38) -> 1 | C37: 소공원 | H37: =SUM(H38:H38) -> 301 | J37: =SUM(J38:J38) -> 0 | K37: =SUM(K38:K38) -> 0 | L37: =SUM(L38:L38) -> 0 | M37: =SUM(M38:M38) -> 0 | N37: =SUM(N38:N38) -> 0 | O37: =SUM(O38:O38) -> 0 | P37: =SUM(P38:P38) -> 0 | Q37: =SUM(Q38:Q38) -> 0 | ... AC37: =SUM(AC38:AC38) -> 0
B38: 1 | C38: 소공원 | D38: 중부 | E38: 양노리소공원 | F38: 비봉면 양노리 738-54 | G38: 2014 | H38: 301
B39: =COUNT(B40:B43) -> 4 | C39: 쌈지 | H39: =SUM(H40:H43) -> 5410 | J39: =SUM(J40:J43) -> 0 | K39: =SUM(K40:K43) -> 0 | L39: =SUM(L40:L43) -> 1 | M39: =SUM(M40:M43) -> 2 | N39: =SUM(N40:N43) -> 0 | O39: =SUM(O40:O43) -> 4 | P39: =SUM(P40:P43) -> 6 | Q39: =SUM(Q40:Q43) -> 0 | ... AC39: =SUM(AC40:AC43) -> 0
B40: 1 | C40: 쌈지 | D40: 중부 | E40: 구포리 소공원 | F40: 비봉면 구포리 63-4일원 | G40: 2008 | H40: 2900
B41: 2 | C41: 쌈지 | D41: 중부 | E41: 비봉 쌈지공원(1) | F41: 비봉면 구포리 산6-22 | G41: 2014 | H41: 1167 | L41: 1 | T41: 4 | AA41: 2
B42: 3 | C42: 쌈지 | D42: 중부 | E42: 비봉 쌈지공원(2) | F42: 비봉면 양노리 180-9 | G42: 2019 | H42: 569 | M42: 1 | O42: 4 | P42: 3 | T42: 5 | Z42: 4
B43: 4 | C43: 쌈지 | D43: 중부 | E43: 비봉 쌈지공원(3) | F43: 비봉면 양노리 705-4 | G43: 2019 | H43: 774 | M43: 1 | P43: 3 | T43: 4
B44: =SUM(B37,B39) -> 5 | H44: =SUM(H37,H39) -> 5711 | J44: =SUM(J37,J39) -> 0 | K44: =SUM(K37,K39) -> 0 | L44: =SUM(L37,L39) -> 1 | M44: =SUM(M37,M39) -> 2 | N44: =SUM(N37,N39) -> 0 | O44: =SUM(O37,O39) -> 4 | P44: =SUM(P37,P39) -> 6 | Q44: =SUM(Q37,Q39) -> 0 | ... AC44: =SUM(AC37,AC39) -> 0
A45: 매송 | B45: =COUNT(B46:B46) -> 1 | C45: 체육공원 | H45: =SUM(H46:H46) -> 16250 | J45: =SUM(J46:J46) -> 0 | K45: =SUM(K46:K46) -> 1 | L45: =SUM(L46:L46) -> 0 | M45: =SUM(M46:M46) -> 4 | N45: =SUM(N46:N46) -> 0 | O45: =SUM(O46:O46) -> 2 | P45: =SUM(P46:P46) -> 5 | Q45: =SUM(Q46:Q46) -> 0 | ... AC45: =SUM(AC46:AC46) -> 0
B46: 1 | C46: 체육 | D46: 봉담2 | E46: 매송체육공원 | F46: 매송면 원평리 579,580 | G46: 2016 | H46: 16250 | K46: 1 | M46: 4 | O46: 2 | P46: 5 | T46: 7 | U46: 2 | V46: 1 | X46: 1 | Y46: 1 | Z46: 23 | AB46: 10
B47: =COUNT(B48:B52) -> 5 | C47: 쌈지 | H47: =SUM(H48:H52) -> 7196 | J47: =SUM(J48:J52) -> 0 | K47: =SUM(K48:K52) -> 0 | L47: =SUM(L48:L52) -> 2 | M47: =SUM(M48:M52) -> 3 | N47: =SUM(N48:N52) -> 0 | O47: =SUM(O48:O52) -> 15 | P47: =SUM(P48:P52) -> 4 | Q47: =SUM(Q48:Q52) -> 1 | ... AC47: =SUM(AC48:AC52) -> 0
B48: 1 | C48: 쌈지 | D48: 봉담2 | E48: 천천리 가로공원 | F48: 매송면 천천리 91-3일원 | G48: 2006 | H48: 2910 | M48: 1 | P48: 3 | T48: 5 | U48: 1 | AA48: 2
B49: 2 | C49: 쌈지 | D49: 봉담2 | E49: 매송 쌈지공원(천천리 어린이놀이터) | F49: 매송면 천천리 185-1 | G49: 2018 | H49: 800 | M49: 1 | O49: 4 | Q49: 1 | R49: 1
B50: 3 | C50: 쌈지 | D50: 봉담2 | E50: 어천저수지 쌈지공원 | F50: 매송면 원평리 208, 208-1, 208-2 | G50: 2020 | H50: 2000 | I50: 2020.12 신규위탁 | L50: 1 | O50: 6 | T50: 2 | AA50: 3
B51: 4 | C51: 쌈지 | D51: 봉담2 | E51: 벌터 쌈지공원 | F51: 매송면 원평리 537-2 일원 | G51: 2020 | H51: 1157 | I51: 2020.12 신규위탁 | L51: 1 | O51: 5 | T51: 5
B52: 5 | C52: 쌈지 | D52: 봉담2 | E52: 매송 원평리 쌈지공원 | F52: 매송면 원평리 141-2 | G52: 2022 | H52: 329 | M52: 1 | P52: 1 | T52: 2
B53: =SUM(B45,B47) -> 6 | H53: =SUM(H45,H47) -> 23446 | J53: =SUM(J45,J47) -> 0 | K53: =SUM(K45,K47) -> 1 | L53: =SUM(L45,L47) -> 2 | M53: =SUM(M45,M47) -> 7 | N53: =SUM(N45,N47) -> 0 | O53: =SUM(O45,O47) -> 17 | P53: =SUM(P45,P47) -> 9 | Q53: =SUM(Q45,Q47) -> 1 | ... AC53: =SUM(AC45,AC47) -> 0
A54: 남양뉴타운 | B54: =COUNT(B55:B62) -> 8 | C54: 근린공원 | H54: =SUM(H55:H62) -> 358956.2 | J54: =SUM(J55:J62) -> 4 | K54: =SUM(K55:K62) -> 0 | L54: =SUM(L55:L62) -> 9 | M54: =SUM(M55:M62) -> 29 | N54: =SUM(N55:N62) -> 0 | O54: =SUM(O55:O62) -> 152 | P54: =SUM(P55:P62) -> 108 | Q54: =SUM(Q55:Q62) -> 2 | ... AC54: =SUM(AC55:AC62) -> 0
B55: 1 | C55: 근린 | D55: 서부 | E55: 1호근린 늘봄맞이 공원 | F55: 남양리 2214, 2219-2 | G55: 2019 | H55: 47906 | M55: 3 | O55: 27 | P55: 9 | T55: 14 | Z55: 43
B56: 2 | C56: 근린 | D56: 서부 | E56: 2호근린 풀 향기 숲공원 | F56: 남양리 2194 | G56: 2019 | H56: 89448.9 | O56: 13 | P56: 9 | Z56: 45
B57: 3 | C57: 근린 | D57: 서부 | E57: 3호근린 꽃내음 언덕공원 | F57: 북양리 695 | G57: 2019 | H57: 57568.5 | M57: 3 | O57: 4 | P57: 22 | Z57: 36
B58: 4 | C58: 근린 | D58: 서부 | E58: 4호근린 너른 고향 들 | F58: 남양리 2255, 2258-11, 2259, 2263 | G58: 2019 | H58: 95046.9 | I58: (저류지 중복) | J58: 1 | L58: 1 | M58: 8 | O58: 19 | P58: 35 | T58: 1 | Z58: 39
B59: 5 | C59: 근린 | D59: 서부 | E59: 5호근린 돋음볕 공원 | F59: 남양리 2254, 2284 | G59: 2019 | H59: 11561.8 | M59: 2 | O59: 7 | T59: 4 | Z59: 19
B60: 6 | C60: 근린 | D60: 서부 | E60: 6호근린 솔바람 공원 | F60: 남양리 2309 | G60: 2019 | H60: 12042.1 | L60: 1 | O60: 3 | P60: 4 | T60: 3 | Z60: 17
B61: 7 | C61: 근린 | D61: 서부 | E61: 7호근린 마을어귀 길 | F61: 남양리 2300-1, 2318-1, 2339-1 | G61: 2019 | H61: 16425.5 | M61: 5 | O61: 27 | P61: 22 | Z61: 19
B62: 8 | C62: 근린 | D62: 서부 | E62: 신남근린공원 | F62: 남양읍 신남리 산64-3번지 일원 | G62: 2023 | H62: 28956.5 | I62: 2023.12 인수인계(신남2지구) | J62: 3 | L62: 7 | M62: 8 | O62: 52 | P62: 7 | Q62: 2 | R62: 2 | S62: 2 | T62: 5 | U62: 1 | V62: 1 | X62: 1 | Z62: 75
B63: =COUNT(B64:B64) -> 1 | C63: 체육공원 | H63: =SUM(H64:H64) -> 64136.1 | J63: =SUM(J64:J64) -> 0 | K63: =SUM(K64:K64) -> 0 | L63: =SUM(L64:L64) -> 0 | M63: =SUM(M64:M64) -> 10 | N63: =SUM(N64:N64) -> 0 | O63: =SUM(O64:O64) -> 41 | P63: =SUM(P64:P64) -> 30 | Q63: =SUM(Q64:Q64) -> 0 | ... AC63: =SUM(AC64:AC64) -> 0
B64: 1 | C64: 체육 | D64: 서부 | E64: 1호 체육 푸른건강 뜰 | F64: 남양리 2236, 2237 | G64: 2019 | H64: 64136.1 | M64: 10 | O64: 41 | P64: 30 | T64: 4 | U64: 2 | V64: 1 | X64: 1 | Y64: 1 | Z64: 71
B65: =COUNT(B66:B75) -> 10 | C65: 어린이 | H65: =SUM(H66:H75) -> 20488.2 | J65: =SUM(J66:J75) -> 1 | K65: =SUM(K66:K75) -> 1 | L65: =SUM(L66:L75) -> 0 | M65: =SUM(M66:M75) -> 18 | N65: =SUM(N66:N75) -> 0 | O65: =SUM(O66:O75) -> 21 | P65: =SUM(P66:P75) -> 71 | Q65: =SUM(Q66:Q75) -> 9 | ... AC65: =SUM(AC66:AC75) -> 0
B66: 1 | C66: 어린이 | D66: 서부 | E66: 1호어린이 파릇파릇 어린이공원 | F66: 남양리 2203 | G66: 2019 | H66: 1572.5 | M66: 2 | O66: 3 | Q66: 1 | R66: 1 | S66: 1 | Z66: 3
B67: 2 | C67: 어린이 | D67: 서부 | E67: 2호어린이 꿈틀꿈틀 놀이터 | F67: 남양리 2211-1 | G67: 2019 | H67: 1589.9 | M67: 2 | P67: 8 | Q67: 1 | R67: 1 | Z67: 3
B68: 3 | C68: 어린이 | D68: 서부 | E68: 3호어린이 산들산들 어린이공원 | F68: 남양리 2220 | G68: 2019 | H68: 1679.5 | M68: 2 | O68: 11 | P68: 6 | Q68: 1 | Z68: 4
B69: 4 | C69: 어린이 | D69: 서부 | E69: 4호어린이 풍덩풍덩 어린이공원 | F69: 남양리 2234 | G69: 2019 | H69: 1758 | M69: 2 | P69: 13 | Q69: 1 | S69: 1 | Z69: 3
B70: 5 | C70: 어린이 | D70: 서부 | E70: 5호어린이 첨벙첨벙 어린이공원 | F70: 남양리 2276 | G70: 2019 | H70: 3554.6 | K70: 1 | M70: 2 | P70: 18 | T70: 4 | Z70: 9
B71: 6 | C71: 어린이 | D71: 서부 | E71: 6호어린이 질퍽질퍽 어린이공원 | F71: 남양리 2250 | G71: 2019 | H71: 1540.5 | M71: 2 | P71: 8 | Q71: 1 | T71: 3 | Z71: 3
B72: 7 | C72: 어린이 | D72: 서부 | E72: 7호어린이 용알 어린이공원 | F72: 남양리 2286 | G72: 2019 | H72: 2694.9 | M72: 2 | P72: 6 | Q72: 1 | S72: 1 | T72: 4 | Z72: 4
B73: 8 | C73: 어린이 | D73: 서부 | E73: 8호어린이 방울방울 어린이공원 | F73: 남양리 2301 | G73: 2019 | H73: 1502.8 | O73: 5 | Q73: 1 | R73: 1 | T73: 3 | Z73: 3
B74: 9 | C74: 어린이 | D74: 서부 | E74: 9호어린이 반짝반짝 어린이공원 | F74: 남양리 2313 | G74: 2019 | H74: 2985.9 | M74: 2 | P74: 12 | Q74: 1 | S74: 1 | Z74: 6
B75: 10 | C75: 어린이 | D75: 서부 | E75: 10호어린이 살랑살랑 어린이공원 | F75: 남양리 2157 | G75: 2019 | H75: 1609.6 | J75: 1 | M75: 2 | O75: 2 | Q75: 1 | T75: 1 | Z75: 3
B76: =COUNT(B77:B78) -> 2 | C76: 소공원 | H76: =SUM(H77:H78) -> 723.6 | J76: =SUM(J77:J78) -> 0 | K76: =SUM(K77:K78) -> 0 | L76: =SUM(L77:L78) -> 0 | M76: =SUM(M77:M78) -> 0 | N76: =SUM(N77:N78) -> 0 | O76: =SUM(O77:O78) -> 4 | P76: =SUM(P77:P78) -> 0 | Q76: =SUM(Q77:Q78) -> 0 | ... AC76: =SUM(AC77:AC78) -> 0
B77: 1 | C77: 소공원 | D77: 서부 | E77: 소공원1호 | F77: 남양리 2264 | G77: 2019 | H77: 260.1 | O77: 4 | Z77: 2
B78: 2 | C78: 소공원 | D78: 서부 | E78: 소공원2호 | F78: 남양리 2271-1 | G78: 2019 | H78: 463.5
B79: =COUNT(B80:B81) -> 2 | C79: 공공공지 | H79: =SUM(H80:H81) -> 3054 | J79: =SUM(J80:J81) -> 0 | K79: =SUM(K80:K81) -> 0 | L79: =SUM(L80:L81) -> 0 | M79: =SUM(M80:M81) -> 0 | N79: =SUM(N80:N81) -> 0 | O79: =SUM(O80:O81) -> 8 | P79: =SUM(P80:P81) -> 0 | Q79: =SUM(Q80:Q81) -> 0 | ... AC79: =SUM(AC80:AC81) -> 0
B80: 1 | C80: 공공공지 | D80: 서부 | E80: 공공공지1호 | F80: 남양리 2320-6 | G80: 2019 | H80: 1855 | O80: 8 | Z80: 6 | AB80: 6
B81: 2 | C81: 공공공지 | D81: 서부 | E81: 공공공지2호 | F81: 남양리 2322-1 | G81: 2019 | H81: 1199 | AB81: 5
B82: =COUNT(B83:B86) -> 4 | C82: 미관광장 | H82: =SUM(H83:H86) -> 6920.2 | J82: =SUM(J83:J86) -> 1 | K82: =SUM(K83:K86) -> 0 | L82: =SUM(L83:L86) -> 0 | M82: =SUM(M83:M86) -> 4 | N82: =SUM(N83:N86) -> 0 | O82: =SUM(O83:O86) -> 0 | P82: =SUM(P83:P86) -> 21 | Q82: =SUM(Q83:Q86) -> 0 | ... AC82: =SUM(AC83:AC86) -> 0
B83: 1 | C83: 광장 | D83: 서부 | E83: 광장1호 | F83: 남양리 2232-7 | G83: 2019 | H83: 1304.2 | M83: 2 | P83: 12 | Z83: 3
B84: 2 | C84: 광장 | D84: 서부 | E84: 광장2호 | F84: 남양리 2231 | G84: 2019 | H84: 1286.1 | J84: 1 | M84: 2 | P84: 9 | Z84: 4
B85: 3 | C85: 광장 | D85: 서부 | E85: 광장3호 | F85: 남양리 2323-1 | G85: 2019 | H85: 3750.6 | Z85: 6 | AB85: 6
B86: 4 | C86: 광장 | D86: 서부 | E86: 광장4호 | F86: 남양리 2273-1 | G86: 2019 | H86: 579.3
B87: =SUM(B54,B63,B65,B76,B79,B82) -> 27 | H87: =SUM(H54,H63,H65,H76,H79,H82) -> 454278.3 | J87: =SUM(J54,J63,J65,J76,J79,J82) -> 6 | K87: =SUM(K54,K63,K65,K76,K79,K82) -> 1 | L87: =SUM(L54,L63,L65,L76,L79,L82) -> 9 | M87: =SUM(M54,M63,M65,M76,M79,M82) -> 61 | N87: =SUM(N54,N63,N65,N76,N79,N82) -> 0 | O87: =SUM(O54,O63,O65,O76,O79,O82) -> 226 | P87: =SUM(P54,P63,P65,P76,P79,P82) -> 230 | Q87: =SUM(Q54,Q63,Q65,Q76,Q79,Q82) -> 11 | ... AC87: =SUM(AC54,AC63,AC65,AC76,AC79,AC82) -> 0
A88: 남양 | B88: =COUNT(B89:B92) -> 4 | C88: 근린공원 | H88: =SUM(H89:H92) -> 76442.2 | J88: =SUM(J89:J92) -> 0 | K88: =SUM(K89:K92) -> 0 | L88: =SUM(L89:L92) -> 1 | M88: =SUM(M89:M92) -> 8 | N88: =SUM(N89:N92) -> 0 | O88: =SUM(O89:O92) -> 6 | P88: =SUM(P89:P92) -> 34 | Q88: =SUM(Q89:Q92) -> 0 | ... AC88: =SUM(AC89:AC92) -> 0
B89: 1 | C89: 근린 | D89: 서부 | E89: 남양1호 근린공원 | F89: 남양동 2038 일원 | G89: 2010 | H89: 52160.6 | L89: 1 | M89: 2 | O89: 4 | P89: 6 | T89: 14 | U89: 1 | V89: 1 | Y89: 1 | Z89: 21
B90: 2 | C90: 근린 | D90: 서부 | E90: 남양2-1호 근린공원 | F90: 남양동 2057-1,2057-2,2037-1 | G90: 2010 | H90: 3699.5 | M90: 1 | P90: 7 | Z90: 4
B91: 3 | C91: 근린 | D91: 서부 | E91: 남양2-2호 근린공원 | F91: 남양읍 남양리 2145,2146 | G91: 2010 | H91: 15339.4 | M91: 1 | O91: 2 | P91: 4 | T91: 4
B92: 4 | C92: 근린 | D92: 서부 | E92: 남양3호 근린공원 | F92: 남양읍 남양리 2060 | G92: 2010 | H92: 5242.7 | M92: 4 | P92: 17 | T92: 7 | U92: 1 | V92: 1 | W92: 1 | X92: 1 | Z92: 6
B93: =COUNT(B94:B98) -> 5 | C93: 어린이 | H93: =SUM(H94:H98) -> 8328.6 | J93: =SUM(J94:J98) -> 0 | K93: =SUM(K94:K98) -> 0 | L93: =SUM(L94:L98) -> 0 | M93: =SUM(M94:M98) -> 6 | N93: =SUM(N94:N98) -> 0 | O93: =SUM(O94:O98) -> 0 | P93: =SUM(P94:P98) -> 23 | Q93: =SUM(Q94:Q98) -> 5 | ... AC93: =SUM(AC94:AC98) -> 0
B94: 1 | C94: 어린이 | D94: 서부 | E94: 1호 어린이공원 | F94: 남양읍 남양리 2015 | G94: 2011 | H94: 1500 | M94: 1 | P94: 4 | Q94: 1 | T94: 3 | Z94: 4
B95: 2 | C95: 어린이 | D95: 서부 | E95: 2호 어린이공원 | F95: 남양읍 남양리 2036 | G95: 2011 | H95: 2310.3 | M95: 1 | P95: 6 | Q95: 1 | Z95: 4
B96: 3 | C96: 어린이 | D96: 서부 | E96: 3호 어린이공원 | F96: 남양읍 남양리 2042 | G96: 2011 | H96: 1504 | M96: 1 | P96: 3 | Q96: 1 | Z96: 3
B97: 4 | C97: 어린이 | D97: 서부 | E97: 4호 어린이공원 | F97: 남양읍 남양리 2066 | G97: 2011 | H97: 1515 | M97: 2 | P97: 6 | Q97: 1 | T97: 5 | Z97: 4
B98: 5 | C98: 어린이 | D98: 서부 | E98: 5호 어린이공원 | F98: 납양읍 남양리 2053 | G98: 2011 | H98: 1499.3 | M98: 1 | P98: 4 | Q98: 1 | Z98: 4
B99: =COUNT(B100:B100) -> 1 | C99: 소공원 | H99: =SUM(H100:H100) -> 1600 | J99: =SUM(J100:J100) -> 0 | K99: =SUM(K100:K100) -> 0 | L99: =SUM(L100:L100) -> 0 | M99: =SUM(M100:M100) -> 1 | N99: =SUM(N100:N100) -> 0 | O99: =SUM(O100:O100) -> 0 | P99: =SUM(P100:P100) -> 4 | Q99: =SUM(Q100:Q100) -> 0 | ... AC99: =SUM(AC100:AC100) -> 0
B100: 1 | C100: 소공원 | D100: 서부 | E100: 우림아파트소공원 | F100: 남양읍 남양리 1865-19 | G100: 2008 | H100: 1600 | M100: 1 | P100: 4 | T100: 6
...

Sheet 서부
A1: ▣ 서부권역 | E1: (새솔동, 비봉, 매송, 남양, 송산, 서신, 마도)
A2: 권역 | B2: 개소 | C2: 공원종류 | D2: 청소권역 | E2: 공원명 | F2: 위치 | G2: 조성일자 | H2: 조성면적 | I2: 비고 | J2: 조경시설 | K2: 조경시설 | L2: 휴양시설 | M2: 휴양시설 | N2: 휴양시설 | O2: 휴양시설 | P2: 휴양시설 | Q2: 유희시설 | R2: 유희시설 | S2: 유희시설 | T2: 운동시설 | U2: 편익시설 | V2: 편익시설 | W2: 편익시설 | X2: 관리시설 | Y2: 관리시설 | Z2: 관리시설 | AA2: 관리시설 | AB2: 관리시설 | AC2: 관리시설
J3: 수경시설 | K3: 물놀이장 | L3: 정자(평상) | M3: 파고라 | N3: 기타파고라 | O3: 등의자 (스윙벤치) | P3: 평의자(석의자) | Q3: 조합놀이대 | R3: 그네 | S3: 시소 | T3: 운동기구 (생체) | U3: 음수전 (세족장포함) | V3: 화장실 | W3: 신발털이대 | X3: 관리실 (휴게실 포함) | Y3: 주차장 | Z3: 보안등(1등용) | AA3: 보안등(2등용) | AB3: 볼라드 등 | AC3: 기타 조명
B4: =SUM(B22,B46,B56) -> 33 | C4: =SUM(C22,C46,C56) -> 0 | D4: =SUM(D22,D46,D56) -> 0 | E4: =SUM(E22,E46,E56) -> 0 | F4: =SUM(F22,F46,F56) -> 0 | G4: =SUM(G22,G46,G56) -> 0 | H4: =SUM(H22,H46,H56) -> 407386.2 | I4: =SUM(I22,I46,I56) -> 0 | ... AC4: =SUM(AC22,AC46,AC56) -> 0
A5: 송산 | B5: =COUNT(B6:B6) -> 1 | C5: 근린공원 | H5: =SUM(H6:H6) -> 9574 | J5: =SUM(J6:J6) -> 1 | K5: =SUM(K6:K6) -> 0 | L5: =SUM(L6:L6) -> 0 | M5: =SUM(M6:M6) -> 3 | N5: =SUM(N6:N6) -> 0 | O5: =SUM(O6:O6) -> 3 | P5: =SUM(P6:P6) -> 0 | Q5: =SUM(Q6:Q6) -> 1 | ... AC5: =SUM(AC6:AC6) -> 0
B6: 1 | C6: 근린 | D6: 서부 | E6: 송산3.1기념공원 | F6: 송산면 사강리 557-1,562-1,562-2, 558-4,558-6,299-3,299-4 | G6: 2007 | H6: 9574 | J6: 1 | M6: 3 | O6: 3 | Q6: 1 | T6: 9 | U6: 1 | V6: 1 | X6: 1 | Z6: 32
B7: =COUNT(B8:B8) -> 1 | C7: 수변공원 | H7: =SUM(H8:H8) -> 24897 | J7: =SUM(J8:J8) -> 0 | K7: =SUM(K8:K8) -> 0 | L7: =SUM(L8:L8) -> 0 | M7: =SUM(M8:M8) -> 9 | N7: =SUM(N8:N8) -> 0 | O7: =SUM(O8:O8) -> 8 | P7: =SUM(P8:P8) -> 0 | Q7: =SUM(Q8:Q8) -> 0 | ... AC7: =SUM(AC8:AC8) -> 0
B8: 1 | C8: 수변 | D8: 서부 | E8: 1호 수변공원 | F8: 송산면 중송리 582번지 일원 | G8: 2021 | H8: 24897 | I8: 2022.12 인수인계(송산테크노파크) | M8: 9 | O8: 8 | T8: 5 | Z8: 36
B9: =COUNT(B10:B10) -> 1 | C9: 쌈지 | H9: =SUM(H10:H10) -> 1280 | J9: =SUM(J10:J10) -> 0 | K9: =SUM(K10:K10) -> 0 | L9: =SUM(L10:L10) -> 1 | M9: =SUM(M10:M10) -> 0 | N9: =SUM(N10:N10) -> 0 | O9: =SUM(O10:O10) -> 2 | P9: =SUM(P10:P10) -> 0 | Q9: =SUM(Q10:Q10)-1 -> 0 | R9: =SUM(R10:R10) -> 0 | S9: =SUM(S10:S10) -> 0 | T9: =SUM(T10:T10) -> 6 | U9: =SUM(U10:U10) -> 0 | V9: =SUM(V10:V10) -> 0 | W9: =SUM(W10:W10) -> 0 | X9: =SUM(X10:X10) -> 0 | Y9: =SUM(Y10:Y10) -> 0 | ... AC9: =SUM(AC10:AC10) -> 0
B10: 1 | C10: 쌈지 | D10: 서부 | E10: 송산 쌈지공원 | F10: 송산면 독지리 173-2 | G10: 2013 | H10: 1280 | I10: 2022.03 독지리 이관 | L10: 1 | O10: 2 | Q10: 1 | T10: 6 | Z10: 4
B11: =COUNT(B12:B18) -> 7 | C11: 문화공원 | H11: =SUM(H12:H18) -> 6208.6 | J11: =SUM(J12:J18) -> 0 | K11: =SUM(K12:K18) -> 0 | L11: =SUM(L12:L18) -> 0 | M11: =SUM(M12:M18) -> 8 | N11: =SUM(N12:N18) -> 0 | O11: =SUM(O12:O18) -> 10 | P11: =SUM(P12:P18) -> 0 | Q11: =SUM(Q12:Q18) -> 0 | ... AC11: =SUM(AC12:AC18) -> 0
B12: 1 | C12: 문화 | D12: 서부 | E12: 문화공원1호 | F12: 송산면 지화리 682 | G12: 2021 | H12: 802.8 | I12: 2022.12 인수인계(송산테크노파크)
B13: 2 | C13: 문화 | D13: 서부 | E13: 문화공원2호 | F13: 송산면 지화리 690 | G13: 2021 | H13: 773.5 | I13: 2022.12 인수인계(송산테크노파크) | M13: 1 | Z13: 2
B14: 3 | C14: 문화 | D14: 서부 | E14: 문화공원3호 | F14: 송산면 지화리 682-11 | G14: 2021 | H14: 491.1 | I14: 2022.12 인수인계(송산테크노파크) | O14: 4 | Z14: 3
B15: 4 | C15: 문화 | D15: 서부 | E15: 문화공원4호 | F15: 송산면 지화리 692 | G15: 2021 | H15: 732.2 | I15: 2022.12 인수인계(송산테크노파크) | M15: 1 | O15: 2 | Z15: 4
B16: 5 | C16: 문화 | D16: 서부 | E16: 문화공원5호 | F16: 송산면 지화리 683-5 | G16: 2021 | H16: 1776.3 | I16: 2022.12 인수인계(송산테크노파크) | M16: 2 | T16: 5 | Z16: 5
B17: 6 | C17: 문화 | D17: 서부 | E17: 문화공원6호 | F17: 송산면 중송리 575 | G17: 2021 | H17: 964.3 | I17: 2022.12 인수인계(송산테크노파크) | M17: 2 | Z17: 4
B18: 7 | C18: 문화 | D18: 서부 | E18: 문화공원7호 | F18: 송산면 지화리 685-5 | G18: 2021 | H18: 668.4 | I18: 2022.12 인수인계(송산테크노파크) | M18: 2 | O18: 4 | Z18: 4
B19: =COUNT(B20:B21) -> 2 | C19: 소공원 | H19: =SUM(H20:H21) -> 2366.6 | J19: =SUM(J20:J21) -> 0 | K19: =SUM(K20:K21) -> 0 | L19: =SUM(L20:L21) -> 0 | M19: =SUM(M20:M21) -> 2 | N19: =SUM(N20:N21) -> 0 | O19: =SUM(O20:O21) -> 2 | P19: =SUM(P20:P21) -> 0 | Q19: =SUM(Q20:Q21) -> 0 | ... AC19: =SUM(AC20:AC21) -> 0
B20: 1 | C20: 소공원 | D20: 서부 | E20: 소공원8호 | F20: 송산면 지화리 684 | G20: 2021 | H20: 366.4 | I20: 2022.12 인수인계(송산테크노파크) | M20: 1
B21: 2 | C21: 소공원 | D21: 서부 | E21: 소공원9호 | F21: 송산면 중송리 578-1 | G21: 2021 | H21: 2000.2 | I21: 2022.12 인수인계(송산테크노파크) | M21: 1 | O21: 2 | Z21: 5
B22: =SUM(B5,B7,B9,B11,B19) -> 12 | H22: =SUM(H5,H7,H9,H11,H19) -> 44326.2 | J22: =SUM(J5,J7,J9,J11,J19) -> 1 | K22: =SUM(K5,K7,K9,K11,K19) -> 0 | L22: =SUM(L5,L7,L9,L11,L19) -> 1 | M22: =SUM(M5,M7,M9,M11,M19) -> 22 | N22: =SUM(N5,N7,N9,N11,N19) -> 0 | O22: =SUM(O5,O7,O9,O11,O19) -> 25 | P22: =SUM(P5,P7,P9,P11,P19) -> 0 | Q22: =SUM(Q5,Q7,Q9,Q11,Q19) -> 1 | ... AC22: =SUM(AC5,AC7,AC9,AC11,AC19) -> 0
A23: 서신 | B23: =COUNT(B24:B26) -> 3 | C23: 근린공원 | H23: =SUM(H24:H26) -> 60671.1 | J23: =SUM(J24:J26) -> 0 | K23: =SUM(K24:K26) -> 0 | L23: =SUM(L24:L26) -> 0 | M23: =SUM(M24:M26) -> 13 | N23: =SUM(N24:N26) -> 0 | O23: =SUM(O24:O26) -> 23 | P23: =SUM(P24:P26) -> 50 | Q23: =SUM(Q24:Q26) -> 0 | ... AC23: =SUM(AC24:AC26) -> 0
B24: 1 | C24: 근린 | D24: 서부 | E24: 전곡공원1호 | F24: 장외리 642 | G24: 2015 | H24: 41952 | M24: 10 | O24: 17 | P24: 40 | T24: 8 | U24: 3 | V24: 1 | X24: 1 | Y24: 1 | Z24: 36
B25: 2 | C25: 근린 | D25: 서부 | E25: 전곡2호 근린공원 | F25: 서신면 전곡리 800 | G25: 1998 | H25: 3728.4 | M25: 1 | O25: 6 | P25: 4 | T25: 5 | U25: 1 | V25: 1 | Y25: 1 | Z25: 6
B26: 3 | C26: 근린 | D26: 서부 | E26: 전곡공원4호 | F26: 장외리 631,628 | G26: 2015 | H26: 14990.7 | M26: 2 | P26: 6 | V26: 1 | Y26: 1
B27: =COUNT(B28:B30) -> 3 | C27: 어린이 | H27: =SUM(H28:H30) -> 3243.5 | J27: =SUM(J28:J30) -> 0 | K27: =SUM(K28:K30) -> 0 | L27: =SUM(L28:L30) -> 0 | M27: =SUM(M28:M30) -> 3 | N27: =SUM(N28:N30) -> 0 | O27: =SUM(O28:O30) -> 5 | P27: =SUM(P28:P30) -> 12 | Q27: =SUM(Q28:Q30) -> 1 | ... AC27: =SUM(AC28:AC30) -> 0
B28: 1 | C28: 어린이 | D28: 서부 | E28: 전곡1호 어린이공원 | F28: 서신면 전곡리 1052 | G28: 1998 | H28: 923.7 | O28: 1 | R28: 1 | S28: 1 | Z28: 4
B29: 2 | C29: 어린이 | D29: 서부 | E29: 전곡3호 어린이공원 | F29: 서신면 전곡리 867 | G29: 1998 | H29: 929.5 | M29: 1 | O29: 2 | P29: 4 | Q29: 1 | Z29: 4
B30: 3 | C30: 어린이 | D30: 서부 | E30: 전곡4호 어린이공원 | F30: 서신면 전곡리 920 | G30: 1998 | H30: 1390.3 | M30: 2 | O30: 2 | P30: 8 | T30: 3 | U30: 1 | Z30: 4
B31: =COUNT(B32:B33) -> 2 | C31: 소공원 | H31: =SUM(H32:H33) -> 8669.9 | J31: =SUM(J32:J33) -> 0 | K31: =SUM(K32:K33) -> 0 | L31: =SUM(L32:L33) -> 0 | M31: =SUM(M32:M33) -> 2 | N31: =SUM(N32:N33) -> 0 | O31: =SUM(O32:O33) -> 13 | P31: =SUM(P32:P33) -> 6 | Q31: =SUM(Q32:Q33) -> 0 | ... AC31: =SUM(AC32:AC33) -> 0
B32: 1 | C32: 소공원 | D32: 서부 | E32: 전곡공원2 | F32: 전곡리 1097 | G32: 2015 | H32: 8154.2 | M32: 2 | O32: 13 | P32: 6 | Y32: 1 | Z32: 12
B33: 2 | C33: 소공원 | D33: 서부 | E33: 전곡공원5 | F33: 전곡리 1091-4 | G33: 2015 | H33: 515.7
B34: =COUNT(B35:B35) -> 1 | C34: 체육공원 | H34: =SUM(H35:H35) -> 11790 | J34: =SUM(J35:J35) -> 0 | K34: =SUM(K35:K35) -> 0 | L34: =SUM(L35:L35) -> 0 | M34: =SUM(M35:M35) -> 5 | N34: =SUM(N35:N35) -> 0 | O34: =SUM(O35:O35) -> 13 | P34: =SUM(P35:P35) -> 15 | Q34: =SUM(Q35:Q35) -> 0 | ... AC34: =SUM(AC35:AC35) -> 0
B35: 1 | C35: 체육 | D35: 서부 | E35: 전곡공원3호 | F35: 전곡리 1112 | G35: 2015 | H35: 11790 | M35: 5 | O35: 13 | P35: 15 | T35: 4 | U35: 1 | V35: 1 | Y35: 1 | Z35: 14
B36: =COUNT(B37:B39) -> 3 | C36: 쌈지 | H36: =SUM(H37:H39) -> 8144 | J36: =SUM(J37:J39) -> 0 | K36: =SUM(K37:K39) -> 0 | L36: =SUM(L37:L39) -> 0 | M36: =SUM(M37:M39) -> 1 | N36: =SUM(N37:N39) -> 2 | O36: =SUM(O37:O39) -> 0 | P36: =SUM(P37:P39) -> 4 | Q36: =SUM(Q37:Q39) -> 0 | ... AC36: =SUM(AC37:AC39) -> 0
B37: 1 | C37: 쌈지 | D37: 서부 | E37: 제부도 쌈지공원 | F37: 서신면 제부리 40-37일원,42-28일원 | G37: 2004 | H37: 6459 | N37: 2 | AA37: 3
B38: 2 | C38: 쌈지 | D38: 서부 | E38: 매화 쌈지공원 | F38: 서신면 매화리 292-2일원 | G38: 2014 | H38: 942 | M38: 1
B39: 3 | C39: 쌈지 | D39: 서부 | E39: 바다뜰 쌈지공원 | F39: 서신면 매화리 214-4 | G39: 2020 | H39: 743 | I39: 2020.12 신규위탁 | P39: 4 | T39: 4 | AB39: 17
B40: =COUNT(B41:B42) -> 2 | C40: 미관광장 | H40: =SUM(H41:H42) -> 5605 | J40: =SUM(J41:J42) -> 0 | K40: =SUM(K41:K42) -> 0 | L40: =SUM(L41:L42) -> 0 | M40: =SUM(M41:M42) -> 4 | N40: =SUM(N41:N42) -> 0 | O40: =SUM(O41:O42) -> 0 | P40: =SUM(P41:P42) -> 9 | Q40: =SUM(Q41:Q42) -> 0 | ... AC40: =SUM(AC41:AC42) -> 0
B41: 1 | C41: 광장 | D41: 서부 | E41: 매바위광장 | F41: 서신면 제부리 190-223 일원 | G41: 2019 | H41: 3624 | I41: 2020.03 신규위탁 | M41: 1 | U41: 2 | Z41: 9
B42: 2 | C42: 광장 | D42: 서부 | E42: 전곡일반광장 | F42: 서신면 전곡리 1090 | G42: 2015 | H42: 1981 | M42: 3 | P42: 9
B43: =COUNT(B44:B45) -> 2 | C43: 공공공지 | H43: =SUM(H44:H45) -> 596.7 | J43: =SUM(J44:J45) -> 0 | K43: =SUM(K44:K45) -> 0 | L43: =SUM(L44:L45) -> 0 | M43: =SUM(M44:M45) -> 0 | N43: =SUM(N44:N45) -> 1 | O43: =SUM(O44:O45) -> 0 | P43: =SUM(P44:P45) -> 0 | Q43: =SUM(Q44:Q45) -> 0 | ... AC43: =SUM(AC44:AC45) -> 0
B44: 1 | C44: 공공공지 | D44: 서부 | E44: 황금해안길 제부교차로 | F44: 서신면 송교리 380 | G44: 2018 | H44: 181 | N44: 1
B45: 2 | C45: 공공공지 | D45: 서부 | E45: 전곡리 공공공지 | F45: 전곡리 1091-5 | G45: 2015 | H45: 415.7
B46: =SUM(B23,B27,B31,B34,B36,B40,B43) -> 16 | H46: =SUM(H23,H27,H31,H34,H36,H40,H43) -> 98720.2 | J46: =SUM(J23,J27,J31,J34,J36,J40,J43) -> 0 | K46: =SUM(K23,K27,K31,K34,K36,K40,K43) -> 0 | L46: =SUM(L23,L27,L31,L34,L36,L40,L43) -> 0 | M46: =SUM(M23,M27,M31,M34,M36,M40,M43) -> 28 | N46: =SUM(N23,N27,N31,N34,N36,N40,N43) -> 3 | O46: =SUM(O23,O27,O31,O34,O36,O40,O43) -> 54 | P46: =SUM(P23,P27,P31,P34,P36,P40,P43) -> 96 | Q46: =SUM(Q23,Q27,Q31,Q34,Q36,Q40,Q43) -> 1 | ... AC46: =SUM(AC23,AC27,AC31,AC34,AC36,AC40,AC43) -> 0
A47: 마도 | B47: =COUNT(B48:B49) -> 2 | C47: 근린공원 | H47: =SUM(H48:H49) -> 52303.5 | J47: =SUM(J48:J49) -> 0 | K47: =SUM(K48:K49) -> 0 | L47: =SUM(L48:L49) -> 2 | M47: =SUM(M48:M49) -> 3 | N47: =SUM(N48:N49) -> 0 | O47: =SUM(O48:O49) -> 21 | P47: =SUM(P48:P49) -> 23 | Q47: =SUM(Q48:Q49) -> 0 | ... AC47: =SUM(AC48:AC49) -> 0
B48: 1 | C48: 근린 | D48: 서부 | E48: 마도 근린공원 | F48: 마도면 쌍송리 673 일원 | G48: 2005 | H48: 21550.8 | M48: 2 | O48: 12 | P48: 8 | T48: 5 | U48: 2 | V48: 1 | X48: 1 | Y48: 1 | Z48: 38 | AB48: 36
B49: 2 | C49: 근린 | D49: 서부 | E49: 경기화성바이오밸리 1호 근린공원 | F49: 마도면 청원리 산157-1번지 일원 (청원리 1516) | G49: 2017 | H49: 30752.7 | L49: 2 | M49: 1 | O49: 9 | P49: 15 | T49: 7 | V49: 1 | Y49: 1 | Z49: 30
B50: =COUNT(B51:B51) -> 1 | C50: 체육공원 | H50: =SUM(H51:H51) -> 24594.9 | J50: =SUM(J51:J51) -> 0 | K50: =SUM(K51:K51) -> 0 | L50: =SUM(L51:L51) -> 4 | M50: =SUM(M51:M51) -> 9 | N50: =SUM(N51:N51) -> 0 | O50: =SUM(O51:O51) -> 8 | P50: =SUM(P51:P51) -> 39 | Q50: =SUM(Q51:Q51) -> 0 | ... AC50: =SUM(AC51:AC51) -> 0
B51: 1 | C51: 체육 | D51: 서부 | E51: 경기화성바이오밸리 2호 체육공원 | F51: 마도면 청원리 1512일원 | G51: 2017 | H51: 24594.9 | L51: 4 | M51: 9 | O51: 8 | P51: 39 | T51: 5 | U51: 1 | V51: 1 | X51: 1 | Y51: 1 | Z51: 30 | AB51: 131
B52: =COUNT(B53:B53) -> 1 | C52: 수변공원 | H52: =SUM(H53:H53) -> 186632.4 | J52: =SUM(J53:J53) -> 0 | K52: =SUM(K53:K53) -> 0 | L52: =SUM(L53:L53) -> 1 | M52: =SUM(M53:M53) -> 8 | N52: =SUM(N53:N53) -> 0 | O52: =SUM(O53:O53) -> 7 | P52: =SUM(P53:P53) -> 11 | Q52: =SUM(Q53:Q53) -> 0 | ... AC52: =SUM(AC53:AC53) -> 0
B53: 1 | C53: 수변 | D53: 서부 | E53: 경기화성바이오밸리 3호 수변공원 | F53: 마도면 청원리 1508,9,12,13,14,15,1511일원 | G53: 2017 | H53: 186632.4 | L53: 1 | M53: 8 | O53: 7 | P53: 11 | Z53: 6 | AB53: 372
B54: =COUNT(B55:B55) -> 1 | C54: 쌈지 | H54: =SUM(H55:H55) -> 809 | J54: =SUM(J55:J55) -> 0 | K54: =SUM(K55:K55) -> 0 | L54: =SUM(L55:L55) -> 1 | M54: =SUM(M55:M55) -> 0 | N54: =SUM(N55:N55) -> 0 | O54: =SUM(O55:O55) -> 5 | P54: =SUM(P55:P55) -> 0 | Q54: =SUM(Q55:Q55) -> 0 | ... AC54: =SUM(AC55:AC55) -> 0
B55: 1 | C55: 쌈지 | D55: 서부 | E55: 마도 쌈지공원 | F55: 마도면 석교리 243-24 | G55: 2022 | H55: 809 | L55: 1 | O55: 5
B56: =SUM(B47,B50,B52,B54) -> 5 | H56: =SUM(H47,H50,H52,H54) -> 264339.8 | J56: =SUM(J47,J50,J52,J54) -> 0 | K56: =SUM(K47,K50,K52,K54) -> 0 | L56: =SUM(L47,L50,L52,L54) -> 8 | M56: =SUM(M47,M50,M52,M54) -> 20 | N56: =SUM(N47,N50,N52,N54) -> 0 | O56: =SUM(O47,O50,O52,O54) -> 41 | P56: =SUM(P47,P50,P52,P54) -> 73 | Q56: =SUM(Q47,Q50,Q52,Q54) -> 0 | ... AC56: =SUM(AC47,AC50,AC52,AC54) -> 0

Sheet 중부
A1: ▣ 중부권역 | E1: (봉담1, 봉담2, 동부2, 정남)
A2: 권역 | B2: 개소 | C2: 공원종류 | D2: 청소권역 | E2: 공원명 | F2: 위치 | G2: 조성일자 | H2: 조성면적 | I2: 비고 | J2: 조경시설 | K2: 조경시설 | L2: 휴양시설 | M2: 휴양시설 | N2: 휴양시설 | O2: 휴양시설 | P2: 휴양시설 | Q2: 유희시설 | R2: 유희시설 | S2: 유희시설 | T2: 운동시설 | U2: 편익시설 | V2: 편익시설 | W2: 편익시설 | X2: 관리시설 | Y2: 관리시설 | Z2: 관리시설 | AA2: 관리시설 | AB2: 관리시설 | AC2: 관리시설
J3: 수경시설 | K3: 물놀이장 | L3: 정자(평상) | M3: 파고라 | N3: 기타파고라 | O3: 등의자 (스윙벤치) | P3: 평의자(석의자) | Q3: 조합놀이대 | R3: 그네 | S3: 시소 | T3: 운동기구 (생체) | U3: 음수전 (세족장포함) | V3: 화장실 | W3: 신발털이대 | X3: 관리실 (휴게실 포함) | Y3: 주차장 | Z3: 보안등(1등용) | AA3: 보안등(2등용) | AB3: 볼라드 등 | AC3: 기타 조명
B4: =SUM(B42,B67,B110,B117,B131) -> 96 | H4: =SUM(H42,H67,H110,H117,H131) -> 736859.1 | J4: =SUM(J42,J67,J110,J117,J131) -> 11 | K4: =SUM(K42,K67,K110,K117,K131) -> 3 | L4: =SUM(L42,L67,L110,L117,L131) -> 30 | M4: =SUM(M42,M67,M110,M117,M131) -> 129 | N4: =SUM(N42,N67,N110,N117,N131) -> 17 | O4: =SUM(O42,O67,O110,O117,O131) -> 544 | P4: =SUM(P42,P67,P110,P117,P131) -> 538 | Q4: =SUM(Q42,Q67,Q110,Q117,Q131) -> 40 | ... AC4: =SUM(AC42,AC67,AC110,AC117,AC131) -> 138
A5: 봉담 1지구 | B5: =COUNT(B6:B7) -> 2 | C5: 근린공원 | H5: =SUM(H6:H7) -> 181260.2 | J5: =SUM(J6:J7) -> 2 | K5: =SUM(K6:K7) -> 0 | L5: =SUM(L6:L7) -> 3 | M5: =SUM(M6:M7) -> 5 | N5: =SUM(N6:N7) -> 2 | O5: =SUM(O6:O7) -> 31 | P5: =SUM(P6:P7) -> 39 | Q5: =SUM(Q6:Q7) -> 2 | ... AC5: =SUM(AC6:AC7) -> 22
B6: 1 | C6: 근린 | D6: 중부 | E6: 봉담호수공원 | F6: 봉담읍 상리 22-10일원 | G6: 2007 | H6: 19282 | J6: 2 | M6: 3 | N6: 2 | O6: 6 | P6: 18 | T6: 9 | V6: 1 | X6: 1 | Z6: 21 | AA6: 4 | AB6: 12 | AC6: 22
B7: 2 | C7: 근린 | D7: 중부 | E7: 동화마을 생태공원 | F7: 봉담읍 동화리 573, 587일원 | G7: 2008 | H7: 161978.2 | I7: 2024.08. 꽃길조성사업 추가 | L7: 3 | M7: 2 | O7: 25 | P7: 21 | Q7: 2 | T7: 6 | V7: 2 | W7: 2 | X7: 1 | Y7: 1 | Z7: 87 | AB7: 92
B8: =COUNT(B9:B23) -> 15 | C8: 어린이공원 | H8: =SUM(H9:H23) -> 39342 | J8: =SUM(J9:J23) -> 3 | K8: =SUM(K9:K23) -> 1 | L8: =SUM(L9:L23) -> 2 | M8: =SUM(M9:M23) -> 20 | N8: =SUM(N9:N23) -> 0 | O8: =SUM(O9:O23) -> 63 | P8: =SUM(P9:P23) -> 80 | Q8: =SUM(Q9:Q23) -> 15 | ... AC8: =SUM(AC9:AC23) -> 0
B9: 1 | C9: 어린이 | D9: 봉담2 | E9: 한울1호공원 | F9: 봉담읍 수영리 672-3 | G9: 2008 | H9: 3150 | M9: 4 | O9: 4 | P9: 12 | Q9: 1 | T9: 5 | U9: 1 | Z9: 8 | AB9: 3
B10: 2 | C10: 어린이 | D10: 봉담2 | E10: 한울2호공원 | F10: 봉담읍 수영리 673-2 | G10: 2008 | H10: 1500 | M10: 1 | P10: 6 | Q10: 1 | T10: 3 | AA10: 6 | AB10: 4
B11: 3 | C11: 어린이 | D11: 봉담2 | E11: 한울2-1호공원 | F11: 봉담읍 수영리 676, 677 | G11: 2008 | H11: 3982 | M11: 1 | O11: 8 | Q11: 1 | U11: 1 | Z11: 7
B12: 4 | C12: 어린이 | D12: 봉담2 | E12: 봉담수영 어린이공원 | F12: 봉담읍 수영리 406-6 | G12: 2007 | H12: 2284 | M12: 2 | P12: 15 | Q12: 1 | T12: 4 | Z12: 6
B13: 5 | C13: 어린이 | D13: 중부 | E13: 와우남촌 어린이공원 | F13: 봉담읍 와우리 52-5일원 | G13: 2005 | H13: 1477 | M13: 1 | P13: 2 | Q13: 1 | T13: 7 | AA13: 4
B14: 6 | C14: 어린이 | D14: 중부 | E14: 봉담아이파크 어린이공원(하늘공원) | F14: 봉담읍 와우리 590-1 | G14: 2009 | H14: 1501 | L14: 1 | M14: 1 | P14: 1 | Q14: 1 | R14: 1 | T14: 3 | U14: 1 | Z14: 8
B15: 7 | C15: 어린이 | D15: 중부 | E15: 봉담상리 어린이공원 | F15: 봉담읍 상리 619 | G15: 2007 | H15: 1900.8 | M15: 2 | O15: 2 | P15: 3 | Q15: 1 | Z15: 6
B16: 8 | C16: 어린이 | D16: 중부 | E16: 봉담호수 어린이공원 | F16: 봉담읍 상리 22-76일원 (상리 22-13) | G16: 2008 | H16: 3120 | K16: 1 | AA16: 2
B17: 9 | C17: 어린이 | D17: 중부 | E17: 피아노숲공원(1호) | F17: 봉담읍 동화리 565 | G17: 2008 | H17: 2114 | M17: 2 | O17: 1 | P17: 11 | Q17: 1 | R17: 1 | T17: 4 | Z17: 11
B18: 10 | C18: 어린이 | D18: 중부 | E18: 달그림자공원(2호) | F18: 봉담읍 동화리 578 | G18: 2008 | H18: 3037.3 | I18: 2023.12 리모델링 | J18: 1 | O18: 6 | Q18: 1 | R18: 1 | T18: 3 | Z18: 9
B19: 11 | C19: 어린이 | D19: 중부 | E19: 물소리공원(3호) → 동화어린이공원 | F19: 봉담읍 동화리 613 | G19: 2008 | H19: 3539.3 | M19: 2 | O19: 12 | P19: 2 | Q19: 2 | T19: 4 | Z19: 13
B20: 12 | C20: 어린이 | D20: 중부 | E20: 산새들공원(4호) | F20: 봉담읍 동화리 605 | G20: 2008 | H20: 3654 | J20: 1 | M20: 1 | P20: 8 | Q20: 1 | T20: 3 | Z20: 8
B21: 13 | C21: 어린이 | D21: 중부 | E21: 솔향기공원(5호) | F21: 봉담읍 동화리 633 | G21: 2008 | H21: 3379.5 | J21: 1 | M21: 1 | O21: 14 | P21: 8 | Q21: 1 | R21: 1 | S21: 2 | T21: 3 | Z21: 11
B22: 14 | C22: 어린이 | D22: 봉담2 | E22: 한울3호 어린이공원 | F22: 봉담읍 수영리 680 | G22: 2017 | H22: 2983 | M22: 1 | O22: 4 | P22: 8 | Q22: 1 | R22: 1 | S22: 2 | T22: 4 | U22: 1 | Z22: 13
B23: 15 | C23: 어린이 | D23: 중부 | E23: 도토리공원 | F23: 봉담읍 동화리 227 | G23: 2023 | H23: 1720.1 | I23: 2023.10 인수인계(동화3지구 어린이공원) | L23: 1 | M23: 1 | O23: 12 | P23: 4 | Q23: 1 | R23: 1 | T23: 4 | U23: 1 | Z23: 10
B24: =COUNT(B25:B26) -> 2 | C24: 소공원 | H24: =SUM(H25:H26) -> 9100 | J24: =SUM(J25:J26) -> 0 | K24: =SUM(K25:K26) -> 1 | L24: =SUM(L25:L26) -> 2 | M24: =SUM(M25:M26) -> 4 | N24: =SUM(N25:N26) -> 0 | O24: =SUM(O25:O26) -> 18 | P24: =SUM(P25:P26) -> 8 | Q24: =SUM(Q25:Q26) -> 0 | ... AC24: =SUM(AC25:AC26) -> 0
B25: 1 | C25: 소공원 | D25: 중부 | E25: 해오름공원 | F25: 봉담읍 와우리 215 | G25: 2010 | H25: 4571 | K25: 1 | L25: 1 | M25: 4 | O25: 16 | P25: 4 | T25: 6 | U25: 1 | V25: 1 | Z25: 13
B26: 2 | C26: 소공원 | D26: 중부 | E26: 신동아파밀리에아파트 소공원 | F26: 봉담읍 동화리 441-5 일원 | G26: 2015 | H26: 4529 | L26: 1 | O26: 2 | P26: 4 | T26: 8 | Z26: 7 | AB26: 8
B27: =COUNT(B28) -> 1 | C27: 문화공원 | H27: =SUM(H28:H28) -> 4589.5 | J27: =SUM(J28:J28) -> 0 | K27: =SUM(K28:K28) -> 0 | L27: =SUM(L28:L28) -> 0 | M27: =SUM(M28:M28) -> 3 | N27: =SUM(N28:N28) -> 0 | O27: =SUM(O28:O28) -> 26 | P27: =SUM(P28:P28) -> 3 | Q27: =SUM(Q28:Q28) -> 1 | ... AC27: =SUM(AC28:AC28) -> 0
B28: 1 | C28: 문화 | D28: 중부 | E28: 와우리 문화공원(코리요 문화공원) | F28: 봉담읍 와우리 595 | G28: 2016 | H28: 4589.5 | M28: 3 | O28: 26 | P28: 3 | Q28: 1 | Z28: 7
B29: =COUNT(B30:B32) -> 3 | C29: 쌈지공원 | H29: =SUM(H30:H31) -> 395 | J29: =SUM(J30:J32) -> 0 | K29: =SUM(K30:K32) -> 0 | L29: =SUM(L30:L32) -> 0 | M29: =SUM(M30:M32) -> 1 | N29: =SUM(N30:N32) -> 0 | O29: =SUM(O30:O32) -> 4 | P29: =SUM(P30:P32) -> 2 | Q29: =SUM(Q30:Q32) -> 1 | ... AC29: =SUM(AC30:AC32) -> 0
B30: 1 | C30: 쌈지 | D30: 중부 | E30: 협성대 앞 쌈지공원 | F30: 봉담읍 상리 15-38 | G30: 2010 | H30: 268 | O30: 2
B31: 2 | C31: 쌈지 | D31: 중부 | E31: 동화리 어린이놀이터(동화리 쌈지공원) | F31: 동화리 562-15 일원 | G31: 2018 | H31: 127 | I31: 2020.06 편입 | Q31: 1
B32: 3 | C32: 쌈지 | D32: 중부 | E32: 수영리 쌈지공원 | F32: 봉담읍 수영리 341-1 | G32: 2024.06.26. | H32: 222 | I32: 2025.01. 인수인계 | M32: 1 | O32: 2 | P32: 2 | T32: 1
B33: =COUNT(B34) -> 1 | C33: 미관광장 | H33: =H34 -> 75 | J33: =SUM(J34) -> 1 | K33: =SUM(K34) -> 0 | L33: =SUM(L34) -> 0 | M33: =SUM(M34) -> 0 | N33: =SUM(N34) -> 0 | O33: =SUM(O34) -> 0 | P33: =SUM(P34) -> 0 | Q33: =SUM(Q34) -> 0 | ... AC33: =SUM(AC34) -> 8
B34: 1 | C34: 보행자도로 | D34: 중부 | E34: 봉담 보행자 도로 수경시설 | F34: 봉담읍 동화리 601 | H34: 75 | J34: 1 | AC34: 8
B35: =COUNT(B36:B41) -> 6 | C35: 공공공지 | H35: =SUM(H36:H41) -> 13085 | J35: =SUM(J36:J41) -> 0 | K35: =SUM(K36:K41) -> 0 | L35: =SUM(L36:L41) -> 1 | M35: =SUM(M36:M41) -> 0 | N35: =SUM(N36:N41) -> 1 | O35: =SUM(O36:O41) -> 22 | P35: =SUM(P36:P41) -> 0 | Q35: =SUM(Q36:Q41) -> 0 | ... AC35: =SUM(AC36:AC41) -> 41
B36: 1 | C36: 공공공지 | D36: 중부 | E36: 동화리 공공공지 1호 | F36: 봉담읍 동화리 301-13 | G36: 2016 | H36: 228 | I36: 2021.04 신규위탁
B37: 2 | C37: 공공공지 | D37: 중부 | E37: 동화리 공공공지 2호 | F37: 봉담읍 동화리 301-15 | G37: 2016 | H37: 602 | I37: 2021.04 신규위탁 | O37: 4
B38: 3 | C38: 공공공지 | D38: 중부 | E38: 동화리 공공공지 3호 | F38: 봉담읍 동화리 305-6 | G38: 2016 | H38: 657 | I38: 2021.04 신규위탁
B39: 4 | C39: 공공공지 | D39: 중부 | E39: 동화리 공공공지 4호 | F39: 봉담읍 동화리 391 | G39: 2016 | H39: 209 | I39: 2021.04 신규위탁
B40: 5 | C40: 공공공지 | D40: 중부 | E40: 동화리 공공공지 5호 | F40: 봉담읍 동화리 397 | G40: 2016 | H40: 255 | I40: 2021.04 신규위탁
B41: 6 | C41: 공공공지 | D41: 봉담2 | E41: 수인선 수영 숲길(상부공원) | F41: 봉담읍 수영리 412-1 | G41: 2021 | H41: 11134 | I41: 2022.12 위수탁 추가 | L41: 1 | N41: 1 | O41: 18 | T41: 4 | Z41: 39 | AB41: 34 | AC41: 41
B42: =SUM(B5,B8,B24,B27,B29,B33,B35) -> 30 | H42: =SUM(H5,H8,H24,H27,H29,H33,H35) -> 247846.7 | J42: =SUM(J5,J8,J24,J27,J29,J33,J35) -> 6 | K42: =SUM(K5,K8,K24,K27,K29,K33,K35) -> 2 | L42: =SUM(L5,L8,L24,L27,L29,L33,L35) -> 8 | M42: =SUM(M5,M8,M24,M27,M29,M33,M35) -> 33 | N42: =SUM(N5,N8,N24,N27,N29,N33,N35) -> 3 | O42: =SUM(O5,O8,O24,O27,O29,O33,O35) -> 164 | P42: =SUM(P5,P8,P24,P27,P29,P33,P35) -> 132 | Q42: =SUM(Q5,Q8,Q24,Q27,Q29,Q33,Q35) -> 19 | ... AC42: =SUM(AC5,AC8,AC24,AC27,AC29,AC33,AC35) -> 71
A43: 봉담 2지구 | B43: =COUNT(B44:B46) -> 3 | C43: 근린공원 | H43: =SUM(H44:H46) -> 75937.8 | J43: =SUM(J44:J46) -> 1 | K43: =SUM(K44:K46) -> 1 | L43: =SUM(L44:L46) -> 1 | M43: =SUM(M44:M46) -> 21 | N43: =SUM(N44:N46) -> 13 | O43: =SUM(O44:O46) -> 66 | P43: =SUM(P44:P46) -> 39 | Q43: =SUM(Q44:Q46) -> 2 | ... AC43: =SUM(AC44:AC46) -> 14
B44: 1 | C44: 근린 | D44: 봉담2 | E44: 삼봉근린공원(1호 근린) | F44: 봉담읍 상리 713 | G44: 2019 | H44: 32227 | I44: 2021.07 신규위탁 | K44: 1 | M44: 9 | N44: 13 | O44: 38 | P44: 27 | Q44: 1 | R44: 1 | S44: 2 | T44: 10 | U44: 2 | V44: 1 | X44: 1 | Z44: 59 | AB44: 24 | AC44: 14
B45: 2 | C45: 근린 | D45: 봉담2 | E45: 들녘오름공원(2호 근린) | F45: 봉담읍 수영리 698 | G45: 2019 | H45: 29039.8 | I45: 2021.07 신규위탁 | J45: 1 | L45: 1 | M45: 12 | O45: 28 | P45: 12 | Q45: 1 | R45: 1 | S45: 1 | T45: 5 | U45: 2 | V45: 1 | Z45: 49 | AB45: 3
B46: 3 | C46: 근린 | D46: 봉담2 | E46: 내리숲공원(내리지구) | F46: 봉담읍 내리 547 | G46: 2024 | H46: 14671 | I46: 2024.12.신규위탁 | Z46: 32
B47: =COUNT(B48:B52) -> 5 | C47: 어린이공원 | H47: =SUM(H48:H52) -> 8132 | J47: =SUM(J48:J52) -> 0 | K47: =SUM(K48:K52) -> 0 | L47: =SUM(L48:L52) -> 0 | M47: =SUM(M48:M52) -> 9 | N47: =SUM(N48:N52) -> 0 | O47: =SUM(O48:O52) -> 14 | P47: =SUM(P48:P52) -> 0 | Q47: =SUM(Q48:Q52) -> 4 | ... AC47: =SUM(AC48:AC52) -> 0
B48: 1 | C48: 어린이 | D48: 봉담2 | E48: 도란도란 어린이공원 | F48: 봉담읍 상리 654-1 | G48: 2019 | H48: 1907 | I48: 2021.07 신규위탁 | M48: 3 | O48: 5 | Q48: 1 | R48: 1 | S48: 1 | T48: 5 | U48: 1 | Z48: 11
B49: 2 | C49: 어린이 | D49: 봉담2 | E49: 무럭무럭 어린이공원 | F49: 봉담읍 수영리 690-1 | G49: 2019 | H49: 1823 | I49: 2021.07 신규위탁 | M49: 2 | Q49: 1 | R49: 1 | S49: 2 | T49: 5 | U49: 1 | Z49: 11
B50: 3 | C50: 어린이 | D50: 봉담2 | E50: 하늘하늘 어린이공원 | F50: 봉담읍 상리 632-10 | G50: 2019 | H50: 1499 | I50: 2021.07 신규위탁 | M50: 2 | Q50: 1 | U50: 1 | Z50: 12
B51: 4 | C51: 어린이 | D51: 봉담2 | E51: 오순도순 어린이공원(봉담1호 어린이) | F51: 봉담읍 수영리 650-68일원, 650-26일원 | G51: 2003 | H51: 1200 | I51: 2020 리모델링 | M51: 2 | O51: 9 | Q51: 1 | T51: 4 | Z51: 8
B52: 5 | C52: 어린이 | D52: 봉담2 | E52: 꽃망울어린이공원(내리지구) | F52: 봉담읍 내리 562-3 | G52: 2024 | H52: 1703 | I52: 2024.12.신규위탁 | Z52: 5
B53: =COUNT(B54:B57) -> 4 | C53: 소공원 | H53: =SUM(H54:H57) -> 5099 | J53: =SUM(J54:J54) -> 0 | K53: =SUM(K54:K54) -> 0 | L53: =SUM(L54:L54) -> 0 | M53: =SUM(M54:M54) -> 0 | N53: =SUM(N54:N54) -> 0 | O53: =SUM(O54:O54) -> 0 | P53: =SUM(P54:P54) -> 0 | Q53: =SUM(Q54:Q54) -> 0 | ... AC53: =SUM(AC54:AC54) -> 0
B54: 1 | C54: 소공원 | D54: 봉담2 | E54: 풀내읍 소공원 | F54: 봉담읍 상리 627-11 | G54: 2019 | H54: 393 | I54: 2021.07 신규위탁 | Z54: 3
B55: 2 | C55: 소공원 | D55: 봉담2 | E55: 햇살 소공원(내리지구) | F55: 봉담읍 내리 330-8 | G55: 2024 | H55: 2015 | I55: 2024.12.신규위탁 | Z55: 5
B56: 3 | C56: 소공원 | D56: 봉담2 | E56: 앞들 소공원(내리지구) | F56: 봉담읍 내리 433 | G56: 2024 | H56: 1390 | I56: 2024.12.신규위탁 | Z56: 3
B57: 4 | C57: 소공원 | D57: 봉담2 | E57: 능골 소공원(내리지구) | F57: 봉담읍 내리 476-2 | G57: 2024 | H57: 1301 | I57: 2024.12.신규위탁 | Z57: 3
B58: =COUNT(B59) -> 1 | C58: 체육공원 | H58: =SUM(H59) -> 85608 | J58: =SUM(J59) -> 0 | K58: =SUM(K59) -> 0 | L58: =SUM(L59) -> 1 | M58: =SUM(M59) -> 7 | N58: =SUM(N59) -> 0 | O58: =SUM(O59) -> 21 | P58: =SUM(P59) -> 21 | Q58: =SUM(Q59) -> 0 | ... AC58: =SUM(AC59) -> 0
B59: 1 | C59: 체육 | D59: 봉담2 | E59: 생태체육공원 | F59: 봉담읍 상리 716 | G59: 2019 | H59: 85608 | I59: 2021.07 신규위탁 | L59: 1 | M59: 7 | O59: 21 | P59: 21 | T59: 25 | U59: 1 | V59: 1 | W59: 1 | X59: 1 | Y59: 1 | Z59: 107 | AB59: 5
B60: =COUNT(B61) -> 1 | C60: 문화공원 | H60: =SUM(H61:H61) -> 17409.4 | J60: =SUM(J61:J61) -> 0 | K60: =SUM(K61:K61) -> 0 | L60: =SUM(L61:L61) -> 0 | M60: =SUM(M61:M61) -> 6 | N60: =SUM(N61:N61) -> 0 | O60: =SUM(O61:O61) -> 27 | P60: =SUM(P61:P61) -> 12 | Q60: =SUM(Q61:Q61) -> 0 | ... AC60: =SUM(AC61:AC61) -> 33
B61: 1 | C61: 문화 | D61: 봉담2 | E61: 어울림공원 | F61: 봉담읍 상리 708 | G61: 2019 | H61: 17409.4 | I61: 2021.07 신규위탁 | M61: 6 | O61: 27 | P61: 12 | T61: 5 | Z61: 61 | AB61: 19 | AC61: 33
B62: =COUNT(B63:B66) -> 4 | C62: 공공공지 | H62: =SUM(H63:H66) -> 4707.4 | J62: =SUM(J63:J66) -> 0 | K62: =SUM(K63:K66) -> 0 | L62: =SUM(L63:L66) -> 0 | M62: =SUM(M63:M66) -> 0 | N62: =SUM(N63:N66) -> 0 | O62: =SUM(O63:O66) -> 0 | P62: =SUM(P63:P66) -> 0 | Q62: =SUM(Q63:Q66) -> 0 | ... AC62: =SUM(AC63:AC66) -> 0
B63: 1 | C63: 공공공지 | D63: 봉담2 | E63: 봉담2 공공공지 1호 | F63: 봉담읍 상리 687-5 | G63: 2019 | H63: 717.7 | I63: 2021.07 신규위탁 | Z63: 2
B64: 2 | C64: 공공공지 | D64: 봉담2 | E64: 봉담2 공공공지 2호 | F64: 봉담읍 상리 688-3 | G64: 2019 | H64: 2004.7 | I64: 2021.07 신규위탁 | Z64: 2
B65: 3 | C65: 공공공지 | D65: 봉담2 | E65: 내리지구 공공공지 1호 | F65: 봉담읍 내리 562-2 | G65: 2024 | H65: 1140 | I65: 2024.12.신규위탁
B66: 4 | C66: 공공공지 | D66: 봉담2 | E66: 내리지구 공공공지 2호 | F66: 봉담읍 내리 537-1 | G66: 2024 | H66: 845 | I66: 2024.12.신규위탁
B67: =SUM(B43,B47,B53,B58,B60,B62) -> 18 | H67: =SUM(H43,H47,H53,H58,H60,H62) -> 196893.6 | J67: =SUM(J43,J47,J53,J58,J60,J62) -> 1 | K67: =SUM(K43,K47,K53,K58,K60,K62) -> 1 | L67: =SUM(L43,L47,L53,L58,L60,L62) -> 2 | M67: =SUM(M43,M47,M53,M58,M60,M62) -> 43 | N67: =SUM(N43,N47,N53,N58,N60,N62) -> 13 | O67: =SUM(O43,O47,O53,O58,O60,O62) -> 128 | P67: =SUM(P43,P47,P53,P58,P60,P62) -> 72 | Q67: =SUM(Q43,Q47,Q53,Q58,Q60,Q62) -> 6 | ... AC67: =SUM(AC43,AC47,AC53,AC58,AC60,AC62) -> 47
A68: 동부2 | B68: =COUNT(B69) -> 1 | C68: 근린공원 | H68: =SUM(H69:H69) -> 17391 | J68: =SUM(J69:J69) -> 0 | K68: =SUM(K69:K69) -> 0 | L68: =SUM(L69:L69) -> 1 | M68: =SUM(M69:M69) -> 0 | N68: =SUM(N69:N69) -> 0 | O68: =SUM(O69:O69) -> 0 | P68: =SUM(P69:P69) -> 29 | Q68: =SUM(Q69:Q69) -> 0 | ... AC68: =SUM(AC69:AC69) -> 0
B69: 1 | C69: 근린 | D69: 안녕 | E69: 현충공원 | F69: 송산동 224 일원 | G69: 2018 | H69: 17391 | I69: 2023.01 공원1부권역 이관 | L69: 1 | P69: 29 | T69: 4 | U69: 1 | V69: 1 | Y69: 1 | Z69: 10 | AB69: 20
B70: =COUNT(B71:B82) -> 12 | C70: 어린이 | H70: =SUM(H71:H82) -> 27425 | J70: =SUM(J71:J82) -> 1 | K70: =SUM(K71:K82) -> 0 | L70: =SUM(L71:L82) -> 3 | M70: =SUM(M71:M82) -> 19 | N70: =SUM(N71:N82) -> 1 | O70: =SUM(O71:O82) -> 25 | P70: =SUM(P71:P82) -> 49 | Q70: =SUM(Q71:Q82) -> 11 | ... AC70: =SUM(AC71:AC82) -> 0
B71: 1 | C71: 어린이 | D71: 안녕 | E71: 서작현 어린이공원 | F71: 송산동 155-27 일원 | G71: 2005 | H71: 2300 | I71: 2023.01 공원1부권역 이관 | M71: 1 | N71: 1 | O71: 6 | P71: 3 | Q71: 3 | T71: 4 | Z71: 8 | AB71: 2
B72: 2 | C72: 어린이 | D72: 안녕 | E72: 솔뫼 어린이공원(안녕나들공원) | F72: 안녕동 213 | G72: 2006 | H72: 1555 | I72: 2023.01 공원1부권역 이관 | J72: 1 | M72: 1 | P72: 6 | T72: 3 | Z72: 1 | AA72: 8 | AB72: 5
B73: 3 | C73: 어린이 | D73: 중부 | E73: 야생초 어린이공원 | F73: 기안동 896 | G73: 2004 | H73: 3514 | L73: 1 | M73: 2 | P73: 4 | T73: 6 | Z73: 6
B74: 4 | C74: 어린이 | D74: 중부 | E74: 수국 어린이공원 | F74: 기안동 903 | G74: 2004 | H74: 1070 | M74: 2 | P74: 6 | Q74: 1 | T74: 2 | AB74: 8
B75: 5 | C75: 어린이 | D75: 중부 | E75: 미로 어린이공원 | F75: 기안동 914 | G75: 2004 | H75: 2540 | M75: 3 | P75: 4 | Q75: 1 | S75: 2 | AA75: 5
B76: 6 | C76: 어린이 | D76: 중부 | E76: 솔빛 어린이공원 | F76: 기안동 918 | G76: 2004 | H76: 1068.1 | O76: 1 | P76: 4 | Q76: 1 | R76: 1 | AA76: 1
B77: 7 | C77: 어린이 | D77: 중부 | E77: 나눔 어린이공원 | F77: 기안동 915 | G77: 2004 | H77: 3673 | L77: 1 | M77: 3 | P77: 8 | Q77: 1 | T77: 12 | AA77: 6
B78: 8 | C78: 어린이 | D78: 중부 | E78: 별향 어린이공원 | F78: 기안동 916 | G78: 2004 | H78: 4342 | I78: 2023.11 어린이놀이시설 정비 공사 | M78: 2 | O78: 6 | R78: 1 | T78: 1 | Z78: 1 | AA78: 6
B79: 9 | C79: 어린이 | D79: 중부 | E79: 해피트리 어린이공원 | F79: 기안동 917 | G79: 2004 | H79: 2231 | M79: 1 | O79: 1 | P79: 1 | Z79: 5
B80: 10 | C80: 어린이 | D80: 중부 | E80: 광도아파트 어린이공원 | F80: 기안동 329-5 일원 | G80: 2003 | H80: 1578 | L80: 1 | M80: 1 | P80: 4 | Q80: 2 | T80: 4 | Z80: 5
B81: 11 | C81: 어린이 | D81: 중부 | E81: 새싹 어린이공원 | F81: 기안동 426-7번지 | G81: 2022 | H81: 2051.9 | I81: 2022.09 인수인계(기안지구) | M81: 1 | O81: 4 | P81: 3 | Q81: 1 | R81: 1 | S81: 4 | T81: 4 | U81: 1 | Z81: 5 | AA81: 2
B82: 12 | C82: 어린이 | D82: 안녕 | E82: 한솔 어린이공원(1호 어린이공원) | F82: 송산동 256-1 | G82: 2022 | H82: 1502 | I82: 2023.07 인수인계(태안3지구 1단계) | M82: 2 | O82: 7 | P82: 6 | Q82: 1 | R82: 2 | S82: 2 | U82: 1 | Z82: 9
B83: =COUNT(B84:B84) -> 1 | C83: 소공원 | H83: =SUM(H84:H84) -> 850.3 | J83: =SUM(J84:J84) -> 0 | K83: =SUM(K84:K84) -> 0 | L83: =SUM(L84:L84) -> 0 | M83: =SUM(M84:M84) -> 1 | N83: =SUM(N84:N84) -> 0 | O83: =SUM(O84:O84) -> 2 | P83: =SUM(P84:P84) -> 0 | Q83: =SUM(Q84:Q84) -> 0 | ... AC83: =SUM(AC84:AC84) -> 0
B84: 1 | C84: 소공원 | D84: 중부 | E84: 기안3 소공원 | F84: 기안동 456-96번지 | G84: 2022 | H84: 850.3 | I84: 2022.09 인수인계(기안지구) | M84: 1 | O84: 2 | T84: 3 | Z84: 6
B85: =COUNT(B86:B88) -> 3 | C85: 수변공원 | H85: =SUM(H86:H88) -> 20507.1 | J85: =SUM(J86:J88) -> 1 | K85: =SUM(K86:K88) -> 0 | L85: =SUM(L86:L88) -> 0 | M85: =SUM(M86:M88) -> 4 | N85: =SUM(N86:N88) -> 0 | O85: =SUM(O86:O88) -> 30 | P85: =SUM(P86:P88) -> 12 | Q85: =SUM(Q86:Q88) -> 2 | ... AC85: =SUM(AC86:AC88) -> 8
B86: 1 | C86: 수변 | D86: 안녕 | E86: 안녕일 수변공원 | F86: 안녕동 225 | G86: 2017 | H86: 6765 | I86: 2023.01 공원1부권역 이관 | J86: 1 | M86: 2 | O86: 6 | P86: 6 | Q86: 1 | T86: 5 | Z86: 21(태양광)
B87: 2 | C87: 수변 | D87: 중부 | E87: 물빛공원 | F87: 와우리 134-2 | G87: 2022 | H87: 3659.1 | I87: 2022.09 인수인계(기안지구) | M87: 2 | P87: 6 | Q87: 1 | S87: 3 | T87: 8 | Z87: 10
B88: 3 | C88: 수변 | D88: 안녕 | E88: 해담공원(1호 수변공원) | F88: 송산동 237-1,2,3, 안녕동 244-1,2,3 | G88: 2022 | H88: 10083 | I88: 2023.07 인수인계(태안3지구 1단계) | O88: 24 | T88: 15 | Z88: 55 | AC88: 8
B89: =COUNT(B90:B91) -> 2 | C89: 역사공원 | H89: =SUM(H90:H91) -> 138705.7 | J89: =SUM(J90:J91) -> 0 | K89: =SUM(K90:K91) -> 0 | L89: =SUM(L90:L91) -> 10 | M89: =SUM(M90:M91) -> 18 | N89: =SUM(N90:N91) -> 0 | O89: =SUM(O90:O91) -> 83 | P89: =SUM(P90:P91) -> 192 | Q89: =SUM(Q90:Q91) -> 0 | ... AC89: =SUM(AC90:AC91) -> 9
B90: 1 | C90: 역사 | D90: 중부 | E90: 기배역사공원 | F90: 기안동 457-543 | G90: 2019 | H90: 16077.7 | M90: 7 | O90: 12 | P90: 19 | T90: 7 | U90: 1 | V90: 1 | X90: 1 | Y90: 1 | Z90: 18 | AB90: 18 | AC90: 9
B91: 2 | C91: 역사 | D91: 안녕 | E91: 정조효공원 | F91: 안녕동 228 | G91: 2022 | H91: 122628 | I91: 2023.07 인수인계(태안3지구 1단계) | L91: 10 | M91: 11 | O91: 71 | P91: 173 | U91: 1 | V91: 1 | X91: 1 | Y91: 1 | Z91: 187
B92: =COUNT(B93:B102) -> 10 | C92: 쌈지 | H92: =SUM(H93:H102) -> 9595 | J92: =SUM(J93:J102) -> 0 | K92: =SUM(K93:K102) -> 0 | L92: =SUM(L93:L102) -> 4 | M92: =SUM(M93:M102) -> 4 | N92: =SUM(N93:N102) -> 0 | O92: =SUM(O93:O102) -> 12 | P92: =SUM(P93:P102) -> 21 | Q92: =SUM(Q93:Q102) -> 1 | ... AC92: =SUM(AC93:AC102) -> 3
B93: 1 | C93: 쌈지 | D93: 중부 | E93: 품못골저수지 쉼터 | F93: 배양동 69-6 일원 | G93: 2007 | H93: 2400 | M93: 1 | O93: 1 | P93: 3 | T93: 4 | AA93: 5
B94: 2 | C94: 쌈지 | D94: 안녕 | E94: 동문아파트 소공원 | F94: 안녕동 71-780 일원 | G94: 2007 | H94: 2067 | I94: 2023.01 공원1부권역 이관 | M94: 1 | P94: 6 | T94: 7
B95: 3 | C95: 쌈지 | D95: 안녕 | E95: 안녕동 쌈지공원(1) | F95: 안녕동 190-102, 103 | G95: 2012 | H95: 996 | I95: 2023.01 공원1부권역 이관 | M95: 1 | O95: 2 | P95: 3 | T95: 8
B96: 4 | C96: 쌈지 | D96: 안녕 | E96: 안녕동 쌈지공원(2) | F96: 안녕동 190-77 | G96: 2015 | H96: 802 | I96: 2023.01 공원1부권역 이관 | M96: 1 | O96: 3 | P96: 3 | Q96: 1 | T96: 3 | AC96: 3
B97: 5 | C97: 쌈지 | D97: 안녕 | E97: 안녕동 쌈지공원(3) | F97: 안녕동 119-4 | G97: 2019 | H97: 403 | I97: 2023.01 공원1부권역 이관 | L97: 1 | O97: 3 | Z97: 2 | AB97: 3
B98: 6 | C98: 쌈지 | D98: 안녕 | E98: 안녕동 쌈지공원(4) | F98: 안녕동 71-651 | G98: 2023 | H98: 250 | I98: 2024.05 인수인계 | L98: 2 | P98: 6 | T98: 4
B99: 7 | C99: 쌈지 | D99: 안녕 | E99: 황계공원 | F99: 황계동 152-116 | G99: 2017 | H99: 540 | I99: 2023.01 공원1부권역 이관 | L99: 1 | O99: 3 | T99: 5 | Z99: 4
B100: 8 | C100: 쌈지 | D100: 안녕 | E100: 원송산 마을 쌈지공원(송산동 쌈지) | F100: 송산동 202-9 | G100: 2020 | H100: 107 | I100: 2023.01 공원1부권역 이관
...

Sheet 남부
A1: ▣ 남부권역 | E1: (향남1, 향남2, 양감, 팔탄, 우정장안)
A2: 권역 | B2: 개소 | C2: 공원종류 | D2: 청소권역 | E2: 공원명 | F2: 위치 | G2: 조성일자 | H2: 조성면적 | I2: 비고 | J2: 조경시설 | K2: 조경시설 | L2: 휴양시설 | M2: 휴양시설 | N2: 휴양시설 | O2: 휴양시설 | P2: 휴양시설 | Q2: 유희시설 | R2: 유희시설 | S2: 유희시설 | T2: 운동시설 | U2: 편익시설 | V2: 편익시설 | W2: 편익시설 | X2: 관리시설 | Y2: 관리시설 | Z2: 관리시설 | AA2: 관리시설 | AB2: 관리시설 | AC2: 관리시설
J3: 수경시설 | K3: 물놀이장 | L3: 정자(평상) | M3: 파고라 | N3: 기타파고라 | O3: 등의자 (스윙벤치) | P3: 평의자(석의자) | Q3: 조합놀이대 | R3: 그네 | S3: 시소 | T3: 운동기구 (생체) | U3: 음수전 (세족장포함) | V3: 화장실 | W3: 신발털이대 | X3: 관리실 (휴게실 포함) | Y3: 주차장 | Z3: 보안등(1등용) | AA3: 보안등(2등용) | AB3: 볼라드 등 | AC3: 기타 조명
B4: =SUM(B38,B82,B89,B94,B97,B121) -> 88 | C4: =SUM(C38,C82,C89,C94,C97) -> 0 | D4: =SUM(D38,D82,D89,D94,D97) -> 0 | E4: =SUM(E38,E82,E89,E94,E97) -> 0 | F4: =SUM(F38,F82,F89,F94,F97) -> 0 | G4: =SUM(G38,G82,G89,G94,G97) -> 0 | H4: =SUM(H38,H82,H89,H94,H97,H121) -> 1735987.6 | I4: =SUM(I38,I82,I89,I94,I97) -> 0 | J4: =SUM(J38,J82,J89,J94,J97,J121) -> 13 | K4: =SUM(K38,K82,K89,K94,K97,K121) -> 3 | L4: =SUM(L38,L82,L89,L94,L97,L121) -> 50 | M4: =SUM(M38,M82,M89,M94,M97,M121) -> 178 | N4: =SUM(N38,N82,N89,N94,N97,N121) -> 0 | O4: =SUM(O38,O82,O89,O94,O97,O121) -> 411 | P4: =SUM(P38,P82,P89,P94,P97,P121) -> 633 | Q4: =SUM(Q38,Q82,Q89,Q94,Q97,Q121) -> 30 | ... AC4: =SUM(AC38,AC82,AC89,AC94,AC97,AC121) -> 359
A5: 향남1 | B5: =COUNT(B6:B12) -> 7 | C5: 근린공원 | H5: =SUM(H6:H12) -> 187059.9 | J5: =SUM(J6:J12) -> 3 | K5: =SUM(K6:K12) -> 0 | L5: =SUM(L6:L12) -> 6 | M5: =SUM(M6:M12) -> 42 | N5: =SUM(N6:N12) -> 0 | O5: =SUM(O6:O12) -> 94 | P5: =SUM(P6:P12) -> 119 | Q5: =SUM(Q6:Q12) -> 1 | ... AC5: =SUM(AC6:AC12) -> 4
B6: 1 | C6: 근린 | D6: 남부 | E6: 옴뿌리산 근린공원 | F6: 향남읍 발안리 251 | G6: 2003 | H6: 2444 | L6: 1 | M6: 1 | O6: 7 | T6: 2 | AA6: 3
B7: 2 | C7: 근린 | D7: 남부 | E7: 하길 근린공원 | F7: 향남읍 하길리 1409-1 | G7: 2005 | H7: 30201.2 | M7: 5 | P7: 21 | U7: 1 | V7: 1 | X7: 1 | Y7: 1 | Z7: 17 | AA7: 1 | AB7: 3 | AC7: 4
B8: 3 | C8: 근린 | D8: 남부 | E8: 구문천 근린공원 | F8: 향남읍 구문천리 929-18 | G8: 2005 | H8: 27794.6 | L8: 1 | M8: 2 | O8: 16 | P8: 6 | T8: 4 | Y8: 1 | Z8: 18 | AA8: 1
B9: 4 | C9: 근린 | D9: 남부 | E9: 향남1지구 1호근린(용현공원) | F9: 향남읍 행정리 460,460-2 | G9: 2009 | H9: 18678.6 | L9: 1 | M9: 7 | O9: 9 | P9: 20 | Q9: 1 | T9: 5 | U9: 1 | V9: 1 | Z9: 17 | AB9: 4
B10: 5 | C10: 근린 | D10: 남부 | E10: 향남1지구 2호근린(평원공원) | F10: 향남읍 행정리 444 | G10: 2009 | H10: 17954.3 | J10: 2 | L10: 1 | M10: 14 | O10: 9 | P10: 34 | T10: 12 | U10: 1 | V10: 1 | X10: 1 | Z10: 3 | AA10: 13 | AB10: 7
B11: 6 | C11: 근린 | D11: 남부 | E11: 향남1지구 3호근린(살구꽃공원) | F11: 향남읍 행정리 490 | G11: 2009 | H11: 46749 | J11: 1 | L11: 1 | M11: 10 | O11: 17 | P11: 30 | T11: 16 | U11: 2 | X11: 1 | Y11: 1 | Z11: 55 | AA11: 8
B12: 7 | C12: 근린 | D12: 남부 | E12: 향남1지구 4호근린(나래공원) | F12: 향남읍 행정리 525 | G12: 2009 | H12: 43238.2 | L12: 1 | M12: 3 | O12: 36 | P12: 8 | T12: 17 | Z12: 28 | AA12: 8
B13: =COUNT(B14:B26) -> 13 | C13: 어린이 | H13: =SUM(H14:H26) -> 49884.1 | J13: =SUM(J14:J26) -> 2 | K13: =SUM(K14:K26) -> 1 | L13: =SUM(L14:L26) -> 1 | M13: =SUM(M14:M26) -> 27 | N13: =SUM(N14:N26) -> 0 | O13: =SUM(O14:O26) -> 43 | P13: =SUM(P14:P26) -> 112 | Q13: =SUM(Q14:Q26) -> 11 | ... AC13: =SUM(AC14:AC26) -> 0
B14: 1 | C14: 어린이 | D14: 남부 | E14: 배틀 어린이공원 | F14: 향남읍 발안리 263 | G14: 2003 | H14: 2483.4 | M14: 1 | O14: 9 | P14: 2 | T14: 5 | AA14: 6
B15: 2 | C15: 어린이 | D15: 남부 | E15: 무궁화 어린이공원 | F15: 향남읍 발안리 296 | G15: 2003 | H15: 4049.7 | M15: 4 | P15: 12 | Q15: 1 | T15: 4 | AA15: 5
B16: 3 | C16: 어린이 | D16: 남부 | E16: 도와지뜰 어린이공원 | F16: 향남읍 발안리 307 | G16: 2003 | H16: 2851.7 | J16: 1 | M16: 1 | O16: 3 | Q16: 1 | T16: 5 | AA16: 7
B17: 4 | C17: 어린이 | D17: 남부 | E17: 미소 어린이공원 | F17: 향남읍 장짐리 235 | G17: 2007 | H17: 1585 | M17: 1 | P17: 3 | Q17: 1 | R17: 1 | T17: 6 | Z17: 6
B18: 5 | C18: 어린이 | D18: 남부 | E18: 장짐 어린이공원 | F18: 향남읍 장짐리 200-6,284-9,10,17,27,285-1,6 | G18: 2009 | H18: 6212 | J18: 1 | K18: 1 | L18: 1 | O18: 8 | T18: 8 | Z18: 14
B19: 6 | C19: 어린이 | D19: 남부 | E19: 벌말 어린이공원 | F19: 향남읍 행정리 423 | G19: 2009 | H19: 6489.3 | M19: 3 | O19: 12 | P19: 8 | Q19: 1 | T19: 5 | V19: 1 | Z19: 2 | AA19: 5
B20: 7 | C20: 어린이 | D20: 남부 | E20: 송곡 어린이공원 | F20: 향남읍 행정리 454 | G20: 2009 | H20: 4289.7 | M20: 2 | O20: 2 | P20: 14 | Q20: 1 | R20: 2 | T20: 5 | Z20: 6
B21: 8 | C21: 어린이 | D21: 남부 | E21: 작은배틀 어린이공원 | F21: 향남읍 행정리 464 | G21: 2009 | H21: 3345.8 | M21: 1 | P21: 12 | Q21: 1 | T21: 5 | Z21: 4
B22: 9 | C22: 어린이 | D22: 남부 | E22: 댓골 어린이공원 | F22: 향남읍 행정리 475-1 | G22: 2009 | H22: 3894 | M22: 5 | O22: 4 | P22: 24 | Q22: 1 | R22: 1 | T22: 5 | Z22: 5
B23: 10 | C23: 어린이 | D23: 남부 | E23: 행정 어린이공원 | F23: 향남읍 행정리 495-14 | G23: 2009 | H23: 1789 | M23: 2 | P23: 14 | Q23: 1 | T23: 5
B24: 11 | C24: 어린이 | D24: 남부 | E24: 도이 어린이공원 | F24: 향남읍 행정리 483 | G24: 2009 | H24: 2397.7 | M24: 1 | O24: 5 | P24: 6 | Q24: 1 | T24: 5 | Z24: 4
B25: 12 | C25: 어린이 | D25: 남부 | E25: 돌내 어린이공원 | F25: 향남읍 행정리 517 | G25: 2009 | H25: 1671.1 | M25: 2 | P25: 6 | Q25: 1 | T25: 5
B26: 13 | C26: 어린이 | D26: 남부 | E26: 교통 어린이공원 | F26: 향남읍 행정리 466 | G26: 2009 | H26: 8825.7 | M26: 4 | P26: 11 | Q26: 1 | Z26: 6
B27: =COUNT(B28:B29) -> 2 | C27: 소공원 | H27: =SUM(H28:H29) -> 1847.5 | J27: =SUM(J28:J29) -> 0 | K27: =SUM(K28:K29) -> 0 | L27: =SUM(L28:L29) -> 1 | M27: =SUM(M28:M29) -> 2 | N27: =SUM(N28:N29) -> 0 | O27: =SUM(O28:O29) -> 2 | P27: =SUM(P28:P29) -> 5 | Q27: =SUM(Q28:Q29) -> 0 | ... AC27: =SUM(AC28:AC29) -> 0
B28: 1 | C28: 소공원 | D28: 남부 | E28: 완두콩 소공원 | F28: 향남읍 장짐리 213-26 | G28: 2007 | H28: 273 | M28: 1 | P28: 5 | Z28: 3
B29: 2 | C29: 소공원 | D29: 남부 | E29: 발안유적공원 | F29: 향남읍 발안리 306 | G29: 2012 | H29: 1574.5 | L29: 1 | M29: 1 | O29: 2 | T29: 5 | U29: 1 | Z29: 6
B30: =COUNT(B31:B31) -> 1 | C30: 체육공원 | H30: =SUM(H31:H31) -> 70439.3 | J30: =SUM(J31:J31) -> 0 | K30: =SUM(K31:K31) -> 1 | L30: =SUM(L31:L31) -> 1 | M30: =SUM(M31:M31) -> 9 | N30: =SUM(N31:N31) -> 0 | O30: =SUM(O31:O31) -> 16 | P30: =SUM(P31:P31) -> 36 | Q30: =SUM(Q31:Q31) -> 0 | ... AC30: =SUM(AC31:AC31) -> 0
B31: 1 | C31: 체육 | D31: 남부 | E31: 도원체육공원 | F31: 향남읍 행정리 478 일원 | G31: 2009 | H31: 70439.3 | K31: 1 | L31: 1 | M31: 9 | O31: 16 | P31: 36 | T31: 9 | U31: 2 | V31: 1 | X31: 1 | Y31: 1 | Z31: 41 | AA31: 1 | AB31: 12
B32: =COUNT(B33:B35) -> 3 | C32: 쌈지 | H32: =SUM(H33:H35) -> 3772 | J32: =SUM(J33:J35) -> 0 | K32: =SUM(K33:K35) -> 0 | L32: =SUM(L33:L35) -> 2 | M32: =SUM(M33:M35) -> 1 | N32: =SUM(N33:N35) -> 0 | O32: =SUM(O33:O35) -> 8 | P32: =SUM(P33:P35) -> 0 | Q32: =SUM(Q33:Q35) -> 0 | ... AC32: =SUM(AC33:AC35) -> 0
B33: 1 | C33: 쌈지 | D33: 남부 | E33: 제암리 쌈지공원 | F33: 향남읍 제암리 478-1일원,478-28일원 | G33: 2005 | H33: 2353 | M33: 1 | O33: 4 | T33: 6 | Z33: 4
B34: 2 | C34: 쌈지 | D34: 남부 | E34: 향남 쌈지공원(궁도장) | F34: 향남읍 도이리 240-3일원 | G34: 2017 | H34: 1050 | L34: 1 | O34: 2
B35: 3 | C35: 쌈지 | D35: 남부 | E35: 구문천3리 쌈지공원 | F35: 구문천리 604-167일원 | G35: 2017 | H35: 369 | L35: 1 | O35: 2 | T35: 6
B36: =COUNT(B37:B37) -> 1 | C36: 공공공지 | H36: =SUM(H37:H37) -> 652 | J36: =SUM(J37:J37) -> 0 | K36: =SUM(K37:K37) -> 0 | L36: =SUM(L37:L37) -> 0 | M36: =SUM(M37:M37) -> 2 | N36: =SUM(N37:N37) -> 0 | O36: =SUM(O37:O37) -> 0 | P36: =SUM(P37:P37) -> 8 | Q36: =SUM(Q37:Q37) -> 0 | ... AC36: =SUM(AC37:AC37) -> 0
B37: 2 | C37: 공공공지 | D37: 남부 | E37: 평리 공공공지 | F37: 향남읍 평리 123-3일원 | G37: 2018 | H37: 652 | I37: 2022.05 리모델링 | M37: 2 | P37: 8 | T37: 4 | Z37: 5
B38: =SUM(B5,B13,B27,B30,B32,B36) -> 27 | H38: =SUM(H5,H13,H27,H30,H32,H36) -> 313654.8 | J38: =SUM(J5,J13,J27,J30,J32,J36) -> 5 | K38: =SUM(K5,K13,K27,K30,K32,K36) -> 2 | L38: =SUM(L5,L13,L27,L30,L32,L36) -> 11 | M38: =SUM(M5,M13,M27,M30,M32,M36) -> 83 | N38: =SUM(N5,N13,N27,N30,N32,N36) -> 0 | O38: =SUM(O5,O13,O27,O30,O32,O36) -> 163 | P38: =SUM(P5,P13,P27,P30,P32,P36) -> 280 | Q38: =SUM(Q5,Q13,Q27,Q30,Q32,Q36) -> 12 | ... AC38: =SUM(AC5,AC13,AC27,AC30,AC32,AC36) -> 4
A39: 향남2 | B39: =COUNT(B40:B45) -> 6 | C39: 근린공원 | H39: =SUM(H40:H45) -> 431117.5 | J39: =SUM(J40:J45) -> 1 | K39: =SUM(K40:K45) -> 0 | L39: =SUM(L40:L45) -> 4 | M39: =SUM(M40:M45) -> 20 | N39: =SUM(N40:N45) -> 0 | O39: =SUM(O40:O45) -> 62 | P39: =SUM(P40:P45) -> 59 | Q39: =SUM(Q40:Q45) -> 2 | ... AC39: =SUM(AC40:AC45) -> 11
B40: 1 | C40: 근린 | D40: 향남2 | E40: 향남2지구 1호근린(해찬벌공원) | F40: 향남읍 하길리 1446 | G40: 2016 | H40: 12039.7 | L40: 1 | M40: 1 | O40: 10 | P40: 5 | S40: 1 | T40: 5 | Z40: 25 | AB40: 5
B41: 2 | C41: 근린 | D41: 향남2 | E41: 향남2지구 2호근린(방축공원) | F41: 향남읍 하길리 1507-1,1497,방축리468 | G41: 2016 | H41: 74533.9 | L41: 1 | M41: 7 | O41: 10 | P41: 9 | Q41: 1 | R41: 1 | T41: 14 | U41: 1 | Z41: 50 | AB41: 23 | AC41: 6
B42: 3 | C42: 근린 | D42: 향남2 | E42: 향남2지구 3호근린(오음공원) | F42: 향남읍 하길리 1512,1524,1528,1528-1,상신리1252,1281 | G42: 2016 | H42: 274518.6 | J42: 1 | L42: 2 | M42: 8 | O42: 24 | P42: 26 | Q42: 1 | T42: 19 | Z42: 150 | AB42: 10
B43: 4 | C43: 근린 | D43: 향남2 | E43: 향남2지구 4호근린(신정공원) | F43: 향남읍 상신리 1257,1257-1 | G43: 2016 | H43: 16049 | M43: 1 | O43: 10 | P43: 3 | Z43: 30
B44: 5 | C44: 근린 | D44: 향남2 | E44: 향남2지구 5호근린(한우리공원) | F44: 향남읍 상신리 1308 | G44: 2016 | H44: 34892.6 | M44: 3 | O44: 8 | P44: 14 | T44: 4 | U44: 2 | Z44: 31 | AB44: 10 | AC44: 5
B45: 6 | C45: 근린 | D45: 향남2 | E45: 향남2지구 6호근린(손개공원) | F45: 향남읍 상신리 1329-1,4,5,6,7 | G45: 2016 | H45: 19083.7 | P45: 2 | Z45: 28
B46: 2 | C46: 주제공원 | H46: =SUM(H47:H48) -> 63008.6 | J46: =SUM(J47:J48) -> 1 | K46: =SUM(K47:K48) -> 0 | L46: =SUM(L47:L48) -> 1 | M46: =SUM(M47:M48) -> 3 | N46: =SUM(N47:N48) -> 0 | O46: =SUM(O47:O48) -> 8 | P46: =SUM(P47:P48) -> 10 | Q46: =SUM(Q47:Q48) -> 0 | ... AC46: =SUM(AC47:AC48) -> 23
B47: 1 | C47: 주제 | D47: 향남2 | E47: 향남2지구 1호주제(하길문화공원) | F47: 향남읍 하길리 1508 일원 | G47: 2016 | H47: 19710.5 | J47: 1 | L47: 1 | O47: 3 | V47: 1 | X47: 1 | Y47: 1 | Z47: 22 | AB47: 15 | AC47: 6
B48: 2 | C48: 주제 | D48: 향남2 | E48: 향남2지구 2호주제(풍경공원 경관작물) | F48: 향남읍 하길리 1508 일원 | G48: 2016 | H48: 43298.1 | M48: 3 | O48: 5 | P48: 10 | T48: 17 | Z48: 45 | AB48: 41 | AC48: 17
B49: =COUNT(B50:B61) -> 12 | C49: 어린이 | H49: =SUM(H50:H61) -> 19209.4 | J49: =SUM(J50:J61) -> 0 | K49: =SUM(K50:K61) -> 0 | L49: =SUM(L50:L61) -> 0 | M49: =SUM(M50:M61) -> 12 | N49: =SUM(N50:N61) -> 0 | O49: =SUM(O50:O61) -> 44 | P49: =SUM(P50:P61) -> 37 | Q49: =SUM(Q50:Q61) -> 8 | ... AC49: =SUM(AC50:AC61) -> 0
B50: 1 | C50: 어린이 | D50: 향남2 | E50: 향남2지구 1호 어린이공원(견우직녀달공원) | F50: 향남읍 하길리 1441-3 | G50: 2016 | H50: 1502.3 | M50: 1 | O50: 6 | Q50: 1 | S50: 1 | T50: 5 | Z50: 4
B51: 2 | C51: 어린이 | D51: 향남2 | E51: 향남2지구 2호 어린이공원(누리달공원) | F51: 향남읍 하길리 1452 | G51: 2016 | H51: 1592.7 | M51: 1 | O51: 4 | P51: 3 | Q51: 1 | R51: 1 | S51: 1 | T51: 3 | Z51: 4
B52: 3 | C52: 어린이 | D52: 향남2 | E52: 향남2지구 3호 어린이공원(타오름공원) | F52: 향남읍 하길리 1476 | G52: 2016 | H52: 1923 | M52: 1 | O52: 2 | P52: 4 | S52: 1 | T52: 5 | Z52: 4
B53: 4 | C53: 어린이 | D53: 향남2 | E53: 향남2지구 4호 어린이공원(푸른달공원) | F53: 향남읍 하길리 1505-1 | G53: 2016 | H53: 2020.2 | M53: 1 | O53: 2 | P53: 3 | R53: 1 | S53: 2 | T53: 5 | Z53: 4
B54: 5 | C54: 어린이 | D54: 향남2 | E54: 향남2지구 5호 어린이공원(잎새달공원) | F54: 향남읍 상신리 1274 | G54: 2016 | H54: 1503.1 | M54: 1 | O54: 4 | P54: 3 | Q54: 1 | R54: 1 | T54: 3 | Z54: 5
B55: 6 | C55: 어린이 | D55: 향남2 | E55: 향남2지구 6호 어린이공원(물오름달공원) | F55: 향남읍 상신리 1264 | G55: 2016 | H55: 1550.6 | M55: 1 | O55: 3 | P55: 3 | Q55: 1 | R55: 1 | Z55: 4
B56: 7 | C56: 어린이 | D56: 향남2 | E56: 향남2지구 7호 어린이공원(열매달공원) | F56: 향남읍 상신리 1289-5 | G56: 2016 | H56: 1548.1 | M56: 1 | O56: 4 | P56: 4 | Q56: 1 | R56: 1 | T56: 4 | Z56: 4
B57: 8 | C57: 어린이 | D57: 향남2 | E57: 향남2지구 8호 어린이공원(시샘달공원) | F57: 향남읍 상신리 1301-11 | G57: 2016 | H57: 1781.7 | M57: 1 | P57: 4 | Q57: 1 | R57: 1 | T57: 3 | V57: 1 | Z57: 4
B58: 9 | C58: 어린이 | D58: 향남2 | E58: 향남2지구 9호 어린이공원(하늘연달공원) | F58: 향남읍 상신리 1329-2 | G58: 2016 | H58: 1999.6 | M58: 1 | O58: 8 | P58: 3 | R58: 1 | S58: 1 | T58: 5 | Z58: 5
B59: 10 | C59: 어린이 | D59: 향남2 | E59: 향남2지구 10호 어린이공원(미름달공원) | F59: 향남읍 상신리 1330-1 | G59: 2016 | H59: 1919.2 | M59: 1 | O59: 4 | P59: 3 | R59: 1 | S59: 1 | T59: 6 | Z59: 4
B60: 11 | C60: 어린이 | D60: 향남2 | E60: 향남2지구 11호 어린이공원(해솟음달공원) | F60: 향남읍 상신리 1319 | G60: 2016 | H60: 1501.9 | M60: 1 | O60: 4 | P60: 4 | Q60: 1 | T60: 5 | Z60: 4
B61: 12 | C61: 어린이 | D61: 향남2 | E61: 상신리 어린이공원 | F61: 향남읍 상신리 1229-6 | G61: 2016 | H61: 367 | M61: 1 | O61: 3 | P61: 3 | Q61: 1 | T61: 3
B62: =COUNT(B63:B63) -> 1 | C62: 소공원 | H62: =SUM(H63:H63) -> 631 | J62: =SUM(J63:J63) -> 0 | K62: =SUM(K63:K63) -> 0 | L62: =SUM(L63:L63) -> 0 | M62: =SUM(M63:M63) -> 0 | N62: =SUM(N63:N63) -> 0 | O62: =SUM(O63:O63) -> 0 | P62: =SUM(P63:P63) -> 0 | Q62: =SUM(Q63:Q63) -> 0 | ... AC62: =SUM(AC63:AC63) -> 0
B63: 1 | C63: 소공원 | D63: 향남2 | E63: 향남2지구 소공원 1호 | F63: 향남읍 상신리 1249-2 | G63: 2016 | H63: 631 | T63: 4 | Z63: 2
B64: =COUNT(B65:B65) -> 1 | C64: 체육공원 | H64: =SUM(H65:H65) -> 42441.6 | J64: =SUM(J65:J65) -> 1 | K64: =SUM(K65:K65) -> 0 | L64: =SUM(L65:L65) -> 0 | M64: =SUM(M65:M65) -> 4 | N64: =SUM(N65:N65) -> 0 | O64: =SUM(O65:O65) -> 13 | P64: =SUM(P65:P65) -> 20 | Q64: =SUM(Q65:Q65) -> 0 | ... AC64: =SUM(AC65:AC65) -> 10
B65: 1 | C65: 체육 | D65: 향남2 | E65: 향남2지구 3호주제(화합체육공원) | F65: 향남읍 상신리 1254 | G65: 2016 | H65: 42441.6 | J65: 1 | M65: 4 | O65: 13 | P65: 20 | T65: 16 | V65: 1 | X65: 1 | Y65: 1 | Z65: 55 | AC65: 10
B66: =COUNTA(B67:B68) -> 2 | C66: 미관광장 | H66: =SUM(H67:H68) -> 23305.4 | J66: =SUM(J67:J68) -> 1 | K66: =SUM(K67:K68) -> 0 | L66: =SUM(L67:L68) -> 0 | M66: =SUM(M67:M68) -> 7 | N66: =SUM(N67:N68) -> 0 | O66: =SUM(O67:O68) -> 30 | P66: =SUM(P67:P68) -> 62 | Q66: =SUM(Q67:Q68) -> 0 | ... AC66: =SUM(AC67:AC68) -> 27
B67: 1 | C67: 광장 | D67: 향남2 | E67: 향남2지구 1호광장 | F67: 향남읍 하길리 1468,1469,1486,1492-1 | G67: 2016 | H67: 22577.7 | J67: 1 | M67: 6 | O67: 28 | P67: 59 | U67: 1 | Z67: 43 | AB67: 7 | AC67: 27
B68: 2 | C68: 광장 | D68: 향남2 | E68: 향남2지구 2호광장 | F68: 향남읍 상신리 1320-6 | G68: 2016 | H68: 727.7 | M68: 1 | O68: 2 | P68: 3
B69: =COUNT(B70:B71) -> 2 | C69: 쌈지 | H69: =SUM(H70:H71) -> 372 | J69: =SUM(J70:J71) -> 0 | K69: =SUM(K70:K71) -> 0 | L69: =SUM(L70:L71) -> 2 | M69: =SUM(M70:M71) -> 0 | N69: =SUM(N70:N71) -> 0 | O69: =SUM(O70:O71) -> 0 | P69: =SUM(P70:P71) -> 0 | Q69: =SUM(Q70:Q71) -> 0 | ... AC69: =SUM(AC70:AC71) -> 0
B70: 1 | C70: 쌈지 | D70: 향남2 | E70: 상신 2리 쌈지공원 | F70: 향남읍 상신리 942-6 | G70: 2019 | H70: 180 | L70: 1 | T70: 2
B71: 2 | C71: 쌈지 | D71: 향남2 | E71: 상신 3리 쌈지공원 | F71: 향남읍 상신리 654-1 | G71: 2019 | H71: 192 | L71: 1 | T71: 4
B72: =COUNT(B73:B81) -> 9 | C72: 공공공지 | H72: =SUM(H73:H81) -> 5994.7 | J72: =SUM(J73:J81) -> 0 | K72: =SUM(K73:K81) -> 0 | L72: =SUM(L73:L81) -> 0 | M72: =SUM(M73:M81) -> 0 | N72: =SUM(N73:N81) -> 0 | O72: =SUM(O73:O81) -> 5 | P72: =SUM(P73:P81) -> 0 | Q72: =SUM(Q73:Q81) -> 0 | ... AC72: =SUM(AC73:AC81) -> 0
B73: 1 | C73: 공공공지 | D73: 향남2 | E73: 향남2지구 1호 공공공지 | F73: 향남읍 하길리 1529-1 | G73: 2016 | H73: 369.3 | O73: 3 | Z73: 2
B74: 2 | C74: 공공공지 | D74: 향남2 | E74: 향남2지구 2호 공공공지 | F74: 향남읍 하길리 1531 | G74: 2016 | H74: 473.7 | O74: 2 | Z74: 2
B75: 3 | C75: 공공공지 | D75: 향남2 | E75: 향남2지구 3호 공공공지 | F75: 향남읍 하길리 1544 | G75: 2016 | H75: 394.5 | Z75: 1
B76: 4 | C76: 공공공지 | D76: 향남2 | E76: 향남2지구 4호 공공공지 | F76: 향남읍 하길리 1539-2 | G76: 2016 | H76: 372.5 | Z76: 1
B77: 5 | C77: 공공공지 | D77: 향남2 | E77: 향남2지구 5호 공공공지 | F77: 향남읍 하길리 1537-8 | G77: 2016 | H77: 373.4 | Z77: 1
B78: 6 | C78: 공공공지 | D78: 향남2 | E78: 향남2지구 6호 공공공지 | F78: 향남읍 하길리 1551 | G78: 2016 | H78: 405.4 | Z78: 1
B79: 7 | C79: 공공공지 | D79: 향남2 | E79: 향남2지구 7호 공공공지 | F79: 향남읍 하길리 1547-23 | G79: 2016 | H79: 391 | Z79: 1
B80: 8 | C80: 공공공지 | D80: 향남2 | E80: 향남2지구 2-1호 공공공지 | F80: 향남읍 하길리 1444-2, 4 | G80: 2016 | H80: 3125.2
B81: 9 | C81: 공공공지 | D81: 향남2 | E81: 향남2지구 주택단지 공공공지 | F81: 향남읍 하길리 1455-7 | G81: 2016 | H81: 89.7
B82: =SUM(B39,B46,B49,B62,B64,B66,B69,B72) -> 35 | H82: =SUM(H39,H46,H49,H62,H64,H66,H69,H72) -> 586080.2 | J82: =SUM(J39,J46,J49,J62,J64,J66,J69,J72) -> 4 | K82: =SUM(K39,K46,K49,K62,K64,K66,K69,K72) -> 0 | L82: =SUM(L39,L46,L49,L62,L64,L66,L69,L72) -> 7 | M82: =SUM(M39,M46,M49,M62,M64,M66,M69,M72) -> 46 | N82: =SUM(N39,N46,N49,N62,N64,N66,N69,N72) -> 0 | O82: =SUM(O39,O46,O49,O62,O64,O66,O69,O72) -> 162 | P82: =SUM(P39,P46,P49,P62,P64,P66,P69,P72) -> 188 | Q82: =SUM(Q39,Q46,Q49,Q62,Q64,Q66,Q69,Q72) -> 10 | ... AC82: =SUM(AC39,AC46,AC49,AC62,AC64,AC66,AC69,AC72) -> 71
A83: 양감 | B83: =COUNT(B84:B85) -> 2 | C83: 소공원 | H83: =SUM(H84:H85) -> 10023 | J83: =SUM(J84:J85) -> 0 | K83: =SUM(K84:K85) -> 0 | L83: =SUM(L84:L85) -> 0 | M83: =SUM(M84:M85) -> 2 | N83: =SUM(N84:N85) -> 0 | O83: =SUM(O84:O85) -> 9 | P83: =SUM(P84:P85) -> 7 | Q83: =SUM(Q84:Q85) -> 0 | ... AC83: =SUM(AC84:AC85) -> 0
B84: 1 | C84: 소공원 | D84: 남부 | E84: 요당지구 소공원 | F84: 양감면 요당리 102 | G84: 2016 | H84: 7373 | M84: 1 | O84: 6 | P84: 5 | T84: 5 | AA84: 12
B85: 2 | C85: 소공원 | D85: 남부 | E85: 요당2지구 소공원 | F85: 얌감면 신왕리 1000-33 | G85: 2022 | H85: 2650 | I85: 2023.1 인수인계예정(청소 미배정) | M85: 1 | O85: 3 | P85: 2 | AB85: 4
B86: =COUNT(B87:B88) -> 2 | C86: 쌈지 | H86: =SUM(H87:H88) -> 750 | J86: =SUM(J87:J88) -> 0 | K86: =SUM(K87:K88) -> 0 | L86: =SUM(L87:L88) -> 1 | M86: =SUM(M87:M88) -> 2 | N86: =SUM(N87:N88) -> 0 | O86: =SUM(O87:O88) -> 1 | P86: =SUM(P87:P88) -> 3 | Q86: =SUM(Q87:Q88) -> 0 | ... AC86: =SUM(AC87:AC88) -> 0
B87: 1 | C87: 쌈지 | D87: 남부 | E87: 양감쌈지공원1호 | F87: 양감면 신왕리 678-5 | G87: 2008 | H87: 150 | M87: 1
B88: 2 | C88: 쌈지 | D88: 남부 | E88: 양감쌈지공원2호 | F88: 양감면 사창리 1039-48, 49, 50, 52 | G88: 2015 | H88: 600 | L88: 1 | M88: 1 | O88: 1 | P88: 3 | T88: 4 | Z88: 2
B89: =SUM(B83,B86) -> 4 | H89: =SUM(H83,H86) -> 10773 | J89: =SUM(J83,J86) -> 0 | K89: =SUM(K83,K86) -> 0 | L89: =SUM(L83,L86) -> 1 | M89: =SUM(M83,M86) -> 4 | N89: =SUM(N83,N86) -> 0 | O89: =SUM(O83,O86) -> 10 | P89: =SUM(P83,P86) -> 10 | Q89: =SUM(Q83,Q86) -> 0 | ... AC89: =SUM(AC83,AC86) -> 0
A90: 팔탄 | B90: =COUNT(B91:B93) -> 3 | C90: 쌈지 | H90: =SUM(H91:H93) -> 1325.6 | J90: =SUM(J91:J93) -> 0 | K90: =SUM(K91:K93) -> 0 | L90: =SUM(L91:L93) -> 0 | M90: =SUM(M91:M93) -> 2 | N90: =SUM(N91:N93) -> 0 | O90: =SUM(O91:O93) -> 5 | P90: =SUM(P91:P93) -> 4 | Q90: =SUM(Q91:Q93) -> 1 | ... AC90: =SUM(AC91:AC93) -> 0
B91: 1 | C91: 쌈지 | D91: 남부 | E91: 구장리 코리요놀이터 | F91: 구장리 783-1 일원 | G91: 2019 | H91: 546 | M91: 1 | P91: 3 | Q91: 1 | T91: 2
B92: 2 | C92: 쌈지 | D92: 남부 | E92: 구장 쌈지공원 | F92: 구장리 1029-13 | G92: 2020 | H92: 586 | I92: 2020.12 신규위탁 | O92: 2 | T92: 3
B93: 3 | C93: 쌈지 | D93: 남부 | E93: 가재2리 쌈지공원 | F93: 팔탄면 가재리 188-7번지 일원 | G93: 2024.06. | H93: 193.6 | I93: 2025.01. 신규위탁 | M93: 1 | O93: 3 | P93: 1
B94: =SUM(B90) -> 3 | H94: =SUM(H90) -> 1325.6 | J94: =SUM(J90) -> 0 | K94: =SUM(K90) -> 0 | L94: =SUM(L90) -> 0 | M94: =SUM(M90) -> 2 | N94: =SUM(N90) -> 0 | O94: =SUM(O90) -> 5 | P94: =SUM(P90) -> 4 | Q94: =SUM(Q90) -> 1 | ... AC94: =SUM(AC90) -> 0
A95: 매향리 | B95: =COUNT(B96:B96) -> 1 | C95: 문화공원 | H95: =SUM(H96:H96) -> 335536 | J95: =SUM(J96:J96) -> 1 | K95: =SUM(K96:K96) -> 0 | L95: =SUM(L96:L96) -> 13 | M95: =SUM(M96:M96) -> 6 | N95: =SUM(N96:N96) -> 0 | O95: =SUM(O96:O96) -> 0 | P95: =SUM(P96:P96) -> 16 | Q95: =SUM(Q96:Q96) -> 0 | ... AC95: =SUM(AC96:AC96) -> 138
B96: 1 | C96: 문화 | D96: 매향리 | E96: 매향리 평화생태공원 | F96: 우정읍 고온리안길 24-11 | G96: 2020 | H96: 335536 | I96: 2021.04 신규위탁 | J96: 1 | L96: 13 | M96: 6 | P96: 16 | V96: 1 | X96: 2 | Y96: 1 | Z96: 83 | AA96: 44 | AB96: 53 | AC96: 138
B97: =SUM(B95) -> 1 | H97: =SUM(H95) -> 335536 | I97: =SUM(I95) -> 0 | J97: =SUM(J95) -> 1 | K97: =SUM(K95) -> 0 | L97: =SUM(L95) -> 13 | M97: =SUM(M95) -> 6 | N97: =SUM(N95) -> 0 | O97: =SUM(O95) -> 0 | ... AC97: =SUM(AC95) -> 138
A98: 우정장안 | B98: 5 | C98: 근린공원 | H98: 83939 | J98: 2 | K98: 1 | L98: 3 | M98: 16 | N98: 0 | O98: 21 | P98: 69 | Q98: 1 | R98: 0 | S98: 0 | T98: 40 | U98: 5 | V98: 2 | W98: 1 | X98: 2 | Y98: 1 | Z98: 175 | AA98: 36 | AB98: 2 | AC98: 8
B99: 1 | C99: 근린 | D99: 남부 | E99: 장안 1호근린공원 | F99: 장안면 금의리 760-3 일원 | G99: 2007 | H99: 10847 | M99: 4 | O99: 6 | P99: 16 | Z99: 21
B100: 2 | C100: 근린 | D100: 남부 | E100: 장안근린공원 1호 | F100: 장안면 수촌리 1466 일원 | G100: 2010 | H100: 9966 | L100: 1 | M100: 2 | O100: 6 | P100: 8 | Q100: 1 | T100: 5 | U100: 1 | Z100: 30 | AA100: 6
...
