Workbook

Sheet 공원관리2부 공원총괄
A1: ▣ 권역별 공원현황
A2: 구분 | E2: 공원현황 | AE2: 시설현황
A3: 구분 | B3: 권역 | C3: 합계 | E3: 근린공원 | G3: 어린이공원 | I3: 소공원 | K3: 체육공원 | M3: 문화공원 | O3: 수변생태 | Q3: 역사공원 | S3: 묘지공원 | U3: 쌈지공원 | W3: 저류지 | Y3: 경관광장 | AA3: 공공공지 | AC3: 주제공원 | AE3: 수경시설 | AF3: 물놀이장 | AG3: 정자 | AH3: 파고라 | AI3: 기타파고라 | AJ3: 등의자 | AK3: 평의자 | AL3: 조합놀이대 | AM3: 그네 | AN3: 시소 | AO3: 운동기구 (생체) | AP3: 음수전 (세족장포함) | AQ3: 화장실 | AR3: 신발털이대 | AS3: 관리실 (휴게실 포함) | AT3: 주차장 | AU3: 보안등 (1등용) | AV3: 보안등 (2등용) | AW3: 볼라드 등 | AX3: 기타 조명
C4: 개소 | D4: 면적 (㎡) | E4: 개소 | F4: 면적 (㎡) | G4: 개소 | H4: 면적 (㎡) | I4: 개소 | J4: 면적 (㎡) | K4: 개소 | L4: 면적 (㎡) | M4: 개소 | N4: 면적 (㎡) | O4: 개소 | P4: 면적 (㎡) | Q4: 개소 | R4: 면적 (㎡) | S4: 개소 | T4: 면적 (㎡) | U4: 개소 | V4: 면적 (㎡) | W4: 개소 | X4: 면적 (㎡) | Y4: 개소 | Z4: 면적 (㎡) | AA4: 개소 | AB4: 면적 (㎡) | AC4: 개소 | AD4: 면적 (㎡) | AE4: 개소 | AF4: 개소 | AG4: 개소 | AH4: 개소 | AI4: 개소 | AJ4: 개소 | AK4: 개소 | AL4: 개소 | AM4: 개소 | AN4: 개소 | AO4: 개소 | AP4: 개소 | AQ4: 개소 | AR4: 개소 | AS4: 개소 | AT4: 개소 | AU4: 개소 | AV4: 개소 | AW4: 개소 | AX4: 개소
A5: 합계 | C5: =SUM(C6,C13) -> #REF! | D5: =SUM(D6,D13) -> #REF! | E5: =SUM(E6,E13) -> #REF! | F5: =SUM(F6,F13) -> #REF! | G5: =SUM(G6,G13) -> #REF! | H5: =SUM(H6,H13) -> #REF! | I5: =SUM(I6,I13) -> #REF! | J5: =SUM(J6,J13) -> #REF! | ... AS5: =SUM(AS6,AS13) -> #REF! | AU5: =SUM(AU6,AU13) -> #REF! | AV5: =SUM(AV6,AV13) -> #REF! | AW5: =SUM(AW6,AW13) -> #REF! | AX5: =SUM(AX6,AX13) -> #REF!
A6: 소계 | C6: =SUM(C7:C12) -> #REF! | D6: =SUM(D7:D12) -> #REF! | E6: =SUM(E7:E12) -> #REF! | F6: =SUM(F7:F12) -> #REF! | G6: =SUM(G7:G12) -> #REF! | H6: =SUM(H7:H12) -> #REF! | I6: =SUM(I7:I12) -> #REF! | J6: =SUM(J7:J12) -> #REF! | ... AS6: =SUM(AS7:AS12) -> #REF! | AU6: =SUM(AU7:AU12) -> #REF! | AV6: =SUM(AV7:AV12) -> #REF! | AW6: =SUM(AW7:AW12) -> #REF! | AX6: =SUM(AX7:AX12) -> #REF!
A7: 센트럴 | C7: =SUM(E7,G7,I7,K7,M7,O7,Q7,S7,U7,W7,Y7,AA7) -> 1 | D7: =SUM(F7,H7,J7,L7,N7,P7,R7,T7,V7,X7,Z7,AB7) -> #REF! | E7: 1 | F7: =#REF! -> #REF! | G7: 0 | H7: 0 | I7: 0 | J7: 0 | K7: 0 | L7: 0 | M7: 0 | N7: 0 | O7: 0 | P7: 0 | Q7: 0 | R7: 0 | S7: 0 | T7: 0 | U7: 0 | V7: 0 | W7: 0 | X7: 0 | Y7: 0 | Z7: 0 | AA7: 0 | AB7: 0 | AC7: 0 | AD7: 0 | AE7: =#REF! -> #REF! | AF7: =#REF! -> #REF! | AG7: =#REF! -> #REF! | AH7: =#REF! -> #REF! | AI7: =#REF! -> #REF! | AJ7: =#REF! -> #REF! | AK7: =#REF! -> #REF! | AL7: =#REF! -> #REF! | ... AS7: =#REF! -> #REF! | AU7: =#REF! -> #REF! | AV7: =#REF! -> #REF! | AW7: =#REF! -> #REF! | AX7: =#REF! -> #REF!
A8: 동탄1 | C8: =SUM(E8,G8,I8,K8,M8,O8,Q8,S8,U8,W8,Y8,AA8) -> #REF! | D8: =SUM(F8,H8,J8,L8,N8,P8,R8,T8,V8,X8,Z8,AB8) -> #REF! | E8: =#REF! -> #REF! | F8: =#REF! -> #REF! | G8: =#REF! -> #REF! | H8: =#REF! -> #REF! | I8: 0 | J8: 0 | K8: 0 | L8: 0 | M8: 0 | N8: 0 | O8: =#REF! -> #REF! | P8: =#REF! -> #REF! | Q8: 0 | R8: 0 | S8: 0 | T8: 0 | U8: 2 | V8: =#REF! -> #REF! | W8: =#REF! -> #REF! | X8: =#REF! -> #REF! | Y8: =#REF! -> #REF! | Z8: =#REF! -> #REF! | AA8: =#REF! -> #REF! | AB8: =#REF! -> #REF! | AC8: =#REF! -> #REF! | ... AS8: =#REF! -> #REF! | AU8: =#REF! -> #REF! | AV8: =#REF! -> #REF! | AW8: =#REF! -> #REF! | AX8: =#REF! -> #REF!
A9: 동탄2 | C9: =SUM(E9,G9,I9,K9,M9,O9,Q9,S9,U9,W9,Y9,AA9) -> #REF! | D9: =SUM(F9,H9,J9,L9,N9,P9,R9,T9,V9,X9,Z9,AB9) -> #REF! | E9: =#REF! -> #REF! | F9: =#REF! -> #REF! | G9: =#REF! -> #REF! | H9: =#REF! -> #REF! | I9: 0 | J9: 0 | K9: 0 | L9: 0 | M9: 0 | N9: 0 | O9: 0 | P9: 0 | Q9: 0 | R9: 0 | S9: 0 | T9: 0 | U9: 0 | V9: 0 | W9: =#REF! -> #REF! | X9: =#REF! -> #REF! | Y9: =#REF! -> #REF! | Z9: =#REF! -> #REF! | AA9: =#REF! -> #REF! | AB9: =#REF! -> #REF! | AC9: =#REF! -> #REF! | AD9: =#REF! -> #REF! | ... AS9: =#REF! -> #REF! | AU9: =#REF! -> #REF! | AV9: =#REF! -> #REF! | AW9: =#REF! -> #REF! | AX9: =#REF! -> #REF!
A10: 동탄3 | C10: =SUM(E10,G10,I10,K10,M10,O10,Q10,S10,U10,W10,Y10,AA10) -> #REF! | D10: =SUM(F10,H10,J10,L10,N10,P10,R10,T10,V10,X10,Z10,AB10) -> #REF! | E10: =#REF! -> #REF! | F10: =#REF! -> #REF! | G10: =#REF! -> #REF! | H10: =#REF! -> #REF! | I10: =#REF! -> #REF! | J10: =#REF! -> #REF! | K10: =#REF! -> #REF! | L10: =#REF! -> #REF! | M10: 0 | N10: 0 | O10: 0 | P10: 0 | Q10: 0 | R10: 0 | S10: 0 | T10: 0 | U10: =#REF! -> #REF! | V10: =#REF! -> #REF! | W10: 0 | X10: 0 | Y10: =#REF! -> #REF! | Z10: =#REF! -> #REF! | AA10: =#REF! -> #REF! | AB10: =#REF! -> #REF! | AC10: =#REF! -> #REF! | AD10: =#REF! -> #REF! | AE10: =#REF! -> #REF! | AF10: =#REF! -> #REF! | ... AS10: =#REF! -> #REF! | AU10: =#REF! -> #REF! | AV10: =#REF! -> #REF! | AW10: =#REF! -> #REF! | AX10: =#REF! -> #REF!
A11: 동탄4 | C11: =SUM(E11,G11,I11,K11,M11,O11,Q11,S11,U11,W11,Y11,AA11) -> #REF! | D11: =SUM(F11,H11,J11,L11,N11,P11,R11,T11,V11,X11,Z11,AB11) -> #REF! | E11: =#REF! -> #REF! | F11: =#REF! -> #REF! | G11: =#REF! -> #REF! | H11: =#REF! -> #REF! | I11: =#REF! -> #REF! | J11: =#REF! -> #REF! | K11: =#REF! -> #REF! | L11: =#REF! -> #REF! | M11: 0 | N11: 0 | O11: 0 | P11: 0 | Q11: 0 | R11: 0 | S11: 0 | T11: 0 | U11: =#REF! -> #REF! | V11: =#REF! -> #REF! | W11: =#REF! -> #REF! | X11: =#REF! -> #REF! | Y11: =#REF! -> #REF! | Z11: =#REF! -> #REF! | AA11: =#REF! -> #REF! | AB11: =#REF! -> #REF! | ... AS11: =#REF! -> #REF! | AU11: =#REF! -> #REF! | AV11: =#REF! -> #REF! | AW11: =#REF! -> #REF! | AX11: =#REF! -> #REF!
A12: 태안 (동부) | C12: =SUM(E12,G12,I12,K12,M12,O12,Q12,S12,U12,W12,Y12,AA12) -> #REF! | D12: =SUM(F12,H12,J12,L12,N12,P12,R12,T12,V12,X12,Z12,AB12) -> #REF! | E12: =#REF! -> #REF! | F12: =#REF! -> #REF! | G12: =#REF! -> #REF! | H12: =#REF! -> #REF! | I12: =#REF! -> #REF! | J12: =#REF! -> #REF! | K12: 0 | L12: 0 | M12: 0 | N12: 0 | O12: =#REF! -> #REF! | P12: =#REF! -> #REF! | Q12: 0 | R12: 0 | S12: 0 | T12: 0 | U12: =#REF! -> #REF! | V12: =#REF! -> #REF! | W12: 0 | X12: 0 | Y12: 0 | Z12: 0 | AA12: =#REF! -> #REF! | AB12: =#REF! -> #REF! | AC12: =#REF! -> #REF! | AD12: =#REF! -> #REF! | AE12: =#REF! -> #REF! | AF12: =#REF! -> #REF! | AG12: =#REF! -> #REF! | AH12: =#REF! -> #REF! | ... AS12: =#REF! -> #REF! | AU12: =#REF! -> #REF! | AV12: =#REF! -> #REF! | AW12: =#REF! -> #REF! | AX12: =#REF! -> #REF!
A13: 합계 | C13: =SUM(C14,C19,C24,C28) -> 294 | D13: =SUM(D14,D19,D24,D28) -> 3454812.7 | E13: =SUM(E14,E19,E24,E28) -> 47 | F13: =SUM(F14,F19,F24,F28) -> 1637757 | G13: =SUM(G14,G19,G24,G28) -> 86 | H13: =SUM(H14,H19,H24,H28) -> 212935.7 | I13: =SUM(I14,I19,I24,I28) -> 24 | J13: =SUM(J14,J19,J24,J28) -> 53041.9 | ... AX13: =SUM(AX14,AX19,AX24,AX28) -> 593
A14: 중부권 합계 | C14: =SUM(C15:C18) -> 96 | D14: =SUM(D15:D18) -> 736859.1 | E14: =SUM(E15:E18) -> 7 | F14: =SUM(F15:F18) -> 281764.5 | G14: =SUM(G15:G18) -> 32 | H14: =SUM(H15:H18) -> 74899 | I14: =SUM(I15:I18) -> 7 | J14: =SUM(J15:J18) -> 15049.3 | ... AX14: =SUM(AX15:AX18) -> 138
A15: 중부 | B15: 봉담1 | C15: =중부!B42 -> 30 | D15: =SUM(F15,H15,J15,L15,N15,P15,R15,T15,V15,X15,Z15,AB15,AD15) -> 247846.7 | E15: =중부!B5 -> 2 | F15: =중부!H5 -> 181260.2 | G15: =중부!B8 -> 15 | H15: =중부!H8 -> 39342 | I15: =중부!B24 -> 2 | J15: =중부!H24 -> 9100 | K15: 0 | L15: 0 | M15: =중부!B27 -> 1 | N15: =중부!H27 -> 4589.5 | O15: 0 | P15: 0 | Q15: 0 | R15: 0 | S15: 0 | T15: 0 | U15: =중부!B29 -> 3 | V15: =중부!H29 -> 395 | W15: 0 | X15: 0 | Y15: =중부!B33 -> 1 | Z15: =중부!H33 -> 75 | AA15: =중부!B35 -> 6 | AB15: =중부!H35 -> 13085 | AC15: 0 | AD15: 0 | AE15: =중부!J42 -> 6 | AF15: =중부!K42 -> 2 | AG15: =중부!L42 -> 8 | AH15: =중부!M42 -> 33 | AI15: =중부!N42 -> 3 | AJ15: =중부!O42 -> 164 | AK15: =중부!P42 -> 132 | AL15: =중부!Q42 -> 19 | ... AX15: =중부!AC42 -> 71
B16: 봉담2 | C16: =중부!B67 -> 18 | D16: =SUM(F16,H16,J16,L16,N16,P16,R16,T16,V16,X16,Z16,AB16,AD16) -> 196893.6 | E16: =중부!B43 -> 3 | F16: =중부!H43 -> 75937.8 | G16: =중부!B47 -> 5 | H16: =중부!H47 -> 8132 | I16: =중부!B53 -> 4 | J16: =중부!H53 -> 5099 | K16: =중부!B58 -> 1 | L16: =중부!H58 -> 85608 | M16: =중부!B60 -> 1 | N16: =중부!H60 -> 17409.4 | O16: 0 | P16: 0 | Q16: 0 | R16: 0 | S16: 0 | T16: 0 | U16: 0 | V16: 0 | W16: 0 | X16: 0 | Y16: 0 | Z16: 0 | AA16: =중부!B62 -> 4 | AB16: =중부!H62 -> 4707.4 | AC16: 0 | AD16: 0 | AE16: =중부!J67 -> 1 | AF16: =중부!K67 -> 1 | AG16: =중부!L67 -> 2 | AH16: =중부!M67 -> 43 | AI16: =중부!N67 -> 13 | AJ16: =중부!O67 -> 128 | AK16: =중부!P67 -> 72 | AL16: =중부!Q67 -> 6 | ... AX16: =중부!AC67 -> 47
B17: 동부2 | C17: =중부!B110 -> 34 | D17: =SUM(F17,H17,J17,L17,N17,P17,R17,T17,V17,X17,Z17,AB17,AD17) -> 219669.9 | E17: =중부!B68 -> 1 | F17: =중부!H68 -> 17391 | G17: =중부!B70 -> 12 | H17: =중부!H70 -> 27425 | I17: =중부!B83 -> 1 | J17: =중부!H83 -> 850.3 | K17: 0 | L17: 0 | M17: 0 | N17: 0 | O17: =중부!B85 -> 3 | P17: =중부!H85 -> 20507.1 | Q17: =중부!B89 -> 2 | R17: =중부!H89 -> 138705.7 | S17: 0 | T17: 0 | U17: =중부!B92 -> 10 | V17: =중부!H92 -> 9595 | W17: 0 | X17: 0 | Y17: =중부!B108 -> 1 | Z17: =중부!H108 -> 2230 | AA17: =중부!B103 -> 4 | AB17: =중부!H103 -> 2965.8 | AC17: 0 | AD17: 0 | AE17: =중부!J110 -> 2 | AF17: =중부!K110 -> 0 | AG17: =중부!L110 -> 18 | AH17: =중부!M110 -> 46 | AI17: =중부!N110 -> 1 | AJ17: =중부!O110 -> 160 | AK17: =중부!P110 -> 303 | AL17: =중부!Q110 -> 14 | ... AX17: =중부!AC110 -> 20
B18: 정남 | C18: =SUM(중부!B117,중부!B131) -> 14 | D18: =SUM(F18,H18,J18,L18,N18,P18,R18,T18,V18,X18,Z18,AB18,AD18) -> 72448.9 | E18: =중부!B118 -> 1 | F18: =중부!H118 -> 7175.5 | G18: 0 | H18: 0 | I18: 0 | J18: 0 | K18: 0 | L18: 0 | M18: =중부!B120 -> 5 | N18: =중부!H120 -> 9069.4 | O18: =중부!B111 -> 1 | P18: =중부!H111 -> 54000 | Q18: 0 | R18: 0 | S18: 0 | T18: 0 | U18: =중부!B113 -> 3 | V18: =중부!H113 -> 1684 | W18: 0 | X18: 0 | Y18: 0 | Z18: 0 | AA18: =중부!B126 -> 4 | AB18: =중부!H126 -> 520 | AC18: 0 | AD18: 0 | AE18: =중부!J117+중부!J131 -> 2 | AF18: =중부!K117+중부!K131 -> 0 | AG18: =중부!L117+중부!L131 -> 2 | AH18: =중부!M117+중부!M131 -> 7 | AI18: =중부!N117+중부!N131 -> 0 | AJ18: =중부!O117+중부!O131 -> 92 | AK18: =중부!P117+중부!P131 -> 31 | AL18: =중부!Q117+중부!Q131 -> 1 | ... AX18: =중부!AC117+중부!AC131 -> 0
A19: 비봉권 합계 | C19: =SUM(C20:C23) -> 77 | D19: =SUM(D20:D23) -> 910115.78 | E19: =SUM(E20:E23) -> 16 | F19: =SUM(F20:F23) -> 531327.5 | G19: =SUM(G20:G23) -> 21 | H19: =SUM(H20:H23) -> 47460.7 | I19: =SUM(I20:I23) -> 4 | J19: =SUM(J20:J23) -> 2624.6 | K19: =비봉!B15 -> 2 | L19: =비봉!H15 -> 213991.3 | M19: =SUM(M20:M23) -> 0 | N19: =SUM(N20:N23) -> 0 | O19: =SUM(O20:O23) -> 0 | P19: =SUM(P20:P23) -> 0 | Q19: =SUM(Q20:Q23) -> 0 | R19: =SUM(R20:R23) -> 0 | S19: =SUM(S20:S23) -> 0 | T19: =SUM(T20:T23) -> 0 | ... AX19: =SUM(AX20:AX23) -> 96
A20: 비봉 | B20: 새솔동 | C20: =비봉!B36 -> 26 | D20: =SUM(F20,H20,J20,L20,N20,P20,R20,T20,V20,X20,Z20,AB20,AD20) -> 334975 | E20: =비봉!B5 -> 2 | F20: =비봉!H5 -> 95929.1 | G20: =비봉!B8 -> 6 | H20: =비봉!H8 -> 18643.9 | I20: 0 | J20: 0 | K20: =비봉!B15 -> 2 | L20: =비봉!H15 -> 213991.3 | M20: 0 | N20: 0 | O20: 0 | P20: 0 | Q20: 0 | R20: 0 | S20: 0 | T20: 0 | U20: 0 | V20: 0 | W20: 0 | X20: 0 | Y20: =비봉!B18 -> 6 | Z20: =비봉!H18 -> 1848.8 | AA20: =비봉!B25 -> 10 | AB20: =비봉!H25 -> 4561.9 | AC20: =비봉!AG5 -> 0 | AD20: =비봉!AH5 -> 0 | AE20: =비봉!J36 -> 5 | AF20: =비봉!K36 -> 2 | AG20: =비봉!L36 -> 3 | AH20: =비봉!M36 -> 58 | AI20: =비봉!N36 -> 4 | AJ20: =비봉!O36 -> 112 | AK20: =비봉!P36 -> 146 | AL20: =비봉!Q36 -> 9 | ... AX20: =비봉!AC36 -> 96
B21: 비봉 | C21: =비봉!B44 -> 5 | D21: =비봉!H44 -> 5711 | E21: 0 | F21: 0 | G21: 0 | H21: 0 | I21: =비봉!B37 -> 1 | J21: =비봉!H37 -> 301 | K21: 0 | L21: 0 | M21: 0 | N21: 0 | O21: 0 | P21: 0 | Q21: 0 | R21: 0 | S21: 0 | T21: 0 | U21: =비봉!B39 -> 4 | V21: =비봉!H39 -> 5410 | W21: 0 | X21: 0 | Y21: 0 | Z21: 0 | AA21: 0 | AB21: 0 | AC21: 0 | AD21: 0 | AE21: =비봉!J44 -> 0 | AF21: =비봉!K44 -> 0 | AG21: =비봉!L44 -> 1 | AH21: =비봉!M44 -> 2 | AI21: =비봉!N44 -> 0 | AJ21: =비봉!O44 -> 4 | AK21: =비봉!P44 -> 6 | AL21: =비봉!Q44 -> 0 | ... AX21: =비봉!AC44 -> 0
B22: 매송 | C22: =비봉!B53 -> 6 | D22: =SUM(F22,H22,J22,L22,N22,P22,R22,T22,V22,X22,Z22,AB22,AD22) -> 23446 | E22: =비봉!B7 -> 2 | F22: 0 | G22: 0 | H22: 0 | I22: 0 | J22: 0 | K22: =비봉!B45 -> 1 | L22: =비봉!H45 -> 16250 | M22: 0 | N22: 0 | O22: 0 | P22: 0 | Q22: 0 | R22: 0 | S22: 0 | T22: 0 | U22: =비봉!B47 -> 5 | V22: =비봉!H47 -> 7196 | W22: 0 | X22: 0 | Y22: 0 | Z22: 0 | AA22: 0 | AB22: 0 | AC22: 0 | AD22: 0 | AE22: =비봉!J53 -> 0 | AF22: =비봉!K53 -> 1 | AG22: =비봉!L53 -> 2 | AH22: =비봉!M53 -> 7 | AI22: =비봉!N53 -> 0 | AJ22: =비봉!O53 -> 17 | AK22: =비봉!P53 -> 9 | AL22: =비봉!Q53 -> 1 | ... AX22: =비봉!AC53 -> 0
B23: 남양 | C23: =비봉!B87+비봉!B105 -> 40 | D23: =SUM(F23,H23,J23,L23,N23,P23,R23,T23,V23,X23,Z23,AB23,AD23) -> 545983.78 | E23: =비봉!B54+비봉!B88 -> 12 | F23: =비봉!H88+비봉!H54 -> 435398.4 | G23: =비봉!B93+비봉!B65 -> 15 | H23: =비봉!H65+비봉!H93 -> 28816.8 | I23: =비봉!B99+비봉!B76 -> 3 | J23: =비봉!H76+비봉!H99 -> 2323.6 | K23: =비봉!B63 -> 1 | L23: =비봉!H63 -> 64136.1 | M23: 0 | N23: 0 | O23: 0 | P23: 0 | Q23: 0 | R23: 0 | S23: 0 | T23: 0 | U23: =비봉!B101 -> 3 | V23: =비봉!H101 -> 5334.68 | W23: 0 | X23: 0 | Y23: =비봉!B82 -> 4 | Z23: =비봉!H82 -> 6920.2 | AA23: =비봉!B79 -> 2 | AB23: =비봉!H79 -> 3054 | AC23: 0 | AD23: 0 | AE23: =비봉!J87+비봉!J105 -> 6 | AF23: =비봉!K87+비봉!K105 -> 1 | AG23: =비봉!L87+비봉!L105 -> 11 | AH23: =비봉!M87+비봉!M105 -> 76 | AI23: =비봉!N87+비봉!N105 -> 2 | AJ23: =비봉!O87+비봉!O105 -> 237 | AK23: =비봉!P87+비봉!P105 -> 294 | AL23: =비봉!Q87+비봉!Q105 -> 16 | ... AX23: =비봉!AC87+비봉!AC105 -> 0
A24: 서부권 합계 | C24: =SUM(C25:C27) -> 33 | D24: =SUM(D25:D27) -> 407386.2 | E24: =SUM(E25:E27) -> 6 | F24: =SUM(F25:F27) -> 122548.6 | G24: =SUM(G25:G27) -> 3 | H24: =SUM(H25:H27) -> 3243.5 | I24: =SUM(I25:I27) -> 4 | J24: =SUM(J25:J27) -> 11036.5 | ... AX24: =SUM(AX25:AX27) -> 0
A25: 서부 | B25: 송산 | C25: =서부!B22 -> 12 | D25: =SUM(F25,H25,J25,L25,N25,P25,R25,T25,V25,X25,Z25,AB25,AD25) -> 44326.2 | E25: =서부!B5 -> 1 | F25: =서부!H5 -> 9574 | G25: 0 | H25: 0 | I25: =서부!B19 -> 2 | J25: =서부!H19 -> 2366.6 | K25: 0 | L25: 0 | M25: =서부!B11 -> 7 | N25: =서부!H11 -> 6208.6 | O25: =서부!B7 -> 1 | P25: =서부!H7 -> 24897 | Q25: 0 | R25: 0 | S25: 0 | T25: 0 | U25: =서부!B9 -> 1 | V25: =서부!H9 -> 1280 | W25: 0 | X25: 0 | Y25: 0 | Z25: 0 | AA25: 0 | AB25: 0 | AC25: 0 | AD25: 0 | AE25: =서부!J22 -> 1 | AF25: =서부!K22 -> 0 | AG25: =서부!L22 -> 1 | AH25: =서부!M22 -> 22 | AI25: =서부!N22 -> 0 | AJ25: =서부!O22 -> 25 | AK25: =서부!P22 -> 0 | AL25: =서부!Q22 -> 1 | ... AX25: =서부!AC22 -> 0
B26: 서신 | C26: =서부!B46 -> 16 | D26: =SUM(F26,H26,J26,L26,N26,P26,R26,T26,V26,X26,Z26,AB26,AD26) -> 98720.2 | E26: =서부!B23 -> 3 | F26: =서부!H23 -> 60671.1 | G26: =서부!B27 -> 3 | H26: =서부!H27 -> 3243.5 | I26: =서부!B31 -> 2 | J26: =서부!H31 -> 8669.9 | K26: =서부!B34 -> 1 | L26: =서부!H34 -> 11790 | M26: 0 | N26: 0 | O26: 0 | P26: 0 | Q26: 0 | R26: 0 | S26: 0 | T26: 0 | U26: =서부!B36 -> 3 | V26: =서부!H36 -> 8144 | W26: 0 | X26: 0 | Y26: =서부!B40 -> 2 | Z26: =서부!H40 -> 5605 | AA26: =서부!B43 -> 2 | AB26: =서부!H43 -> 596.7 | AC26: 0 | AD26: 0 | AE26: =서부!J46 -> 0 | AF26: =서부!K46 -> 0 | AG26: =서부!L46 -> 0 | AH26: =서부!M46 -> 28 | AI26: =서부!N46 -> 3 | AJ26: =서부!O46 -> 54 | AK26: =서부!P46 -> 96 | AL26: =서부!Q46 -> 1 | ... AX26: =서부!AC46 -> 0
B27: 마도 | C27: =서부!B56 -> 5 | D27: =SUM(F27,H27,J27,L27,N27,P27,R27,T27,V27,X27,Z27,AB27,AD27) -> 264339.8 | E27: =서부!B47 -> 2 | F27: =서부!H47 -> 52303.5 | G27: 0 | H27: 0 | I27: 0 | J27: 0 | K27: =서부!B50 -> 1 | L27: =서부!H50 -> 24594.9 | M27: 0 | N27: 0 | O27: =서부!B52 -> 1 | P27: =서부!H52 -> 186632.4 | Q27: 0 | R27: 0 | S27: 0 | T27: 0 | U27: =서부!B54 -> 1 | V27: =서부!H54 -> 809 | W27: 0 | X27: 0 | Y27: 0 | Z27: 0 | AA27: 0 | AB27: 0 | AC27: 0 | AD27: 0 | AE27: =서부!J56 -> 0 | AF27: =서부!K56 -> 0 | AG27: =서부!L56 -> 8 | AH27: =서부!M56 -> 20 | AI27: =서부!N56 -> 0 | AJ27: =서부!O56 -> 41 | AK27: =서부!P56 -> 73 | AL27: =서부!Q56 -> 0 | ... AX27: =서부!AC56 -> 0
A28: 남부권 합계 | C28: =SUM(C29:C34) -> 88 | D28: =SUM(D29:D34) -> 1400451.6 | E28: =SUM(E29:E34) -> 18 | F28: =SUM(F29:F34) -> 702116.4 | G28: =SUM(G29:G34) -> 30 | H28: =SUM(H29:H34) -> 87332.5 | I28: =SUM(I29:I34) -> 9 | J28: =SUM(J29:J34) -> 24331.5 | ... N28: =SUM(N29:N34) -> 335536 | O28: =SUM(O29:O32) -> 0 | P28: =SUM(P29:P32) -> 0 | Q28: =SUM(Q29:Q32) -> 0 | R28: =SUM(R29:R32) -> 0 | S28: =SUM(S29:S32) -> 0 | T28: =SUM(T29:T32) -> 0 | U28: =SUM(U29:U34) -> 10 | V28: =SUM(V29:V34) -> 6219.6 | W28: =SUM(W29:W32) -> 0 | X28: =SUM(X29:X32) -> 0 | Y28: =SUM(Y29:Y32) -> 2 | Z28: =SUM(Z29:Z32) -> 23305.4 | AA28: =SUM(AA29:AA34) -> 13 | AB28: =SUM(AB29:AB34) -> 7970.7 | AC28: =SUM(AC29:AC32) -> 2 | AD28: =SUM(AD29:AD32) -> 63008.6 | AE28: =SUM(AE29:AE34) -> 13 | AF28: =SUM(AF29:AF34) -> 3 | AG28: =SUM(AG29:AG34) -> 50 | AH28: =SUM(AH29:AH34) -> 178 | AI28: =SUM(AI29:AI32) -> 0 | AJ28: =SUM(AJ29:AJ34) -> 411 | AK28: =SUM(AK29:AK34) -> 633 | AL28: =SUM(AL29:AL34) -> 30 | AM28: =SUM(AM29:AM34) -> 16 | AN28: =SUM(AN29:AN34) -> 20 | AO28: =SUM(AO29:AO34) -> 373 | AP28: =SUM(AP29:AP34) -> 19 | AQ28: =SUM(AQ29:AQ34) -> 13 | ... AX28: =SUM(AX29:AX34) -> 359
A29: 남부 | B29: 향남1 | C29: =남부!B38 -> 27 | D29: =SUM(F29,H29,J29,L29,N29,P29,R29,T29,V29,X29,Z29,AB29,AD29) -> 313654.8 | E29: =남부!B5 -> 7 | F29: =남부!H5 -> 187059.9 | G29: =남부!B13 -> 13 | H29: =남부!H13 -> 49884.1 | I29: =남부!B27 -> 2 | J29: =남부!H27 -> 1847.5 | K29: =남부!B30 -> 1 | L29: =남부!H30 -> 70439.3 | M29: 0 | N29: 0 | O29: 0 | P29: 0 | Q29: 0 | R29: 0 | S29: 0 | T29: 0 | U29: =남부!B32 -> 3 | V29: =남부!H32 -> 3772 | W29: 0 | X29: 0 | Y29: 0 | Z29: 0 | AA29: =남부!B36 -> 1 | AB29: =남부!H36 -> 652 | AC29: 0 | AD29: 0 | AE29: =남부!J38 -> 5 | AF29: =남부!K38 -> 2 | AG29: =남부!L38 -> 11 | AH29: =남부!M38 -> 83 | AI29: =남부!N38 -> 0 | AJ29: =남부!O38 -> 163 | AK29: =남부!P38 -> 280 | AL29: =남부!Q38 -> 12 | ... AX29: =남부!AC38 -> 4
B30: 향남2 | C30: =남부!B82 -> 35 | D30: =SUM(F30,H30,J30,L30,N30,P30,R30,T30,V30,X30,Z30,AB30,AD30) -> 586080.2 | E30: =남부!B39 -> 6 | F30: =남부!H39 -> 431117.5 | G30: =남부!B49 -> 12 | H30: =남부!H49 -> 19209.4 | I30: =남부!B62 -> 1 | J30: =남부!H62 -> 631 | K30: =남부!B64 -> 1 | L30: =남부!H64 -> 42441.6 | M30: 0 | N30: 0 | O30: 0 | P30: 0 | Q30: 0 | R30: 0 | S30: 0 | T30: 0 | U30: =남부!B69 -> 2 | V30: =남부!H69 -> 372 | W30: 0 | X30: 0 | Y30: =남부!B66 -> 2 | Z30: =남부!H66 -> 23305.4 | AA30: =남부!B72 -> 9 | AB30: =남부!H72 -> 5994.7 | AC30: =남부!B46 -> 2 | AD30: =남부!H46 -> 63008.6 | AE30: =남부!J82 -> 4 | AF30: =남부!K82 -> 0 | AG30: =남부!L82 -> 7 | AH30: =남부!M82 -> 46 | AI30: =남부!N82 -> 0 | AJ30: =남부!O82 -> 162 | AK30: =남부!P82 -> 188 | AL30: =남부!Q82 -> 10 | ... AX30: =남부!AC82 -> 71
B31: 양감 | C31: =남부!B89 -> 4 | D31: =SUM(F31,H31,J31,L31,N31,P31,R31,T31,V31,X31,Z31,AB31) -> 10773 | E31: 0 | F31: 0 | G31: 0 | H31: 0 | I31: =남부!B83 -> 2 | J31: =남부!H83 -> 10023 | K31: 0 | L31: 0 | M31: 0 | N31: 0 | O31: 0 | P31: 0 | Q31: 0 | R31: 0 | S31: 0 | T31: 0 | U31: =남부!B86 -> 2 | V31: =남부!H86 -> 750 | W31: 0 | X31: 0 | Y31: 0 | Z31: 0 | AA31: 0 | AB31: 0 | AC31: 0 | AD31: 0 | AE31: =남부!J89 -> 0 | AF31: =남부!K89 -> 0 | AG31: =남부!L89 -> 1 | AH31: =남부!M89 -> 4 | AI31: =남부!N89 -> 0 | AJ31: =남부!O89 -> 10 | AK31: =남부!P89 -> 10 | AL31: =남부!Q89 -> 0 | ... AX31: =남부!AC89 -> 0
B32: 팔탄 | C32: =남부!B94 -> 3 | D32: =SUM(F32,H32,J32,L32,N32,P32,R32,T32,V32,X32,Z32,AB32) -> 1325.6 | E32: 0 | F32: 0 | G32: 0 | H32: 0 | I32: 0 | J32: 0 | K32: 0 | L32: 0 | M32: 0 | N32: 0 | O32: 0 | P32: 0 | Q32: 0 | R32: 0 | S32: 0 | T32: 0 | U32: =남부!B90 -> 3 | V32: =남부!H90 -> 1325.6 | W32: 0 | X32: 0 | Y32: 0 | Z32: 0 | AA32: 0 | AB32: 0 | AC32: 0 | AD32: 0 | AE32: =남부!J94 -> 0 | AF32: =남부!K94 -> 0 | AG32: =남부!L94 -> 0 | AH32: =남부!M94 -> 2 | AI32: =남부!N94 -> 0 | AJ32: =남부!O94 -> 5 | AK32: =남부!P94 -> 4 | AL32: =남부!Q94 -> 1 | ... AX32: =남부!AC94 -> 0
B33: 매향리 | C33: =남부!B97 -> 1 | D33: =SUM(F33,H33,J33,L33,N33,P33,R33,T33,V33,X33,Z33,AB33) -> 335536 | E33: 0 | F33: 0 | G33: 0 | H33: 0 | I33: 0 | J33: 0 | K33: 0 | L33: 0 | M33: =남부!B95 -> 1 | N33: =남부!H95 -> 335536 | O33: 0 | P33: 0 | Q33: 0 | R33: 0 | S33: 0 | T33: 0 | U33: 0 | V33: 0 | W33: 0 | X33: 0 | Y33: 0 | Z33: 0 | AA33: 0 | AB33: 0 | AC33: 0 | AD33: 0 | AE33: =남부!J96 -> 1 | AF33: =남부!K96 -> 0 | AG33: =남부!L96 -> 13 | AH33: =남부!M96 -> 6 | AI33: =남부!N96 -> 0 | AJ33: =남부!O96 -> 0 | AK33: =남부!P96 -> 16 | AL33: =남부!Q96 -> 0 | ... AX33: =남부!AC96 -> 138
B34: 우정,장안 | C34: =남부!B121 -> 18 | D34: =SUM(F34,H34,J34,L34,N34,P34,R34,T34,V34,X34,Z34,AB34) -> 153082 | E34: =남부!B98 -> 5 | F34: =남부!H98 -> 83939 | G34: =남부!B104 -> 5 | H34: =남부!H104 -> 18239 | I34: =남부!B110 -> 4 | J34: =남부!H110 -> 11830 | K34: =남부!B115 -> 1 | L34: =남부!H115 -> 37750 | M34: 0 | N34: 0 | O34: 0 | P34: 0 | Q34: 0 | R34: 0 | S34: 0 | T34: 0 | U34: 0 | V34: 0 | W34: 0 | X34: 0 | Y34: 0 | Z34: 0 | AA34: =남부!B117 -> 3 | AB34: =남부!H117 -> 1324 | AC34: 0 | AD34: 0 | AE34: =남부!J121 -> 3 | AF34: =남부!K121 -> 1 | AG34: =남부!L121 -> 18 | AH34: =남부!M121 -> 37 | AI34: =남부!N121 -> 0 | AJ34: =남부!O121 -> 71 | AK34: =남부!P121 -> 135 | AL34: =남부!Q121 -> 7 | ... AX34: =남부!AC121 -> 146
AU35: ※ 공공공지 10호-보안등(1등용)3, 보안등(2등용)1 누락

Sheet 비봉
A1: ▣ 비봉권역 | E1: (새솔동, 비봉, 매송, 남양, 송산, 서신, 마도)
A2: 권역 | B2: 개소 | C2: 공원종류 | D2: 청소권역 | E2: 공원명 | F2: 위치 | G2: 조성일자 | H2: 조성면적 | I2: 비고 | J2: 조경시설 | K2: 조경시설 | L2: 휴양시설 | M2: 휴양시설 | N2: 휴양시설 | O2: 휴양시설 | P2: 휴양시설 | Q2: 유희시설 | R2: 유희시설 | S2: 유희시설 | T2: 운동시설 | U2: 편익시설 | V2: 편익시설 | W2: 편익시설 | X2: 관리시설 | Y2: 관리시설 | Z2: 관리시설 | AA2: 관리시설 | AB2: 관리시설 | AC2: 관리시설
J3: 수경시설 | K3: 물놀이장 | L3: 정자(평상) | M3: 파고라 | N3: 기타파고라 | O3: 등의자 (스윙벤치) | P3: 평의자(석의자) | Q3: 조합놀이대 | R3: 그네 | S3: 시소 | T3: 운동기구 (생체) | U3: 음수전 (세족장포함) | V3: 화장실 | W3: 신발털이대 | X3: 관리실 (휴게실 포함) | Y3: 주차장 | Z3: 보안등(1등용) | AA3: 보안등(2등용) | AB3: 볼라드 등 | AC3: 기타 조명
B4: =SUM(B36,B44,B53,B87,B105) -> 77 | C4: =SUM(C36,C44,C53,C87,C105) -> 0 | D4: =SUM(D36,D44,D53,D87,D105) -> 0 | E4: =SUM(E36,E44,E53,E87,E105) -> 0 | F4: =SUM(F36,F44,F53,F87,F105) -> 0 | G4: =SUM(G36,G44,G53,G87,G105) -> 0 | H4: =SUM(H36,H44,H53,H87,H105) -> 910115.78 | I4: =SUM(I36,I44,I53,I87,I105) -> 0 | ... AC4: =SUM(AC36,AC44,AC53,AC87,AC105) -> 96
A5: 새솔동 | B5: =COUNT(B6:B7) -> 2 | C5: 근린공원 | H5: =SUM(H6:H7) -> 95929.1 | J5: =SUM(J6:J7) -> 5 | K5: =SUM(K6:K7) -> 1 | L5: =SUM(L6:L7) -> 2 | M5: =SUM(M6:M7) -> 30 | N5: =SUM(N6:N7) -> 3 | O5: =SUM(O6:O7) -> 54 | P5: =SUM(P6:P7) -> 64 | Q5: =SUM(Q6:Q7) -> 2 | ... AC5: =SUM(AC6:AC7) -> 46
B6: 1 | C6: 근린 | D6: 중부 | E6: 1호 근린공원 (별솔공원) | F6: 새솔동 28 | G6: 2021 | H6: 11633.7 | I6: 2021.01 신규위탁 | K6: 1 | M6: 7 | O6: 10 | P6: 12 | T6: 5 | U6: 1 | V6: 1 | X6: 1 | Z6: 21 | AB6: 12 | AC6: 46
B7: 2 | C7: 근린 | D7: 중부 | E7: 2호 근린공원 (수노을중앙공원) | F7: 새솔동 83, 97 | G7: 2018 | H7: 84295.4 | J7: 5 | L7: 2 | M7: 23 | N7: 3 | O7: 44 | P7: 52 | Q7: 2 | R7: 1 | S7: 1 | U7: 3 | V7: 2 | X7: 2 | Y7: 1 | Z7: 125 | AB7: 36
B8: =COUNT(B9:B14) -> 6 | C8: 어린이 | H8: =SUM(H9:H14) -> 18643.9 | J8: =SUM(J9:J14) -> 0 | K8: =SUM(K9:K14) -> 0 | L8: =SUM(L9:L14) -> 0 | M8: =SUM(M9:M14) -> 10 | N8: =SUM(N9:N14) -> 1 | O8: =SUM(O9:O14) -> 29 | P8: =SUM(P9:P14) -> 18 | Q8: =SUM(Q9:Q14) -> 7 | ... AC8: =SUM(AC9:AC14) -> 50
B9: 1 | C9: 어린이 | D9: 중부 | E9: 1호 어린이공원(맑은가람공원) | F9: 새솔동 165 | G9: 2021 | H9: 2921.9 | I9: 2022.12 인수인계(송산그린시티 동측지구) | M9: 2 | N9: 1 | O9: 7 | P9: 2 | Q9: 2 | T9: 4 | U9: 2 | Z9: 11 | AC9: 14
B10: 2 | C10: 어린이 | D10: 중부 | E10: 2호 어린이공원(새버들공원) | F10: 새솔동 146 | G10: 2021 | H10: 1607.5 | I10: 2022.12 인수인계(송산그린시티 동측지구) | M10: 2 | O10: 2 | P10: 4 | Q10: 1 | R10: 1 | T10: 4 | Z10: 6 | AB10: 3 | AC10: 8
B11: 3 | C11: 어린이 | D11: 중부 | E11: 3호 어린이공원(가온공원) | F11: 새솔동 114 | G11: 2020 | H11: 5070.5 | I11: 2021.01 신규위탁 | M11: 2 | O11: 10 | P11: 4 | Q11: 2 | T11: 5 | U11: 2 | V11: 1 | Z11: 14 | AB11: 7 | AC11: 10
B12: 4 | C12: 어린이 | D12: 중부 | E12: 4호 어린이공원(해오름공원) | F12: 새솔동 15 | G12: 2018 | H12: 4944 | T12: 4 | U12: 1 | Z12: 15
B13: 5 | C13: 어린이 | D13: 중부 | E13: 5호 어린이공원(누리봄공원) | F13: 새솔동 72 | G13: 2021 | H13: 1656.3 | I13: 2022.12 인수인계(송산그린시티 동측지구) | M13: 2 | O13: 5 | P13: 4 | Q13: 1 | T13: 5 | Z13: 10 | AC13: 8
B14: 6 | C14: 어린이 | D14: 중부 | E14: 6호 어린이공원(도담공원) | F14: 새솔동 48 | G14: 2021 | H14: 2443.7 | I14: 2022.12 인수인계(송산그린시티 동측지구) | M14: 2 | O14: 5 | P14: 4 | Q14: 1 | T14: 5 | V14: 1 | Z14: 16 | AC14: 10
B15: =COUNT(B16:B17) -> 2 | C15: 체육공원 | H15: =SUM(H16:H17) -> 213991.3 | J15: =SUM(J16:J17) -> 0 | K15: =SUM(K16:K17) -> 1 | L15: =SUM(L16:L17) -> 1 | M15: =SUM(M16:M17) -> 18 | N15: =SUM(N16:N17) -> 0 | O15: =SUM(O16:O17) -> 29 | P15: =SUM(P16:P17) -> 64 | Q15: =SUM(Q16:Q17) -> 0 | ... AC15: =SUM(AC16:AC17) -> 0
B16: 1 | C16: 체육 | D16: 중부 | E16: 비봉체육공원 | F16: 새솔동167, 168 | G16: 2018 | H16: 177737.4 | I16: 야구장 화장실 | K16: 1 | L16: 1 | M16: 12 | O16: 4 | P16: 42 | T16: 18 | U16: 3 | V16: 2 | Y16: 1 | Z16: 71 | AB16: 7
B17: 2 | C17: 체육 | D17: 중부 | E17: 2호 체육공원(봉선체육공원) | F17: 새솔동 126 | G17: 2018 | H17: 36253.9 | M17: 6 | O17: 25 | P17: 22 | T17: 13 | U17: 1 | V17: 2 | X17: 1 | Y17: 1 | Z17: 48 | AB17: 13
B18: =COUNT(B19:B24) -> 6 | C18: 미관광장 | H18: =SUM(H19:H24) -> 1848.8 | J18: =SUM(J19:J24) -> 0 | K18: =SUM(K19:K24) -> 0 | L18: =SUM(L19:L24) -> 0 | M18: =SUM(M19:M24) -> 0 | N18: =SUM(N19:N24) -> 0 | O18: =SUM(O19:O24) -> 0 | P18: =SUM(P19:P24) -> 0 | Q18: =SUM(Q19:Q24) -> 0 | ... AC18: =SUM(AC19:AC24) -> 0
B19: 1 | C19: 광장 | D19: 중부 | E19: 경관광장 1 | F19: 새솔동 84-10 | G19: 2020 | H19: 126 | I19: 2021.03 신규위탁
B20: 2 | C20: 광장 | D20: 중부 | E20: 경관광장 2 | F20: 새솔동 85-15 | G20: 2020 | H20: 136 | I20: 2021.03 신규위탁
B21: 3 | C21: 광장 | D21: 중부 | E21: 경관광장 3 | F21: 새솔동 89-14 | G21: 2020 | H21: 135 | I21: 2021.03 신규위탁
B22: 4 | C22: 광장 | D22: 중부 | E22: 경관광장 4 | F22: 새솔동 88-14 | G22: 2020 | H22: 135 | I22: 2021.03 신규위탁
B23: 5 | C23: 광장 | D23: 중부 | E23: 경관광장 5 | F23: 새솔동 57-12 | G23: 2020 | H23: 536 | I23: 2021.03 신규위탁
B24: 6 | C24: 광장 | D24: 중부 | E24: 일반광장 1호(한우리광장) | F24: 새솔동 136-3 | G24: 2021 | H24: 780.8 | I24: 2022.12 인수인계(송산그린시티 동측지구)
B25: =COUNT(B26:B35) -> 10 | C25: 공공공지 | H25: =SUM(H26:H35) -> 4561.9 | J25: =SUM(J26:J35) -> 0 | K25: =SUM(K26:K35) -> 0 | L25: =SUM(L26:L35) -> 0 | M25: =SUM(M26:M35) -> 0 | N25: =SUM(N26:N35) -> 0 | O25: =SUM(O26:O35) -> 0 | P25: =SUM(P26:P35) -> 0 | Q25: =SUM(Q26:Q35) -> 0 | ... AC25: =SUM(AC26:AC35) -> 0
B26: 1 | C26: 공공공지 | D26: 중부 | E26: 송산그린시티 공공공지 1 | F26: 새솔동 99-7 | G26: 2020 | H26: 39 | I26: 2021.03 신규위탁
B27: 2 | C27: 공공공지 | D27: 중부 | E27: 송산그린시티 공공공지 2 | F27: 새솔동 101-1 | G27: 2020 | H27: 334.4 | I27: 2021.03 신규위탁
B28: 3 | C28: 공공공지 | D28: 중부 | E28: 송산그린시티 공공공지 3 | F28: 새솔동 51-16 | G28: 2020 | H28: 120.3 | I28: 2021.03 신규위탁
B29: 4 | C29: 공공공지 | D29: 중부 | E29: 송산그린시티 공공공지 4 | F29: 새솔동 52-6 | G29: 2020 | H29: 615.8 | I29: 2021.03 신규위탁
B30: 5 | C30: 공공공지 | D30: 중부 | E30: 송산그린시티 공공공지 5 | F30: 새솔동 58-6 | G30: 2020 | H30: 568.4 | I30: 2021.03 신규위탁
B31: 6 | C31: 공공공지 | D31: 중부 | E31: 송산그린시티 공공공지 6 | F31: 새솔동 54-1 | G31: 2020 | H31: 128.6 | I31: 2021.03 신규위탁 | Z31: 1
B32: 7 | C32: 공공공지 | D32: 중부 | E32: 송산그린시티 공공공지 7 | F32: 새솔동 57-18 | G32: 2020 | H32: 754.9 | I32: 2021.03 신규위탁 | Z32: 2
B33: 8 | C33: 공공공지 | D33: 중부 | E33: 송산그린시티 공공공지 8 | F33: 새솔동 57-6 | G33: 2020 | H33: 745.6 | I33: 2021.03 신규위탁 | Z33: 2
B34: 9 | C34: 공공공지 | D34: 중부 | E34: 송산그린시티 공공공지 9 | F34: 새솔동 60-1 | G34: 2020 | H34: 126.3 | I34: 2021.03 신규위탁 | Z34: 1
B35: 10 | C35: 공공공지 | D35: 중부 | E35: 송산그린시티 공공공지 10 | F35: 새솔동 123-3 | G35: 2021 | H35: 1128.6 | I35: 2022.12 인수인계(송산그린시티 동측지구) | Z35: 3 | AA35: 1
B36: =SUM(B5,B8,B15,B18,B25) -> 26 | H36: =SUM(H5,H8,H15,H18,H25) -> 334975 | J36: =SUM(J5,J8,J15,J18,J25) -> 5 | K36: =SUM(K5,K8,K15,K18,K25) -> 2 | L36: =SUM(L5,L8,L15,L18,L25) -> 3 | M36: =SUM(M5,M8,M15,M18,M25) -> 58 | N36: =SUM(N5,N8,N15,N18,N25) -> 4 | O36: =SUM(O5,O8,O15,O18,O25) -> 112 | P36: =SUM(P5,P8,P15,P18,P25) -> 146 | Q36: =SUM(Q5,Q8,Q15,Q18,Q25) -> 9 | ... AC36: =SUM(AC5,AC8,AC15,AC18,AC25) -> 96
A37: 비봉 | B37: =COUNT(B38:B38) -> 1 | C37: 소공원 | H37: =SUM(H38:H38) -> 301 | J37: =SUM(J38:J38) -> 0 | K37: =SUM(K38:K38) -> 0 | L37: =SUM(L38:L38) -> 0 | M37: =SUM(M38:M38) -> 0 | N37: =SUM(N38:N38) -> 0 | O37: =SUM(O38:O38) -> 0 | P37: =SUM(P38:P38) -> 0 | Q37: =SUM(Q38:Q38) -> 0 | ... AC37: =SUM(AC38:AC38) -> 0
B38: 1 | C38: 소공원 | D38: 중부 | E38: 양노리소공원 | F38: 비봉면 양노리 738-54 | G38: 2014 | H38: 301
B39: =COUNT(B40:B43) -> 4 | C39: 쌈지 | H39: =SUM(H40:H43) -> 5410 | J39: =SUM(J40:J43) -> 0 | K39: =SUM(K40:K43) -> 0 | L39: =SUM(L40:L43) -> 1 | M39: =SUM(M40:M43) -> 2 | N39: =SUM(N40:N43) -> 0 | O39: =SUM(O40:O43) -> 4 | P39: =SUM(P40:P43) -> 6 | Q39: =SUM(Q40:Q43) -> 0 | ... AC39: =SUM(AC40:AC43) -> 0
B40: 1 | C40: 쌈지 | D40: 중부 | E40: 구포리 소공원 | F40: 비봉면 구포리 63-4일원 | G40: 2008 | H40: 2900
...

Sheet 서부
A1: ▣ 서부권역 | E1: (새솔동, 비봉, 매송, 남양, 송산, 서신, 마도)
A2: 권역 | B2: 개소 | C2: 공원종류 | D2: 청소권역 | E2: 공원명 | F2: 위치 | G2: 조성일자 | H2: 조성면적 | I2: 비고 | J2: 조경시설 | K2: 조경시설 | L2: 휴양시설 | M2: 휴양시설 | N2: 휴양시설 | O2: 휴양시설 | P2: 휴양시설 | Q2: 유희시설 | R2: 유희시설 | S2: 유희시설 | T2: 운동시설 | U2: 편익시설 | V2: 편익시설 | W2: 편익시설 | X2: 관리시설 | Y2: 관리시설 | Z2: 관리시설 | AA2: 관리시설 | AB2: 관리시설 | AC2: 관리시설
J3: 수경시설 | K3: 물놀이장 | L3: 정자(평상) | M3: 파고라 | N3: 기타파고라 | O3: 등의자 (스윙벤치) | P3: 평의자(석의자) | Q3: 조합놀이대 | R3: 그네 | S3: 시소 | T3: 운동기구 (생체) | U3: 음수전 (세족장포함) | V3: 화장실 | W3: 신발털이대 | X3: 관리실 (휴게실 포함) | Y3: 주차장 | Z3: 보안등(1등용) | AA3: 보안등(2등용) | AB3: 볼라드 등 | AC3: 기타 조명
B4: =SUM(B22,B46,B56) -> 33 | C4: =SUM(C22,C46,C56) -> 0 | D4: =SUM(D22,D46,D56) -> 0 | E4: =SUM(E22,E46,E56) -> 0 | F4: =SUM(F22,F46,F56) -> 0 | G4: =SUM(G22,G46,G56) -> 0 | H4: =SUM(H22,H46,H56) -> 407386.2 | I4: =SUM(I22,I46,I56) -> 0 | ... AC4: =SUM(AC22,AC46,AC56) -> 0
A5: 송산 | B5: =COUNT(B6:B6) -> 1 | C5: 근린공원 | H5: =SUM(H6:H6) -> 9574 | J5: =SUM(J6:J6) -> 1 | K5: =SUM(K6:K6) -> 0 | L5: =SUM(L6:L6) -> 0 | M5: =SUM(M6:M6) -> 3 | N5: =SUM(N6:N6) -> 0 | O5: =SUM(O6:O6) -> 3 | P5: =SUM(P6:P6) -> 0 | Q5: =SUM(Q6:Q6) -> 1 | ... AC5: =SUM(AC6:AC6) -> 0
B6: 1 | C6: 근린 | D6: 서부 | E6: 송산3.1기념공원 | F6: 송산면 사강리 557-1,562-1,562-2, 558-4,558-6,299-3,299-4 | G6: 2007 | H6: 9574 | J6: 1 | M6: 3 | O6: 3 | Q6: 1 | T6: 9 | U6: 1 | V6: 1 | X6: 1 | Z6: 32
B7: =COUNT(B8:B8) -> 1 | C7: 수변공원 | H7: =SUM(H8:H8) -> 24897 | J7: =SUM(J8:J8) -> 0 | K7: =SUM(K8:K8) -> 0 | L7: =SUM(L8:L8) -> 0 | M7: =SUM(M8:M8) -> 9 | N7: =SUM(N8:N8) -> 0 | O7: =SUM(O8:O8) -> 8 | P7: =SUM(P8:P8) -> 0 | Q7: =SUM(Q8:Q8) -> 0 | ... AC7: =SUM(AC8:AC8) -> 0
B8: 1 | C8: 수변 | D8: 서부 | E8: 1호 수변공원 | F8: 송산면 중송리 582번지 일원 | G8: 2021 | H8: 24897 | I8: 2022.12 인수인계(송산테크노파크) | M8: 9 | O8: 8 | T8: 5 | Z8: 36
B9: =COUNT(B10:B10) -> 1 | C9: 쌈지 | H9: =SUM(H10:H10) -> 1280 | J9: =SUM(J10:J10) -> 0 | K9: =SUM(K10:K10) -> 0 | L9: =SUM(L10:L10) -> 1 | M9: =SUM(M10:M10) -> 0 | N9: =SUM(N10:N10) -> 0 | O9: =SUM(O10:O10) -> 2 | P9: =SUM(P10:P10) -> 0 | Q9: =SUM(Q10:Q10)-1 -> 0 | R9: =SUM(R10:R10) -> 0 | S9: =SUM(S10:S10) -> 0 | T9: =SUM(T10:T10) -> 6 | U9: =SUM(U10:U10) -> 0 | V9: =SUM(V10:V10) -> 0 | W9: =SUM(W10:W10) -> 0 | X9: =SUM(X10:X10) -> 0 | Y9: =SUM(Y10:Y10) -> 0 | ... AC9: =SUM(AC10:AC10) -> 0
B10: 1 | C10: 쌈지 | D10: 서부 | E10: 송산 쌈지공원 | F10: 송산면 독지리 173-2 | G10: 2013 | H10: 1280 | I10: 2022.03 독지리 이관 | L10: 1 | O10: 2 | Q10: 1 | T10: 6 | Z10: 4
B11: =COUNT(B12:B18) -> 7 | C11: 문화공원 | H11: =SUM(H12:H18) -> 6208.6 | J11: =SUM(J12:J18) -> 0 | K11: =SUM(K12:K18) -> 0 | L11: =SUM(L12:L18) -> 0 | M11: =SUM(M12:M18) -> 8 | N11: =SUM(N12:N18) -> 0 | O11: =SUM(O12:O18) -> 10 | P11: =SUM(P12:P18) -> 0 | Q11: =SUM(Q12:Q18) -> 0 | ... AC11: =SUM(AC12:AC18) -> 0
B12: 1 | C12: 문화 | D12: 서부 | E12: 문화공원1호 | F12: 송산면 지화리 682 | G12: 2021 | H12: 802.8 | I12: 2022.12 인수인계(송산테크노파크)
B13: 2 | C13: 문화 | D13: 서부 | E13: 문화공원2호 | F13: 송산면 지화리 690 | G13: 2021 | H13: 773.5 | I13: 2022.12 인수인계(송산테크노파크) | M13: 1 | Z13: 2
B14: 3 | C14: 문화 | D14: 서부 | E14: 문화공원3호 | F14: 송산면 지화리 682-11 | G14: 2021 | H14: 491.1 | I14: 2022.12 인수인계(송산테크노파크) | O14: 4 | Z14: 3
B15: 4 | C15: 문화 | D15: 서부 | E15: 문화공원4호 | F15: 송산면 지화리 692 | G15: 2021 | H15: 732.2 | I15: 2022.12 인수인계(송산테크노파크) | M15: 1 | O15: 2 | Z15: 4
B16: 5 | C16: 문화 | D16: 서부 | E16: 문화공원5호 | F16: 송산면 지화리 683-5 | G16: 2021 | H16: 1776.3 | I16: 2022.12 인수인계(송산테크노파크) | M16: 2 | T16: 5 | Z16: 5
B17: 6 | C17: 문화 | D17: 서부 | E17: 문화공원6호 | F17: 송산면 중송리 575 | G17: 2021 | H17: 964.3 | I17: 2022.12 인수인계(송산테크노파크) | M17: 2 | Z17: 4
B18: 7 | C18: 문화 | D18: 서부 | E18: 문화공원7호 | F18: 송산면 지화리 685-5 | G18: 2021 | H18: 668.4 | I18: 2022.12 인수인계(송산테크노파크) | M18: 2 | O18: 4 | Z18: 4
B19: =COUNT(B20:B21) -> 2 | C19: 소공원 | H19: =SUM(H20:H21) -> 2366.6 | J19: =SUM(J20:J21) -> 0 | K19: =SUM(K20:K21) -> 0 | L19: =SUM(L20:L21) -> 0 | M19: =SUM(M20:M21) -> 2 | N19: =SUM(N20:N21) -> 0 | O19: =SUM(O20:O21) -> 2 | P19: =SUM(P20:P21) -> 0 | Q19: =SUM(Q20:Q21) -> 0 | ... AC19: =SUM(AC20:AC21) -> 0
B20: 1 | C20: 소공원 | D20: 서부 | E20: 소공원8호 | F20: 송산면 지화리 684 | G20: 2021 | H20: 366.4 | I20: 2022.12 인수인계(송산테크노파크) | M20: 1
B21: 2 | C21: 소공원 | D21: 서부 | E21: 소공원9호 | F21: 송산면 중송리 578-1 | G21: 2021 | H21: 2000.2 | I21: 2022.12 인수인계(송산테크노파크) | M21: 1 | O21: 2 | Z21: 5
B22: =SUM(B5,B7,B9,B11,B19) -> 12 | H22: =SUM(H5,H7,H9,H11,H19) -> 44326.2 | J22: =SUM(J5,J7,J9,J11,J19) -> 1 | K22: =SUM(K5,K7,K9,K11,K19) -> 0 | L22: =SUM(L5,L7,L9,L11,L19) -> 1 | M22: =SUM(M5,M7,M9,M11,M19) -> 22 | N22: =SUM(N5,N7,N9,N11,N19) -> 0 | O22: =SUM(O5,O7,O9,O11,O19) -> 25 | P22: =SUM(P5,P7,P9,P11,P19) -> 0 | Q22: =SUM(Q5,Q7,Q9,Q11,Q19) -> 1 | ... AC22: =SUM(AC5,AC7,AC9,AC11,AC19) -> 0
A23: 서신 | B23: =COUNT(B24:B26) -> 3 | C23: 근린공원 | H23: =SUM(H24:H26) -> 60671.1 | J23: =SUM(J24:J26) -> 0 | K23: =SUM(K24:K26) -> 0 | L23: =SUM(L24:L26) -> 0 | M23: =SUM(M24:M26) -> 13 | N23: =SUM(N24:N26) -> 0 | O23: =SUM(O24:O26) -> 23 | P23: =SUM(P24:P26) -> 50 | Q23: =SUM(Q24:Q26) -> 0 | ... AC23: =SUM(AC24:AC26) -> 0
B24: 1 | C24: 근린 | D24: 서부 | E24: 전곡공원1호 | F24: 장외리 642 | G24: 2015 | H24: 41952 | M24: 10 | O24: 17 | P24: 40 | T24: 8 | U24: 3 | V24: 1 | X24: 1 | Y24: 1 | Z24: 36
B25: 2 | C25: 근린 | D25: 서부 | E25: 전곡2호 근린공원 | F25: 서신면 전곡리 800 | G25: 1998 | H25: 3728.4 | M25: 1 | O25: 6 | P25: 4 | T25: 5 | U25: 1 | V25: 1 | Y25: 1 | Z25: 6
B26: 3 | C26: 근린 | D26: 서부 | E26: 전곡공원4호 | F26: 장외리 631,628 | G26: 2015 | H26: 14990.7 | M26: 2 | P26: 6 | V26: 1 | Y26: 1
B27: =COUNT(B28:B30) -> 3 | C27: 어린이 | H27: =SUM(H28:H30) -> 3243.5 | J27: =SUM(J28:J30) -> 0 | K27: =SUM(K28:K30) -> 0 | L27: =SUM(L28:L30) -> 0 | M27: =SUM(M28:M30) -> 3 | N27: =SUM(N28:N30) -> 0 | O27: =SUM(O28:O30) -> 5 | P27: =SUM(P28:P30) -> 12 | Q27: =SUM(Q28:Q30) -> 1 | ... AC27: =SUM(AC28:AC30) -> 0
B28: 1 | C28: 어린이 | D28: 서부 | E28: 전곡1호 어린이공원 | F28: 서신면 전곡리 1052 | G28: 1998 | H28: 923.7 | O28: 1 | R28: 1 | S28: 1 | Z28: 4
B29: 2 | C29: 어린이 | D29: 서부 | E29: 전곡3호 어린이공원 | F29: 서신면 전곡리 867 | G29: 1998 | H29: 929.5 | M29: 1 | O29: 2 | P29: 4 | Q29: 1 | Z29: 4
B30: 3 | C30: 어린이 | D30: 서부 | E30: 전곡4호 어린이공원 | F30: 서신면 전곡리 920 | G30: 1998 | H30: 1390.3 | M30: 2 | O30: 2 | P30: 8 | T30: 3 | U30: 1 | Z30: 4
B31: =COUNT(B32:B33) -> 2 | C31: 소공원 | H31: =SUM(H32:H33) -> 8669.9 | J31: =SUM(J32:J33) -> 0 | K31: =SUM(K32:K33) -> 0 | L31: =SUM(L32:L33) -> 0 | M31: =SUM(M32:M33) -> 2 | N31: =SUM(N32:N33) -> 0 | O31: =SUM(O32:O33) -> 13 | P31: =SUM(P32:P33) -> 6 | Q31: =SUM(Q32:Q33) -> 0 | ... AC31: =SUM(AC32:AC33) -> 0
B32: 1 | C32: 소공원 | D32: 서부 | E32: 전곡공원2 | F32: 전곡리 1097 | G32: 2015 | H32: 8154.2 | M32: 2 | O32: 13 | P32: 6 | Y32: 1 | Z32: 12
B33: 2 | C33: 소공원 | D33: 서부 | E33: 전곡공원5 | F33: 전곡리 1091-4 | G33: 2015 | H33: 515.7
B34: =COUNT(B35:B35) -> 1 | C34: 체육공원 | H34: =SUM(H35:H35) -> 11790 | J34: =SUM(J35:J35) -> 0 | K34: =SUM(K35:K35) -> 0 | L34: =SUM(L35:L35) -> 0 | M34: =SUM(M35:M35) -> 5 | N34: =SUM(N35:N35) -> 0 | O34: =SUM(O35:O35) -> 13 | P34: =SUM(P35:P35) -> 15 | Q34: =SUM(Q35:Q35) -> 0 | ... AC34: =SUM(AC35:AC35) -> 0
B35: 1 | C35: 체육 | D35: 서부 | E35: 전곡공원3호 | F35: 전곡리 1112 | G35: 2015 | H35: 11790 | M35: 5 | O35: 13 | P35: 15 | T35: 4 | U35: 1 | V35: 1 | Y35: 1 | Z35: 14
B36: =COUNT(B37:B39) -> 3 | C36: 쌈지 | H36: =SUM(H37:H39) -> 8144 | J36: =SUM(J37:J39) -> 0 | K36: =SUM(K37:K39) -> 0 | L36: =SUM(L37:L39) -> 0 | M36: =SUM(M37:M39) -> 1 | N36: =SUM(N37:N39) -> 2 | O36: =SUM(O37:O39) -> 0 | P36: =SUM(P37:P39) -> 4 | Q36: =SUM(Q37:Q39) -> 0 | ... AC36: =SUM(AC37:AC39) -> 0
B37: 1 | C37: 쌈지 | D37: 서부 | E37: 제부도 쌈지공원 | F37: 서신면 제부리 40-37일원,42-28일원 | G37: 2004 | H37: 6459 | N37: 2 | AA37: 3
B38: 2 | C38: 쌈지 | D38: 서부 | E38: 매화 쌈지공원 | F38: 서신면 매화리 292-2일원 | G38: 2014 | H38: 942 | M38: 1
B39: 3 | C39: 쌈지 | D39: 서부 | E39: 바다뜰 쌈지공원 | F39: 서신면 매화리 214-4 | G39: 2020 | H39: 743 | I39: 2020.12 신규위탁 | P39: 4 | T39: 4 | AB39: 17
B40: =COUNT(B41:B42) -> 2 | C40: 미관광장 | H40: =SUM(H41:H42) -> 5605 | J40: =SUM(J41:J42) -> 0 | K40: =SUM(K41:K42) -> 0 | L40: =SUM(L41:L42) -> 0 | M40: =SUM(M41:M42) -> 4 | N40: =SUM(N41:N42) -> 0 | O40: =SUM(O41:O42) -> 0 | P40: =SUM(P41:P42) -> 9 | Q40: =SUM(Q41:Q42) -> 0 | ... AC40: =SUM(AC41:AC42) -> 0
...

Sheet 중부
A1: ▣ 중부권역 | E1: (봉담1, 봉담2, 동부2, 정남)
A2: 권역 | B2: 개소 | C2: 공원종류 | D2: 청소권역 | E2: 공원명 | F2: 위치 | G2: 조성일자 | H2: 조성면적 | I2: 비고 | J2: 조경시설 | K2: 조경시설 | L2: 휴양시설 | M2: 휴양시설 | N2: 휴양시설 | O2: 휴양시설 | P2: 휴양시설 | Q2: 유희시설 | R2: 유희시설 | S2: 유희시설 | T2: 운동시설 | U2: 편익시설 | V2: 편익시설 | W2: 편익시설 | X2: 관리시설 | Y2: 관리시설 | Z2: 관리시설 | AA2: 관리시설 | AB2: 관리시설 | AC2: 관리시설
J3: 수경시설 | K3: 물놀이장 | L3: 정자(평상) | M3: 파고라 | N3: 기타파고라 | O3: 등의자 (스윙벤치) | P3: 평의자(석의자) | Q3: 조합놀이대 | R3: 그네 | S3: 시소 | T3: 운동기구 (생체) | U3: 음수전 (세족장포함) | V3: 화장실 | W3: 신발털이대 | X3: 관리실 (휴게실 포함) | Y3: 주차장 | Z3: 보안등(1등용) | AA3: 보안등(2등용) | AB3: 볼라드 등 | AC3: 기타 조명
B4: =SUM(B42,B67,B110,B117,B131) -> 96 | H4: =SUM(H42,H67,H110,H117,H131) -> 736859.1 | J4: =SUM(J42,J67,J110,J117,J131) -> 11 | K4: =SUM(K42,K67,K110,K117,K131) -> 3 | L4: =SUM(L42,L67,L110,L117,L131) -> 30 | M4: =SUM(M42,M67,M110,M117,M131) -> 129 | N4: =SUM(N42,N67,N110,N117,N131) -> 17 | O4: =SUM(O42,O67,O110,O117,O131) -> 544 | P4: =SUM(P42,P67,P110,P117,P131) -> 538 | Q4: =SUM(Q42,Q67,Q110,Q117,Q131) -> 40 | ... AC4: =SUM(AC42,AC67,AC110,AC117,AC131) -> 138
A5: 봉담 1지구 | B5: =COUNT(B6:B7) -> 2 | C5: 근린공원 | H5: =SUM(H6:H7) -> 181260.2 | J5: =SUM(J6:J7) -> 2 | K5: =SUM(K6:K7) -> 0 | L5: =SUM(L6:L7) -> 3 | M5: =SUM(M6:M7) -> 5 | N5: =SUM(N6:N7) -> 2 | O5: =SUM(O6:O7) -> 31 | P5: =SUM(P6:P7) -> 39 | Q5: =SUM(Q6:Q7) -> 2 | ... AC5: =SUM(AC6:AC7) -> 22
B6: 1 | C6: 근린 | D6: 중부 | E6: 봉담호수공원 | F6: 봉담읍 상리 22-10일원 | G6: 2007 | H6: 19282 | J6: 2 | M6: 3 | N6: 2 | O6: 6 | P6: 18 | T6: 9 | V6: 1 | X6: 1 | Z6: 21 | AA6: 4 | AB6: 12 | AC6: 22
B7: 2 | C7: 근린 | D7: 중부 | E7: 동화마을 생태공원 | F7: 봉담읍 동화리 573, 587일원 | G7: 2008 | H7: 161978.2 | I7: 2024.08. 꽃길조성사업 추가 | L7: 3 | M7: 2 | O7: 25 | P7: 21 | Q7: 2 | T7: 6 | V7: 2 | W7: 2 | X7: 1 | Y7: 1 | Z7: 87 | AB7: 92
B8: =COUNT(B9:B23) -> 15 | C8: 어린이공원 | H8: =SUM(H9:H23) -> 39342 | J8: =SUM(J9:J23) -> 3 | K8: =SUM(K9:K23) -> 1 | L8: =SUM(L9:L23) -> 2 | M8: =SUM(M9:M23) -> 20 | N8: =SUM(N9:N23) -> 0 | O8: =SUM(O9:O23) -> 63 | P8: =SUM(P9:P23) -> 80 | Q8: =SUM(Q9:Q23) -> 15 | ... AC8: =SUM(AC9:AC23) -> 0
B9: 1 | C9: 어린이 | D9: 봉담2 | E9: 한울1호공원 | F9: 봉담읍 수영리 672-3 | G9: 2008 | H9: 3150 | M9: 4 | O9: 4 | P9: 12 | Q9: 1 | T9: 5 | U9: 1 | Z9: 8 | AB9: 3
B10: 2 | C10: 어린이 | D10: 봉담2 | E10: 한울2호공원 | F10: 봉담읍 수영리 673-2 | G10: 2008 | H10: 1500 | M10: 1 | P10: 6 | Q10: 1 | T10: 3 | AA10: 6 | AB10: 4
B11: 3 | C11: 어린이 | D11: 봉담2 | E11: 한울2-1호공원 | F11: 봉담읍 수영리 676, 677 | G11: 2008 | H11: 3982 | M11: 1 | O11: 8 | Q11: 1 | U11: 1 | Z11: 7
B12: 4 | C12: 어린이 | D12: 봉담2 | E12: 봉담수영 어린이공원 | F12: 봉담읍 수영리 406-6 | G12: 2007 | H12: 2284 | M12: 2 | P12: 15 | Q12: 1 | T12: 4 | Z12: 6
B13: 5 | C13: 어린이 | D13: 중부 | E13: 와우남촌 어린이공원 | F13: 봉담읍 와우리 52-5일원 | G13: 2005 | H13: 1477 | M13: 1 | P13: 2 | Q13: 1 | T13: 7 | AA13: 4
B14: 6 | C14: 어린이 | D14: 중부 | E14: 봉담아이파크 어린이공원(하늘공원) | F14: 봉담읍 와우리 590-1 | G14: 2009 | H14: 1501 | L14: 1 | M14: 1 | P14: 1 | Q14: 1 | R14: 1 | T14: 3 | U14: 1 | Z14: 8
B15: 7 | C15: 어린이 | D15: 중부 | E15: 봉담상리 어린이공원 | F15: 봉담읍 상리 619 | G15: 2007 | H15: 1900.8 | M15: 2 | O15: 2 | P15: 3 | Q15: 1 | Z15: 6
B16: 8 | C16: 어린이 | D16: 중부 | E16: 봉담호수 어린이공원 | F16: 봉담읍 상리 22-76일원 (상리 22-13) | G16: 2008 | H16: 3120 | K16: 1 | AA16: 2
B17: 9 | C17: 어린이 | D17: 중부 | E17: 피아노숲공원(1호) | F17: 봉담읍 동화리 565 | G17: 2008 | H17: 2114 | M17: 2 | O17: 1 | P17: 11 | Q17: 1 | R17: 1 | T17: 4 | Z17: 11
B18: 10 | C18: 어린이 | D18: 중부 | E18: 달그림자공원(2호) | F18: 봉담읍 동화리 578 | G18: 2008 | H18: 3037.3 | I18: 2023.12 리모델링 | J18: 1 | O18: 6 | Q18: 1 | R18: 1 | T18: 3 | Z18: 9
B19: 11 | C19: 어린이 | D19: 중부 | E19: 물소리공원(3호) → 동화어린이공원 | F19: 봉담읍 동화리 613 | G19: 2008 | H19: 3539.3 | M19: 2 | O19: 12 | P19: 2 | Q19: 2 | T19: 4 | Z19: 13
B20: 12 | C20: 어린이 | D20: 중부 | E20: 산새들공원(4호) | F20: 봉담읍 동화리 605 | G20: 2008 | H20: 3654 | J20: 1 | M20: 1 | P20: 8 | Q20: 1 | T20: 3 | Z20: 8
B21: 13 | C21: 어린이 | D21: 중부 | E21: 솔향기공원(5호) | F21: 봉담읍 동화리 633 | G21: 2008 | H21: 3379.5 | J21: 1 | M21: 1 | O21: 14 | P21: 8 | Q21: 1 | R21: 1 | S21: 2 | T21: 3 | Z21: 11
B22: 14 | C22: 어린이 | D22: 봉담2 | E22: 한울3호 어린이공원 | F22: 봉담읍 수영리 680 | G22: 2017 | H22: 2983 | M22: 1 | O22: 4 | P22: 8 | Q22: 1 | R22: 1 | S22: 2 | T22: 4 | U22: 1 | Z22: 13
B23: 15 | C23: 어린이 | D23: 중부 | E23: 도토리공원 | F23: 봉담읍 동화리 227 | G23: 2023 | H23: 1720.1 | I23: 2023.10 인수인계(동화3지구 어린이공원) | L23: 1 | M23: 1 | O23: 12 | P23: 4 | Q23: 1 | R23: 1 | T23: 4 | U23: 1 | Z23: 10
B24: =COUNT(B25:B26) -> 2 | C24: 소공원 | H24: =SUM(H25:H26) -> 9100 | J24: =SUM(J25:J26) -> 0 | K24: =SUM(K25:K26) -> 1 | L24: =SUM(L25:L26) -> 2 | M24: =SUM(M25:M26) -> 4 | N24: =SUM(N25:N26) -> 0 | O24: =SUM(O25:O26) -> 18 | P24: =SUM(P25:P26) -> 8 | Q24: =SUM(Q25:Q26) -> 0 | ... AC24: =SUM(AC25:AC26) -> 0
B25: 1 | C25: 소공원 | D25: 중부 | E25: 해오름공원 | F25: 봉담읍 와우리 215 | G25: 2010 | H25: 4571 | K25: 1 | L25: 1 | M25: 4 | O25: 16 | P25: 4 | T25: 6 | U25: 1 | V25: 1 | Z25: 13
B26: 2 | C26: 소공원 | D26: 중부 | E26: 신동아파밀리에아파트 소공원 | F26: 봉담읍 동화리 441-5 일원 | G26: 2015 | H26: 4529 | L26: 1 | O26: 2 | P26: 4 | T26: 8 | Z26: 7 | AB26: 8
B27: =COUNT(B28) -> 1 | C27: 문화공원 | H27: =SUM(H28:H28) -> 4589.5 | J27: =SUM(J28:J28) -> 0 | K27: =SUM(K28:K28) -> 0 | L27: =SUM(L28:L28) -> 0 | M27: =SUM(M28:M28) -> 3 | N27: =SUM(N28:N28) -> 0 | O27: =SUM(O28:O28) -> 26 | P27: =SUM(P28:P28) -> 3 | Q27: =SUM(Q28:Q28) -> 1 | ... AC27: =SUM(AC28:AC28) -> 0
B28: 1 | C28: 문화 | D28: 중부 | E28: 와우리 문화공원(코리요 문화공원) | F28: 봉담읍 와우리 595 | G28: 2016 | H28: 4589.5 | M28: 3 | O28: 26 | P28: 3 | Q28: 1 | Z28: 7
B29: =COUNT(B30:B32) -> 3 | C29: 쌈지공원 | H29: =SUM(H30:H31) -> 395 | J29: =SUM(J30:J32) -> 0 | K29: =SUM(K30:K32) -> 0 | L29: =SUM(L30:L32) -> 0 | M29: =SUM(M30:M32) -> 1 | N29: =SUM(N30:N32) -> 0 | O29: =SUM(O30:O32) -> 4 | P29: =SUM(P30:P32) -> 2 | Q29: =SUM(Q30:Q32) -> 1 | ... AC29: =SUM(AC30:AC32) -> 0
B30: 1 | C30: 쌈지 | D30: 중부 | E30: 협성대 앞 쌈지공원 | F30: 봉담읍 상리 15-38 | G30: 2010 | H30: 268 | O30: 2
B31: 2 | C31: 쌈지 | D31: 중부 | E31: 동화리 어린이놀이터(동화리 쌈지공원) | F31: 동화리 562-15 일원 | G31: 2018 | H31: 127 | I31: 2020.06 편입 | Q31: 1
B32: 3 | C32: 쌈지 | D32: 중부 | E32: 수영리 쌈지공원 | F32: 봉담읍 수영리 341-1 | G32: 2024.06.26. | H32: 222 | I32: 2025.01. 인수인계 | M32: 1 | O32: 2 | P32: 2 | T32: 1
B33: =COUNT(B34) -> 1 | C33: 미관광장 | H33: =H34 -> 75 | J33: =SUM(J34) -> 1 | K33: =SUM(K34) -> 0 | L33: =SUM(L34) -> 0 | M33: =SUM(M34) -> 0 | N33: =SUM(N34) -> 0 | O33: =SUM(O34) -> 0 | P33: =SUM(P34) -> 0 | Q33: =SUM(Q34) -> 0 | ... AC33: =SUM(AC34) -> 8
B34: 1 | C34: 보행자도로 | D34: 중부 | E34: 봉담 보행자 도로 수경시설 | F34: 봉담읍 동화리 601 | H34: 75 | J34: 1 | AC34: 8
B35: =COUNT(B36:B41) -> 6 | C35: 공공공지 | H35: =SUM(H36:H41) -> 13085 | J35: =SUM(J36:J41) -> 0 | K35: =SUM(K36:K41) -> 0 | L35: =SUM(L36:L41) -> 1 | M35: =SUM(M36:M41) -> 0 | N35: =SUM(N36:N41) -> 1 | O35: =SUM(O36:O41) -> 22 | P35: =SUM(P36:P41) -> 0 | Q35: =SUM(Q36:Q41) -> 0 | ... AC35: =SUM(AC36:AC41) -> 41
B36: 1 | C36: 공공공지 | D36: 중부 | E36: 동화리 공공공지 1호 | F36: 봉담읍 동화리 301-13 | G36: 2016 | H36: 228 | I36: 2021.04 신규위탁
B37: 2 | C37: 공공공지 | D37: 중부 | E37: 동화리 공공공지 2호 | F37: 봉담읍 동화리 301-15 | G37: 2016 | H37: 602 | I37: 2021.04 신규위탁 | O37: 4
B38: 3 | C38: 공공공지 | D38: 중부 | E38: 동화리 공공공지 3호 | F38: 봉담읍 동화리 305-6 | G38: 2016 | H38: 657 | I38: 2021.04 신규위탁
B39: 4 | C39: 공공공지 | D39: 중부 | E39: 동화리 공공공지 4호 | F39: 봉담읍 동화리 391 | G39: 2016 | H39: 209 | I39: 2021.04 신규위탁
B40: 5 | C40: 공공공지 | D40: 중부 | E40: 동화리 공공공지 5호 | F40: 봉담읍 동화리 397 | G40: 2016 | H40: 255 | I40: 2021.04 신규위탁
...

Sheet 남부
A1: ▣ 남부권역 | E1: (향남1, 향남2, 양감, 팔탄, 우정장안)
A2: 권역 | B2: 개소 | C2: 공원종류 | D2: 청소권역 | E2: 공원명 | F2: 위치 | G2: 조성일자 | H2: 조성면적 | I2: 비고 | J2: 조경시설 | K2: 조경시설 | L2: 휴양시설 | M2: 휴양시설 | N2: 휴양시설 | O2: 휴양시설 | P2: 휴양시설 | Q2: 유희시설 | R2: 유희시설 | S2: 유희시설 | T2: 운동시설 | U2: 편익시설 | V2: 편익시설 | W2: 편익시설 | X2: 관리시설 | Y2: 관리시설 | Z2: 관리시설 | AA2: 관리시설 | AB2: 관리시설 | AC2: 관리시설
J3: 수경시설 | K3: 물놀이장 | L3: 정자(평상) | M3: 파고라 | N3: 기타파고라 | O3: 등의자 (스윙벤치) | P3: 평의자(석의자) | Q3: 조합놀이대 | R3: 그네 | S3: 시소 | T3: 운동기구 (생체) | U3: 음수전 (세족장포함) | V3: 화장실 | W3: 신발털이대 | X3: 관리실 (휴게실 포함) | Y3: 주차장 | Z3: 보안등(1등용) | AA3: 보안등(2등용) | AB3: 볼라드 등 | AC3: 기타 조명
B4: =SUM(B38,B82,B89,B94,B97,B121) -> 88 | C4: =SUM(C38,C82,C89,C94,C97) -> 0 | D4: =SUM(D38,D82,D89,D94,D97) -> 0 | E4: =SUM(E38,E82,E89,E94,E97) -> 0 | F4: =SUM(F38,F82,F89,F94,F97) -> 0 | G4: =SUM(G38,G82,G89,G94,G97) -> 0 | H4: =SUM(H38,H82,H89,H94,H97,H121) -> 1735987.6 | I4: =SUM(I38,I82,I89,I94,I97) -> 0 | J4: =SUM(J38,J82,J89,J94,J97,J121) -> 13 | K4: =SUM(K38,K82,K89,K94,K97,K121) -> 3 | L4: =SUM(L38,L82,L89,L94,L97,L121) -> 50 | M4: =SUM(M38,M82,M89,M94,M97,M121) -> 178 | N4: =SUM(N38,N82,N89,N94,N97,N121) -> 0 | O4: =SUM(O38,O82,O89,O94,O97,O121) -> 411 | P4: =SUM(P38,P82,P89,P94,P97,P121) -> 633 | Q4: =SUM(Q38,Q82,Q89,Q94,Q97,Q121) -> 30 | ... AC4: =SUM(AC38,AC82,AC89,AC94,AC97,AC121) -> 359
A5: 향남1 | B5: =COUNT(B6:B12) -> 7 | C5: 근린공원 | H5: =SUM(H6:H12) -> 187059.9 | J5: =SUM(J6:J12) -> 3 | K5: =SUM(K6:K12) -> 0 | L5: =SUM(L6:L12) -> 6 | M5: =SUM(M6:M12) -> 42 | N5: =SUM(N6:N12) -> 0 | O5: =SUM(O6:O12) -> 94 | P5: =SUM(P6:P12) -> 119 | Q5: =SUM(Q6:Q12) -> 1 | ... AC5: =SUM(AC6:AC12) -> 4
B6: 1 | C6: 근린 | D6: 남부 | E6: 옴뿌리산 근린공원 | F6: 향남읍 발안리 251 | G6: 2003 | H6: 2444 | L6: 1 | M6: 1 | O6: 7 | T6: 2 | AA6: 3
B7: 2 | C7: 근린 | D7: 남부 | E7: 하길 근린공원 | F7: 향남읍 하길리 1409-1 | G7: 2005 | H7: 30201.2 | M7: 5 | P7: 21 | U7: 1 | V7: 1 | X7: 1 | Y7: 1 | Z7: 17 | AA7: 1 | AB7: 3 | AC7: 4
B8: 3 | C8: 근린 | D8: 남부 | E8: 구문천 근린공원 | F8: 향남읍 구문천리 929-18 | G8: 2005 | H8: 27794.6 | L8: 1 | M8: 2 | O8: 16 | P8: 6 | T8: 4 | Y8: 1 | Z8: 18 | AA8: 1
B9: 4 | C9: 근린 | D9: 남부 | E9: 향남1지구 1호근린(용현공원) | F9: 향남읍 행정리 460,460-2 | G9: 2009 | H9: 18678.6 | L9: 1 | M9: 7 | O9: 9 | P9: 20 | Q9: 1 | T9: 5 | U9: 1 | V9: 1 | Z9: 17 | AB9: 4
B10: 5 | C10: 근린 | D10: 남부 | E10: 향남1지구 2호근린(평원공원) | F10: 향남읍 행정리 444 | G10: 2009 | H10: 17954.3 | J10: 2 | L10: 1 | M10: 14 | O10: 9 | P10: 34 | T10: 12 | U10: 1 | V10: 1 | X10: 1 | Z10: 3 | AA10: 13 | AB10: 7
B11: 6 | C11: 근린 | D11: 남부 | E11: 향남1지구 3호근린(살구꽃공원) | F11: 향남읍 행정리 490 | G11: 2009 | H11: 46749 | J11: 1 | L11: 1 | M11: 10 | O11: 17 | P11: 30 | T11: 16 | U11: 2 | X11: 1 | Y11: 1 | Z11: 55 | AA11: 8
B12: 7 | C12: 근린 | D12: 남부 | E12: 향남1지구 4호근린(나래공원) | F12: 향남읍 행정리 525 | G12: 2009 | H12: 43238.2 | L12: 1 | M12: 3 | O12: 36 | P12: 8 | T12: 17 | Z12: 28 | AA12: 8
B13: =COUNT(B14:B26) -> 13 | C13: 어린이 | H13: =SUM(H14:H26) -> 49884.1 | J13: =SUM(J14:J26) -> 2 | K13: =SUM(K14:K26) -> 1 | L13: =SUM(L14:L26) -> 1 | M13: =SUM(M14:M26) -> 27 | N13: =SUM(N14:N26) -> 0 | O13: =SUM(O14:O26) -> 43 | P13: =SUM(P14:P26) -> 112 | Q13: =SUM(Q14:Q26) -> 11 | ... AC13: =SUM(AC14:AC26) -> 0
B14: 1 | C14: 어린이 | D14: 남부 | E14: 배틀 어린이공원 | F14: 향남읍 발안리 263 | G14: 2003 | H14: 2483.4 | M14: 1 | O14: 9 | P14: 2 | T14: 5 | AA14: 6
B15: 2 | C15: 어린이 | D15: 남부 | E15: 무궁화 어린이공원 | F15: 향남읍 발안리 296 | G15: 2003 | H15: 4049.7 | M15: 4 | P15: 12 | Q15: 1 | T15: 4 | AA15: 5
B16: 3 | C16: 어린이 | D16: 남부 | E16: 도와지뜰 어린이공원 | F16: 향남읍 발안리 307 | G16: 2003 | H16: 2851.7 | J16: 1 | M16: 1 | O16: 3 | Q16: 1 | T16: 5 | AA16: 7
B17: 4 | C17: 어린이 | D17: 남부 | E17: 미소 어린이공원 | F17: 향남읍 장짐리 235 | G17: 2007 | H17: 1585 | M17: 1 | P17: 3 | Q17: 1 | R17: 1 | T17: 6 | Z17: 6
B18: 5 | C18: 어린이 | D18: 남부 | E18: 장짐 어린이공원 | F18: 향남읍 장짐리 200-6,284-9,10,17,27,285-1,6 | G18: 2009 | H18: 6212 | J18: 1 | K18: 1 | L18: 1 | O18: 8 | T18: 8 | Z18: 14
B19: 6 | C19: 어린이 | D19: 남부 | E19: 벌말 어린이공원 | F19: 향남읍 행정리 423 | G19: 2009 | H19: 6489.3 | M19: 3 | O19: 12 | P19: 8 | Q19: 1 | T19: 5 | V19: 1 | Z19: 2 | AA19: 5
B20: 7 | C20: 어린이 | D20: 남부 | E20: 송곡 어린이공원 | F20: 향남읍 행정리 454 | G20: 2009 | H20: 4289.7 | M20: 2 | O20: 2 | P20: 14 | Q20: 1 | R20: 2 | T20: 5 | Z20: 6
B21: 8 | C21: 어린이 | D21: 남부 | E21: 작은배틀 어린이공원 | F21: 향남읍 행정리 464 | G21: 2009 | H21: 3345.8 | M21: 1 | P21: 12 | Q21: 1 | T21: 5 | Z21: 4
B22: 9 | C22: 어린이 | D22: 남부 | E22: 댓골 어린이공원 | F22: 향남읍 행정리 475-1 | G22: 2009 | H22: 3894 | M22: 5 | O22: 4 | P22: 24 | Q22: 1 | R22: 1 | T22: 5 | Z22: 5
B23: 10 | C23: 어린이 | D23: 남부 | E23: 행정 어린이공원 | F23: 향남읍 행정리 495-14 | G23: 2009 | H23: 1789 | M23: 2 | P23: 14 | Q23: 1 | T23: 5
B24: 11 | C24: 어린이 | D24: 남부 | E24: 도이 어린이공원 | F24: 향남읍 행정리 483 | G24: 2009 | H24: 2397.7 | M24: 1 | O24: 5 | P24: 6 | Q24: 1 | T24: 5 | Z24: 4
B25: 12 | C25: 어린이 | D25: 남부 | E25: 돌내 어린이공원 | F25: 향남읍 행정리 517 | G25: 2009 | H25: 1671.1 | M25: 2 | P25: 6 | Q25: 1 | T25: 5
B26: 13 | C26: 어린이 | D26: 남부 | E26: 교통 어린이공원 | F26: 향남읍 행정리 466 | G26: 2009 | H26: 8825.7 | M26: 4 | P26: 11 | Q26: 1 | Z26: 6
B27: =COUNT(B28:B29) -> 2 | C27: 소공원 | H27: =SUM(H28:H29) -> 1847.5 | J27: =SUM(J28:J29) -> 0 | K27: =SUM(K28:K29) -> 0 | L27: =SUM(L28:L29) -> 1 | M27: =SUM(M28:M29) -> 2 | N27: =SUM(N28:N29) -> 0 | O27: =SUM(O28:O29) -> 2 | P27: =SUM(P28:P29) -> 5 | Q27: =SUM(Q28:Q29) -> 0 | ... AC27: =SUM(AC28:AC29) -> 0
B28: 1 | C28: 소공원 | D28: 남부 | E28: 완두콩 소공원 | F28: 향남읍 장짐리 213-26 | G28: 2007 | H28: 273 | M28: 1 | P28: 5 | Z28: 3
B29: 2 | C29: 소공원 | D29: 남부 | E29: 발안유적공원 | F29: 향남읍 발안리 306 | G29: 2012 | H29: 1574.5 | L29: 1 | M29: 1 | O29: 2 | T29: 5 | U29: 1 | Z29: 6
B30: =COUNT(B31:B31) -> 1 | C30: 체육공원 | H30: =SUM(H31:H31) -> 70439.3 | J30: =SUM(J31:J31) -> 0 | K30: =SUM(K31:K31) -> 1 | L30: =SUM(L31:L31) -> 1 | M30: =SUM(M31:M31) -> 9 | N30: =SUM(N31:N31) -> 0 | O30: =SUM(O31:O31) -> 16 | P30: =SUM(P31:P31) -> 36 | Q30: =SUM(Q31:Q31) -> 0 | ... AC30: =SUM(AC31:AC31) -> 0
B31: 1 | C31: 체육 | D31: 남부 | E31: 도원체육공원 | F31: 향남읍 행정리 478 일원 | G31: 2009 | H31: 70439.3 | K31: 1 | L31: 1 | M31: 9 | O31: 16 | P31: 36 | T31: 9 | U31: 2 | V31: 1 | X31: 1 | Y31: 1 | Z31: 41 | AA31: 1 | AB31: 12
B32: =COUNT(B33:B35) -> 3 | C32: 쌈지 | H32: =SUM(H33:H35) -> 3772 | J32: =SUM(J33:J35) -> 0 | K32: =SUM(K33:K35) -> 0 | L32: =SUM(L33:L35) -> 2 | M32: =SUM(M33:M35) -> 1 | N32: =SUM(N33:N35) -> 0 | O32: =SUM(O33:O35) -> 8 | P32: =SUM(P33:P35) -> 0 | Q32: =SUM(Q33:Q35) -> 0 | ... AC32: =SUM(AC33:AC35) -> 0
B33: 1 | C33: 쌈지 | D33: 남부 | E33: 제암리 쌈지공원 | F33: 향남읍 제암리 478-1일원,478-28일원 | G33: 2005 | H33: 2353 | M33: 1 | O33: 4 | T33: 6 | Z33: 4
B34: 2 | C34: 쌈지 | D34: 남부 | E34: 향남 쌈지공원(궁도장) | F34: 향남읍 도이리 240-3일원 | G34: 2017 | H34: 1050 | L34: 1 | O34: 2
B35: 3 | C35: 쌈지 | D35: 남부 | E35: 구문천3리 쌈지공원 | F35: 구문천리 604-167일원 | G35: 2017 | H35: 369 | L35: 1 | O35: 2 | T35: 6
B36: =COUNT(B37:B37) -> 1 | C36: 공공공지 | H36: =SUM(H37:H37) -> 652 | J36: =SUM(J37:J37) -> 0 | K36: =SUM(K37:K37) -> 0 | L36: =SUM(L37:L37) -> 0 | M36: =SUM(M37:M37) -> 2 | N36: =SUM(N37:N37) -> 0 | O36: =SUM(O37:O37) -> 0 | P36: =SUM(P37:P37) -> 8 | Q36: =SUM(Q37:Q37) -> 0 | ... AC36: =SUM(AC37:AC37) -> 0
B37: 2 | C37: 공공공지 | D37: 남부 | E37: 평리 공공공지 | F37: 향남읍 평리 123-3일원 | G37: 2018 | H37: 652 | I37: 2022.05 리모델링 | M37: 2 | P37: 8 | T37: 4 | Z37: 5
B38: =SUM(B5,B13,B27,B30,B32,B36) -> 27 | H38: =SUM(H5,H13,H27,H30,H32,H36) -> 313654.8 | J38: =SUM(J5,J13,J27,J30,J32,J36) -> 5 | K38: =SUM(K5,K13,K27,K30,K32,K36) -> 2 | L38: =SUM(L5,L13,L27,L30,L32,L36) -> 11 | M38: =SUM(M5,M13,M27,M30,M32,M36) -> 83 | N38: =SUM(N5,N13,N27,N30,N32,N36) -> 0 | O38: =SUM(O5,O13,O27,O30,O32,O36) -> 163 | P38: =SUM(P5,P13,P27,P30,P32,P36) -> 280 | Q38: =SUM(Q5,Q13,Q27,Q30,Q32,Q36) -> 12 | ... AC38: =SUM(AC5,AC13,AC27,AC30,AC32,AC36) -> 4
A39: 향남2 | B39: =COUNT(B40:B45) -> 6 | C39: 근린공원 | H39: =SUM(H40:H45) -> 431117.5 | J39: =SUM(J40:J45) -> 1 | K39: =SUM(K40:K45) -> 0 | L39: =SUM(L40:L45) -> 4 | M39: =SUM(M40:M45) -> 20 | N39: =SUM(N40:N45) -> 0 | O39: =SUM(O40:O45) -> 62 | P39: =SUM(P40:P45) -> 59 | Q39: =SUM(Q40:Q45) -> 2 | ... AC39: =SUM(AC40:AC45) -> 11
B40: 1 | C40: 근린 | D40: 향남2 | E40: 향남2지구 1호근린(해찬벌공원) | F40: 향남읍 하길리 1446 | G40: 2016 | H40: 12039.7 | L40: 1 | M40: 1 | O40: 10 | P40: 5 | S40: 1 | T40: 5 | Z40: 25 | AB40: 5
...
