Workbook

Sheet Sheet1
A1: 연번 | B1: 시설물명 | C1: 위치(주소) | D1: CCTV 개수
A2: 1 | B2: ='[1]공영주차장(노외)'!B5 -> 한빛지하 | C2: 동탄중심상가2길 21 | D2: 36
A3: 2 | B3: ='[1]공영주차장(노외)'!B6 -> 한빛지상 | C3: 동탄중심상가2길 21 | D3: 22
A4: 3 | B4: ='[1]공영주차장(노외)'!B7 -> 다은지하 | C4: 동탄중심상가1길 21 | D4: 37
A5: 4 | B5: ='[1]공영주차장(노외)'!B8 -> 다은지상 | C5: 동탄중심상가1길 21 | D5: 21
A6: 5 | B6: ='[1]공영주차장(노외)'!B9 -> 병점역 | C6: 병점동 391-2 | D6: 16
A7: 6 | B7: ='[1]공영주차장(노외)'!B10 -> 진안 | C7: 병점동로 110-4 | D7: 27
A8: 7 | B8: ='[1]공영주차장(노외)'!B11 -> 동탄역 임시 | C8: 오산동 967-117 | D8: 68
A9: 8 | B9: ='[1]공영주차장(노외)'!B12 -> 석우동1 | C9: 석우동 17 | D9: 13
A10: 9 | B10: ='[1]공영주차장(노외)'!B13 -> 석우동2 | C10: 석우동 4 | D10: 15
A11: 10 | B11: ='[1]공영주차장(노외)'!B14 -> 오산동 | C11: 오산동 990-1 | D11: 16
A12: 11 | B12: ='[1]공영주차장(노외)'!B15 -> 노작마을 | C12: 반송동 268-1 | D12: 14
A13: 12 | B13: ='[1]공영주차장(노외)'!B16 -> 목동 | C13: 목동 245-1 | D13: 6
A14: 13 | B14: ='[1]공영주차장(노상)'!B5 -> 영천동1 | C14: 영천동 719 | D14: 32
A15: 14 | B15: ='[1]공영주차장(노상)'!B6 -> 영천동2 | C15: 영천동 721 | D15: 23
A16: 15 | B16: ='[1]공영주차장(노상)'!B7 -> 반송마을 | C16: 반송동 226 | D16: 24
A17: 16 | B17: ='[1]공영주차장(노상)'!B8 -> 북광장 | C17: 동탄중심상가2길 21 | D17: 42
A18: 17 | B18: ='[1]공영주차장(노상)'!B9 -> 남광장 | C18: 동탄중심상가1길 21 | D18: 36
A19: 18 | B19: ='[1]공영주차장(노상)'!B10 -> 솔빛 | C19: 반송동 220-8 | D19: 12
A20: 19 | B20: ='[1]공영주차장(노상)'!B11 -> 나루 | C20: 반송동 217-8 | D20: 12
A21: 20 | B21: ='[1]공영주차장(노상)'!B12 -> 은행사거리 | C21: 반송동 233 | D21: 6
A22: 21 | B22: ='[1]공영주차장(노상)'!B13 -> 능동 | C22: 능동 1226 | D22: 9
A23: 22 | B23: ='[1]공영주차장(노상)'!B14 -> 능동1 | C23: 능동 1224 | D23: 11
A24: 23 | B24: ='[1]공영주차장(노상)'!B15 -> 센트럴파크노상 | C24: 반송동 246 | D24: 11
A25: 24 | B25: ='[1]공영주차장(노상)'!B16 -> 치동천변 | C25: 영천동 772 | D25: 16
... A27: 26 | B27: ='[1]공영주차장(노상)'!B18 -> 석우동(노작공원) | C27: 석우동 118,121번지 | D27: 15
A28: 27 | B28: =[1]공원부설주차장!B5 -> 노작홍사용문학관 | C28: 석우동 64 | D28: 12
A29: 28 | B29: =[1]공원부설주차장!B6 -> 동학산공원 | C29: 석우동 29-3 | D29: 13
A30: 29 | B30: =[1]공원부설주차장!B7 -> 에코스쿨 | C30: 석우동 4 | D30: 12
A31: 30 | B31: =[1]공원부설주차장!B8 -> 센트럴파크 | C31: 반송동 108 | D31: 22
A32: 31 | B32: =[1]공원부설주차장!B9 -> 돌모루공원 | C32: 반송동 59 | D32: 15
A33: 32 | B33: =[1]공원부설주차장!B10 -> 치동천공원 | C33: 영천동 670-2 | D33: 10
A34: 33 | B34: =[1]공원부설주차장!B11 -> 동탄호수공원지하주차장 | C34: 동탄순환대로 69(송동 727) | D34: 29
A35: 34 | B35: =[1]공원부설주차장!B12 -> 새솔동 지하주차장 | C35: 꽃내음1길 30(새솔동 83) | D35: 24
A36: 35 | B36: =[1]공원부설주차장!B13 -> 여울공원(관리동) | C36: 동탄순환대로 69 | D36: 11
A37: 36 | B37: =[1]공원부설주차장!B14 -> 여울공원(작가정원) | C37: 꽃내음1길 30 | D37: 7
A38: 37 | B38: =[1]공원부설주차장!B15 -> 근린4호공원 | C38: 영천동 425-37 | D38: 9
A39: 38 | B39: 봉담2생태체육공원주차장 | C39: 봉담읍 상리1길 87 | D39: 44
A40: 39 | B40: 동탄 산단 | C40: 방교동 828 | D40: 13
A41: 40 | B41: 고렴산 수변공원 부설주차장 | C41: 서신면 장외리 산40-1 | D41: 8
...
